BEGIN:VCALENDAR
VERSION:2.0
PRODID:-//Boothbay Region Land Trust - ECPv6.15.20//NONSGML v1.0//EN
CALSCALE:GREGORIAN
METHOD:PUBLISH
X-WR-CALNAME:Boothbay Region Land Trust
X-ORIGINAL-URL:https://bbrlt.org
X-WR-CALDESC:Events for Boothbay Region Land Trust
REFRESH-INTERVAL;VALUE=DURATION:PT1H
X-Robots-Tag:noindex
X-PUBLISHED-TTL:PT1H
BEGIN:VTIMEZONE
TZID:America/New_York
BEGIN:DAYLIGHT
TZOFFSETFROM:-0500
TZOFFSETTO:-0400
TZNAME:EDT
DTSTART:20180311T070000
END:DAYLIGHT
BEGIN:STANDARD
TZOFFSETFROM:-0400
TZOFFSETTO:-0500
TZNAME:EST
DTSTART:20181104T060000
END:STANDARD
BEGIN:DAYLIGHT
TZOFFSETFROM:-0500
TZOFFSETTO:-0400
TZNAME:EDT
DTSTART:20190310T070000
END:DAYLIGHT
BEGIN:STANDARD
TZOFFSETFROM:-0400
TZOFFSETTO:-0500
TZNAME:EST
DTSTART:20191103T060000
END:STANDARD
BEGIN:DAYLIGHT
TZOFFSETFROM:-0500
TZOFFSETTO:-0400
TZNAME:EDT
DTSTART:20200308T070000
END:DAYLIGHT
BEGIN:STANDARD
TZOFFSETFROM:-0400
TZOFFSETTO:-0500
TZNAME:EST
DTSTART:20201101T060000
END:STANDARD
BEGIN:DAYLIGHT
TZOFFSETFROM:-0500
TZOFFSETTO:-0400
TZNAME:EDT
DTSTART:20210314T070000
END:DAYLIGHT
BEGIN:STANDARD
TZOFFSETFROM:-0400
TZOFFSETTO:-0500
TZNAME:EST
DTSTART:20211107T060000
END:STANDARD
BEGIN:DAYLIGHT
TZOFFSETFROM:-0500
TZOFFSETTO:-0400
TZNAME:EDT
DTSTART:20220313T070000
END:DAYLIGHT
BEGIN:STANDARD
TZOFFSETFROM:-0400
TZOFFSETTO:-0500
TZNAME:EST
DTSTART:20221106T060000
END:STANDARD
BEGIN:DAYLIGHT
TZOFFSETFROM:-0500
TZOFFSETTO:-0400
TZNAME:EDT
DTSTART:20230312T070000
END:DAYLIGHT
BEGIN:STANDARD
TZOFFSETFROM:-0400
TZOFFSETTO:-0500
TZNAME:EST
DTSTART:20231105T060000
END:STANDARD
BEGIN:DAYLIGHT
TZOFFSETFROM:-0500
TZOFFSETTO:-0400
TZNAME:EDT
DTSTART:20240310T070000
END:DAYLIGHT
BEGIN:STANDARD
TZOFFSETFROM:-0400
TZOFFSETTO:-0500
TZNAME:EST
DTSTART:20241103T060000
END:STANDARD
BEGIN:DAYLIGHT
TZOFFSETFROM:-0500
TZOFFSETTO:-0400
TZNAME:EDT
DTSTART:20250309T070000
END:DAYLIGHT
BEGIN:STANDARD
TZOFFSETFROM:-0400
TZOFFSETTO:-0500
TZNAME:EST
DTSTART:20251102T060000
END:STANDARD
BEGIN:DAYLIGHT
TZOFFSETFROM:-0500
TZOFFSETTO:-0400
TZNAME:EDT
DTSTART:20260308T070000
END:DAYLIGHT
BEGIN:STANDARD
TZOFFSETFROM:-0400
TZOFFSETTO:-0500
TZNAME:EST
DTSTART:20261101T060000
END:STANDARD
END:VTIMEZONE
BEGIN:VEVENT
DTSTART;TZID=America/New_York:20251216T100000
DTEND;TZID=America/New_York:20251216T113000
DTSTAMP:20260423T141513
CREATED:20251121T181221Z
LAST-MODIFIED:20251121T181221Z
UID:10000844-1765879200-1765884600@bbrlt.org
SUMMARY:Trail Tuesday: Hike Zak Preserve
DESCRIPTION:Join us for Trail Tuesdays with the Boothbay Region Land Trust!  Every Tuesday at 10 AM\, we’ll gather at a different BRLT trailhead for a leisurely 1-2 mile hike\, allowing time to soak in the scenery and marvel at nature along the way. Led by a naturalist\, our walks will include occasional stops to share fascinating insights into the preserve’s ecology including the diverse plant and animal life. \nNo need to worry about advanced registration—simply lace up your sturdy shoes\, pack some water\, and meet us at the parking lot kiosk. In the event of inclement weather\, cancellations will be posted on the BRLT website 24 hours in advance. Come for one hike or join us for the entire series. We look forward to seeing you on Trail Tuesdays! \nThis week’s hike is at Zak Preserve: \nZak
URL:https://bbrlt.org/event/trail-tuesday-hike-zak-preserve-3/
LOCATION:Zak Preserve
CATEGORIES:Discover the Preserves,Hiking,Trail Tuesdays
ATTACH;FMTTYPE=image/jpeg:https://bbrlt.org/wp-content/uploads/2022/10/Zak-Autumn-e1666979504914.jpg
END:VEVENT
BEGIN:VEVENT
DTSTART;TZID=America/New_York:20250930T100000
DTEND;TZID=America/New_York:20250930T113000
DTSTAMP:20260423T141513
CREATED:20250808T170240Z
LAST-MODIFIED:20250808T170240Z
UID:10000826-1759226400-1759231800@bbrlt.org
SUMMARY:Trail Tuesday: Hike Zak Preserve
DESCRIPTION:Join us for Trail Tuesdays with the Boothbay Region Land Trust!  Every Tuesday at 10 AM\, we’ll gather at a different BRLT trailhead for a leisurely 1-2 mile hike\, allowing time to soak in the scenery and marvel at nature along the way. Led by a naturalist\, our walks will include occasional stops to share fascinating insights into the preserve’s ecology including the diverse plant and animal life. \nNo need to worry about advanced registration—simply lace up your sturdy shoes\, pack some water\, and meet us at the parking lot kiosk. In the event of inclement weather\, cancellations will be posted on the BRLT website 24 hours in advance. Come for one hike or join us for the entire series. We look forward to seeing you on Trail Tuesdays! \nThis week’s hike is at Zak Preserve: \nZak
URL:https://bbrlt.org/event/trail-tuesday-hike-zak-preserve-2/
LOCATION:Zak Preserve
CATEGORIES:Discover the Preserves,Hiking,Trail Tuesdays
ATTACH;FMTTYPE=image/jpeg:https://bbrlt.org/wp-content/uploads/2022/10/Zak-Autumn-e1666979504914.jpg
END:VEVENT
BEGIN:VEVENT
DTSTART;TZID=America/New_York:20240924T100000
DTEND;TZID=America/New_York:20240924T110000
DTSTAMP:20260423T141513
CREATED:20240816T190028Z
LAST-MODIFIED:20240816T190215Z
UID:10000583-1727172000-1727175600@bbrlt.org
SUMMARY:Trail Tuesday: Hike Zak Preserve
DESCRIPTION:Join us for Trail Tuesdays with the Boothbay Region Land Trust!  Every Tuesday at 10 AM\, we’ll gather at a different BRLT trailhead for a leisurely 1-2 mile hike\, allowing time to soak in the scenery and marvel at nature along the way. Led by a naturalist\, our walks will include occasional stops to share fascinating insights into the preserve’s ecology including the diverse plant and animal life. \nNo need to worry about advanced registration—simply lace up your sturdy shoes\, pack some water\, and meet us at the parking lot kiosk. In the event of inclement weather\, cancellations will be posted on the BRLT website 24 hours in advance. Come for one hike or join us for the entire series. We look forward to seeing you on Trail Tuesdays! \nThis week’s hike is at Zak Preserve: \nZak
URL:https://bbrlt.org/event/trail-tuesday-hike-zak-preserve/
LOCATION:Zak Preserve
CATEGORIES:Discover the Preserves,Hiking,Trail Tuesdays
ATTACH;FMTTYPE=image/jpeg:https://bbrlt.org/wp-content/uploads/2022/10/Zak-Autumn-e1666979504914.jpg
END:VEVENT
BEGIN:VEVENT
DTSTART;TZID=America/New_York:20231005T100000
DTEND;TZID=America/New_York:20231005T110000
DTSTAMP:20260423T141513
CREATED:20230921T182822Z
LAST-MODIFIED:20231003T223943Z
UID:10000303-1696500000-1696503600@bbrlt.org
SUMMARY:Zak Preserve Hike
DESCRIPTION:Discover the history and ecology of Zak Preserve during a leisurely one-mile hike with a naturalist from the Boothbay Region Land Trust. Zak is BRLT’s largest preserve with 208 acres straddling the watershed of Wildcat Creek in the western half and its headwaters in the eastern half. It encompasses one of the few large open fields remaining on the Boothbay Peninsula and features salt marsh\, wetlands\, and extensive woods. Group is size is limited and registration is required by filling out the form below: \n\n	Notice: JavaScript is required for this content.
URL:https://bbrlt.org/event/zak-preserve-hike-2/
LOCATION:Zak Preserve
CATEGORIES:Discover the Preserves,Fall Events,Natural History
ATTACH;FMTTYPE=image/jpeg:https://bbrlt.org/wp-content/uploads/2022/10/Zak-Autumn-e1666979504914.jpg
END:VEVENT
BEGIN:VEVENT
DTSTART;TZID=America/New_York:20210929T100000
DTEND;TZID=America/New_York:20210929T110000
DTSTAMP:20260423T141514
CREATED:20210813T112716Z
LAST-MODIFIED:20210813T112716Z
UID:10000135-1632909600-1632913200@bbrlt.org
SUMMARY:Zak Preserve Hike
DESCRIPTION:Discover the history and ecology of Zak Preserve during a leisurely one mile hike with Boothbay Region Land Trust Environmental Educator Tracey Hall. Zak is BRLT’s largest preserve with 208 acres straddling the watershed of Wildcat Creek in the western half and its headwaters in the eastern half. It encompasses one of the few large open fields remaining on the Boothbay Peninsula\, and features salt marsh\, wetlands\, and extensive woods. Group is limited to 10 participants with the walk to follow current CDC Covid guidelines for outside gatherings. Registration is required by contacting Tracey at thall@bbrlt.org or 633-4818.
URL:https://bbrlt.org/event/zak-preserve-hike/
LOCATION:Zak Preserve
CATEGORIES:Discover the Preserves,Fall Events,Natural History
ATTACH;FMTTYPE=image/jpeg:https://bbrlt.org/wp-content/uploads/2019/07/zak.jpg
END:VEVENT
BEGIN:VEVENT
DTSTART;TZID=America/New_York:20190827T100000
DTEND;TZID=America/New_York:20190827T230000
DTSTAMP:20260423T141514
CREATED:20190826T131243Z
LAST-MODIFIED:20190826T154426Z
UID:10000083-1566900000-1566946800@bbrlt.org
SUMMARY:Cancelled: Trail Mixer - Zak
DESCRIPTION:***Due to the extremely high number of mosquitoes at this location\, we have cancelled this walk for the comfort and well-being of participants.*** Discover the Boothbay Region Land Trust preserves and meet fellow hikers! These reoccurring walks highlight subtle changes through the seasons\, while allowing plenty of time to enjoy vistas and conversation. Our knowledgeable volunteers lead participants on a leisurely paced hike averaging one or two miles in length on easy to moderate terrain. Trail mixer locations rotate among the preserves of our region. Participants may attend one hike or several. The group meets at the trail-head parking lot and registration is not required.  \nFor more information\, contact BRLT Environmental Educator Tracey Hall at thall@bbrlt.org or 633-4818.
URL:https://bbrlt.org/event/cancelled-trail-mixer-zak/
LOCATION:Zak Preserve
CATEGORIES:Trail Mixer
ATTACH;FMTTYPE=image/jpeg:https://bbrlt.org/wp-content/uploads/2019/07/trail-mixers.jpg
END:VEVENT
END:VCALENDAR