BEGIN:VCALENDAR
VERSION:2.0
PRODID:-//Boothbay Region Land Trust - ECPv6.15.20//NONSGML v1.0//EN
CALSCALE:GREGORIAN
METHOD:PUBLISH
X-WR-CALNAME:Boothbay Region Land Trust
X-ORIGINAL-URL:https://bbrlt.org
X-WR-CALDESC:Events for Boothbay Region Land Trust
REFRESH-INTERVAL;VALUE=DURATION:PT1H
X-Robots-Tag:noindex
X-PUBLISHED-TTL:PT1H
BEGIN:VTIMEZONE
TZID:America/New_York
BEGIN:DAYLIGHT
TZOFFSETFROM:-0500
TZOFFSETTO:-0400
TZNAME:EDT
DTSTART:20200308T070000
END:DAYLIGHT
BEGIN:STANDARD
TZOFFSETFROM:-0400
TZOFFSETTO:-0500
TZNAME:EST
DTSTART:20201101T060000
END:STANDARD
BEGIN:DAYLIGHT
TZOFFSETFROM:-0500
TZOFFSETTO:-0400
TZNAME:EDT
DTSTART:20210314T070000
END:DAYLIGHT
BEGIN:STANDARD
TZOFFSETFROM:-0400
TZOFFSETTO:-0500
TZNAME:EST
DTSTART:20211107T060000
END:STANDARD
BEGIN:DAYLIGHT
TZOFFSETFROM:-0500
TZOFFSETTO:-0400
TZNAME:EDT
DTSTART:20220313T070000
END:DAYLIGHT
BEGIN:STANDARD
TZOFFSETFROM:-0400
TZOFFSETTO:-0500
TZNAME:EST
DTSTART:20221106T060000
END:STANDARD
BEGIN:DAYLIGHT
TZOFFSETFROM:-0500
TZOFFSETTO:-0400
TZNAME:EDT
DTSTART:20230312T070000
END:DAYLIGHT
BEGIN:STANDARD
TZOFFSETFROM:-0400
TZOFFSETTO:-0500
TZNAME:EST
DTSTART:20231105T060000
END:STANDARD
BEGIN:DAYLIGHT
TZOFFSETFROM:-0500
TZOFFSETTO:-0400
TZNAME:EDT
DTSTART:20240310T070000
END:DAYLIGHT
BEGIN:STANDARD
TZOFFSETFROM:-0400
TZOFFSETTO:-0500
TZNAME:EST
DTSTART:20241103T060000
END:STANDARD
BEGIN:DAYLIGHT
TZOFFSETFROM:-0500
TZOFFSETTO:-0400
TZNAME:EDT
DTSTART:20250309T070000
END:DAYLIGHT
BEGIN:STANDARD
TZOFFSETFROM:-0400
TZOFFSETTO:-0500
TZNAME:EST
DTSTART:20251102T060000
END:STANDARD
BEGIN:DAYLIGHT
TZOFFSETFROM:-0500
TZOFFSETTO:-0400
TZNAME:EDT
DTSTART:20260308T070000
END:DAYLIGHT
BEGIN:STANDARD
TZOFFSETFROM:-0400
TZOFFSETTO:-0500
TZNAME:EST
DTSTART:20261101T060000
END:STANDARD
END:VTIMEZONE
BEGIN:VEVENT
DTSTART;TZID=America/New_York:20250708T100000
DTEND;TZID=America/New_York:20250708T113000
DTSTAMP:20260423T080802
CREATED:20250612T172351Z
LAST-MODIFIED:20250612T172625Z
UID:10000743-1751968800-1751974200@bbrlt.org
SUMMARY:Trail Tuesday: Hike Ovens Mouth East
DESCRIPTION:Join us for Trail Tuesdays with the Boothbay Region Land Trust!  Every Tuesday at 10 AM\, we’ll gather at a different BRLT trailhead for a leisurely 1-2 mile hike\, allowing time to soak in the scenery and marvel at nature along the way. Led by a naturalist\, our walks will include occasional stops to share fascinating insights into the preserve’s ecology including the diverse plant and animal life. \nNo need to worry about advanced registration—simply lace up your sturdy shoes\, pack some water\, and meet us at the parking lot kiosk. In the event of inclement weather\, cancellations will be posted on the BRLT website 24 hours in advance. Come for one hike or join us for the entire series. We look forward to seeing you on Trail Tuesdays! \nThis week’s hike is at Ovens Mouth East (please note\, there is an east and west parking lot\, and we will be meeting at the east): \nOvens Mouth
URL:https://bbrlt.org/event/trail-tuesday-hike-ovens-mouth-east-3/
LOCATION:Ovens Mouth East Preserve
CATEGORIES:Discover the Preserves,Hiking,Trail Tuesdays
ATTACH;FMTTYPE=image/jpeg:https://bbrlt.org/wp-content/uploads/2019/06/ovens-mouth-header.jpg
END:VEVENT
BEGIN:VEVENT
DTSTART;TZID=America/New_York:20241105T100000
DTEND;TZID=America/New_York:20241105T113000
DTSTAMP:20260423T080802
CREATED:20241017T143135Z
LAST-MODIFIED:20241017T143135Z
UID:10000661-1730800800-1730806200@bbrlt.org
SUMMARY:Trail Tuesday: Hike Ovens Mouth East
DESCRIPTION:Join us for Trail Tuesdays with the Boothbay Region Land Trust!  Every Tuesday at 10 AM\, we’ll gather at a different BRLT trailhead for a leisurely 1-2 mile hike\, allowing time to soak in the scenery and marvel at nature along the way. Led by a naturalist\, our walks will include occasional stops to share fascinating insights into the preserve’s ecology including the diverse plant and animal life. \nNo need to worry about advanced registration—simply lace up your sturdy shoes\, pack some water\, and meet us at the parking lot kiosk. In the event of inclement weather\, cancellations will be posted on the BRLT website. Come for one hike or join us for the entire series. We look forward to seeing you on Trail Tuesdays! \nReminder: This hike takes place during hunting season\, so wearing blaze orange is encouraged. \nThis week’s hike is at Ovens Mouth East (please note\, there is an east and west parking lot\, and we will be meeting at the east): \nOvens Mouth
URL:https://bbrlt.org/event/trail-tuesday-hike-ovens-mouth-east-2/
LOCATION:Ovens Mouth East Preserve
CATEGORIES:Discover the Preserves,Hiking,Trail Tuesdays
ATTACH;FMTTYPE=image/jpeg:https://bbrlt.org/wp-content/uploads/2019/06/ovens-mouth-header.jpg
END:VEVENT
BEGIN:VEVENT
DTSTART;TZID=America/New_York:20240702T100000
DTEND;TZID=America/New_York:20240702T113000
DTSTAMP:20260423T080802
CREATED:20240609T215607Z
LAST-MODIFIED:20240609T235203Z
UID:10000565-1719914400-1719919800@bbrlt.org
SUMMARY:Trail Tuesday: Hike Ovens Mouth East
DESCRIPTION:Join us for Trail Tuesdays with the Boothbay Region Land Trust!  Every Tuesday at 10 AM\, we’ll gather at a different BRLT trailhead for a leisurely 1-2 mile hike\, allowing time to soak in the scenery and marvel at nature along the way. Led by a naturalist\, our walks will include occasional stops to share fascinating insights into the preserve’s ecology including the diverse plant and animal life. \nNo need to worry about advanced registration—simply lace up your sturdy shoes\, pack some water\, and meet us at the parking lot kiosk. In the event of inclement weather\, cancellations will be posted on the BRLT website. Come for one hike or join us for the entire series. We look forward to seeing you on Trail Tuesdays! \nThis week’s hike is at Ovens Mouth East (please note\, there is an east and west parking lot\, and we will be meeting at the east): \nOvens Mouth
URL:https://bbrlt.org/event/trail-tuesday-hike-ovens-mouth-east/
LOCATION:Ovens Mouth East Preserve
CATEGORIES:Discover the Preserves,Hiking,Trail Tuesdays
ATTACH;FMTTYPE=image/jpeg:https://bbrlt.org/wp-content/uploads/2019/06/ovens-mouth-header.jpg
END:VEVENT
BEGIN:VEVENT
DTSTART;TZID=America/New_York:20231213T100000
DTEND;TZID=America/New_York:20231213T113000
DTSTAMP:20260423T080802
CREATED:20231129T170700Z
LAST-MODIFIED:20231213T114759Z
UID:10000315-1702461600-1702467000@bbrlt.org
SUMMARY:Cancelled Due to Illness: Ovens Mouth East Preserve Hike
DESCRIPTION:Discover the history and ecology of Ovens Mouth East Preserve during a leisurely one-mile hike with a naturalist from the Boothbay Region Land Trust. This wooded preserve features shoreline trails\, quiet coves\, a salt marsh\, and the dramatic tidal change of the Ovens Mouth passage. This area has always been inviting for maritime activities because of its deep-water access and protected location. Settled in the mid-1700s\, one of the region’s earliest shipyards was located here and both British and American vessels hid in the coves during the Revolution. Group is limited and registration is required by filling out the form below: \n\n	Notice: JavaScript is required for this content.\n\n\n    \n\n\n        \n        \n        \n 
URL:https://bbrlt.org/event/ovens-mouth-east-preserve-hike-4/
LOCATION:Ovens Mouth East Preserve
CATEGORIES:Discover the Preserves,Natural History,Summer Events
ATTACH;FMTTYPE=image/jpeg:https://bbrlt.org/wp-content/uploads/2021/06/Ovens-Mouth-1-e1625072366128.jpg
END:VEVENT
BEGIN:VEVENT
DTSTART;TZID=America/New_York:20230614T100000
DTEND;TZID=America/New_York:20230614T113000
DTSTAMP:20260423T080802
CREATED:20230430T205120Z
LAST-MODIFIED:20230430T205120Z
UID:10000195-1686736800-1686742200@bbrlt.org
SUMMARY:Ovens Mouth East Preserve Hike
DESCRIPTION:Discover the history and ecology of Ovens Mouth East Preserve during a leisurely one-mile hike with a naturalist from the Boothbay Region Land Trust. This wooded preserve features shoreline trails\, quiet coves\, a salt marsh\, and the dramatic tidal change of the Ovens Mouth passage. This area has always been inviting for maritime activities because of its deep-water access and protected location. Settled in the mid-1700s\, one of the region’s earliest shipyards was located here and both British and American vessels hid in the coves during the Revolution. Group is limited to 15 participants for this free event and registration is required by filling out the form below: \n\n	Notice: JavaScript is required for this content.\n\n\n    \n\n\n        \n        \n        \n 
URL:https://bbrlt.org/event/ovens-mouth-east-preserve-hike-3/
LOCATION:Ovens Mouth East Preserve
CATEGORIES:Discover the Preserves,Natural History,Summer Events
ATTACH;FMTTYPE=image/jpeg:https://bbrlt.org/wp-content/uploads/2021/06/Ovens-Mouth-1-e1625072366128.jpg
END:VEVENT
BEGIN:VEVENT
DTSTART;TZID=America/New_York:20220816T100000
DTEND;TZID=America/New_York:20220816T113000
DTSTAMP:20260423T080802
CREATED:20220719T185221Z
LAST-MODIFIED:20220725T191334Z
UID:10000060-1660644000-1660649400@bbrlt.org
SUMMARY:Ovens Mouth East Preserve Hike
DESCRIPTION:Discover the history and ecology of Ovens Mouth East Preserve during a leisurely one-mile hike with a naturalist from the Boothbay Region Land Trust. This wooded preserve features shoreline trails\, quiet coves\, a salt marsh\, and the dramatic tidal change of the Ovens Mouth passage. This area has always been inviting for maritime activities because of its deep-water access and protected location. Settled in the mid-1700s\, one of the region’s earliest shipyards was located here and both British and American vessels hid in the coves during the Revolution. Group is limited to 15 participants for this free event and registration is required by filling out the form below or by contacting Environmental Educator Tracey Hall at thall@bbrlt.org.  \n\n	Notice: JavaScript is required for this content.\n\n\n    \n\n\n        \n        \n        \n 
URL:https://bbrlt.org/event/ovens-mouth-east-preserve-hike-2/
LOCATION:Ovens Mouth East Preserve
CATEGORIES:Discover the Preserves,Natural History,Summer Events
ATTACH;FMTTYPE=image/jpeg:https://bbrlt.org/wp-content/uploads/2021/06/Ovens-Mouth-1-e1625072366128.jpg
END:VEVENT
BEGIN:VEVENT
DTSTART;TZID=America/New_York:20210803T100000
DTEND;TZID=America/New_York:20210803T110000
DTSTAMP:20260423T080802
CREATED:20210603T234439Z
LAST-MODIFIED:20210729T181844Z
UID:10000015-1627984800-1627988400@bbrlt.org
SUMMARY:Ovens Mouth East Preserve Hike (Event Full)
DESCRIPTION:Please note: This event is full at this time. Please consider joining us on a future hike. Discover the history and ecology of Ovens Mouth East Preserve during a leisurely one mile hike with Boothbay Region Land Trust Environmental Educator Tracey Hall. This wooded preserve features shoreline trails\, quiet coves\, a salt marsh\, and the dramatic tidal change of the Ovens Mouth passage. This area has always been inviting for maritime activities because of its deep-water access and protected location. Settled in the mid-1700’s\, one of the region’s earliest shipyards was located here and both British and American vessels hid in the coves during the Revolution. Group is limited to 10 participants with the walk to follow current CDC Covid guidelines for outside gatherings. Registration is required by contacting Tracey at thall@bbrlt.org or 633-4818.
URL:https://bbrlt.org/event/ovens-mouth-east-preserve-hike/
LOCATION:Ovens Mouth East Preserve
CATEGORIES:Discover the Preserves,Natural History,Summer Events
ATTACH;FMTTYPE=image/jpeg:https://bbrlt.org/wp-content/uploads/2021/06/Ovens-Mouth-1-e1625072366128.jpg
END:VEVENT
END:VCALENDAR