BEGIN:VCALENDAR
VERSION:2.0
PRODID:-//Boothbay Region Land Trust - ECPv6.15.20//NONSGML v1.0//EN
CALSCALE:GREGORIAN
METHOD:PUBLISH
X-ORIGINAL-URL:https://bbrlt.org
X-WR-CALDESC:Events for Boothbay Region Land Trust
REFRESH-INTERVAL;VALUE=DURATION:PT1H
X-Robots-Tag:noindex
X-PUBLISHED-TTL:PT1H
BEGIN:VTIMEZONE
TZID:America/New_York
BEGIN:DAYLIGHT
TZOFFSETFROM:-0500
TZOFFSETTO:-0400
TZNAME:EDT
DTSTART:20180311T070000
END:DAYLIGHT
BEGIN:STANDARD
TZOFFSETFROM:-0400
TZOFFSETTO:-0500
TZNAME:EST
DTSTART:20181104T060000
END:STANDARD
BEGIN:DAYLIGHT
TZOFFSETFROM:-0500
TZOFFSETTO:-0400
TZNAME:EDT
DTSTART:20190310T070000
END:DAYLIGHT
BEGIN:STANDARD
TZOFFSETFROM:-0400
TZOFFSETTO:-0500
TZNAME:EST
DTSTART:20191103T060000
END:STANDARD
BEGIN:DAYLIGHT
TZOFFSETFROM:-0500
TZOFFSETTO:-0400
TZNAME:EDT
DTSTART:20200308T070000
END:DAYLIGHT
BEGIN:STANDARD
TZOFFSETFROM:-0400
TZOFFSETTO:-0500
TZNAME:EST
DTSTART:20201101T060000
END:STANDARD
BEGIN:DAYLIGHT
TZOFFSETFROM:-0500
TZOFFSETTO:-0400
TZNAME:EDT
DTSTART:20210314T070000
END:DAYLIGHT
BEGIN:STANDARD
TZOFFSETFROM:-0400
TZOFFSETTO:-0500
TZNAME:EST
DTSTART:20211107T060000
END:STANDARD
BEGIN:DAYLIGHT
TZOFFSETFROM:-0500
TZOFFSETTO:-0400
TZNAME:EDT
DTSTART:20220313T070000
END:DAYLIGHT
BEGIN:STANDARD
TZOFFSETFROM:-0400
TZOFFSETTO:-0500
TZNAME:EST
DTSTART:20221106T060000
END:STANDARD
BEGIN:DAYLIGHT
TZOFFSETFROM:-0500
TZOFFSETTO:-0400
TZNAME:EDT
DTSTART:20230312T070000
END:DAYLIGHT
BEGIN:STANDARD
TZOFFSETFROM:-0400
TZOFFSETTO:-0500
TZNAME:EST
DTSTART:20231105T060000
END:STANDARD
BEGIN:DAYLIGHT
TZOFFSETFROM:-0500
TZOFFSETTO:-0400
TZNAME:EDT
DTSTART:20240310T070000
END:DAYLIGHT
BEGIN:STANDARD
TZOFFSETFROM:-0400
TZOFFSETTO:-0500
TZNAME:EST
DTSTART:20241103T060000
END:STANDARD
BEGIN:DAYLIGHT
TZOFFSETFROM:-0500
TZOFFSETTO:-0400
TZNAME:EDT
DTSTART:20250309T070000
END:DAYLIGHT
BEGIN:STANDARD
TZOFFSETFROM:-0400
TZOFFSETTO:-0500
TZNAME:EST
DTSTART:20251102T060000
END:STANDARD
BEGIN:DAYLIGHT
TZOFFSETFROM:-0500
TZOFFSETTO:-0400
TZNAME:EDT
DTSTART:20260308T070000
END:DAYLIGHT
BEGIN:STANDARD
TZOFFSETFROM:-0400
TZOFFSETTO:-0500
TZNAME:EST
DTSTART:20261101T060000
END:STANDARD
END:VTIMEZONE
BEGIN:VEVENT
DTSTART;TZID=America/New_York:20250624T100000
DTEND;TZID=America/New_York:20250624T110000
DTSTAMP:20260423T103858
CREATED:20250530T145445Z
LAST-MODIFIED:20250623T201910Z
UID:10000736-1750759200-1750762800@bbrlt.org
SUMMARY:Canceled: Trail Tuesday: Hike Ocean Point Preserve
DESCRIPTION:***Due to the heat advisory this hike has been canceled *** Join us for Trail Tuesdays with the Boothbay Region Land Trust!  Every Tuesday at 10 AM\, we’ll gather at a different BRLT trailhead for a leisurely 1-2 mile hike\, allowing time to soak in the scenery and marvel at nature along the way. Led by a naturalist\, our walks will include occasional stops to share fascinating insights into the preserve’s ecology\, including the diverse plant and animal life. \nNo need to worry about advanced registration—simply lace up your sturdy shoes\, pack some water\, and meet us at the parking lot kiosk. In the event of inclement weather\, cancellations will be posted on the BRLT website 24 hours in advance. Come for one hike or join us for the entire series. We look forward to seeing you on Trail Tuesdays! \nThis week’s hike is at Ocean Point Preserve: \nOcean Point
URL:https://bbrlt.org/event/weather-cancellation-trail-tuesday-hike-ocean-point-preserve/
LOCATION:Ocean Point Preserve
CATEGORIES:Discover the Preserves,Hiking,Trail Tuesdays
ATTACH;FMTTYPE=image/jpeg:https://bbrlt.org/wp-content/uploads/2021/10/ocean-point-forest.jpg
END:VEVENT
BEGIN:VEVENT
DTSTART;TZID=America/New_York:20250506T100000
DTEND;TZID=America/New_York:20250506T110000
DTSTAMP:20260423T103858
CREATED:20250324T141922Z
LAST-MODIFIED:20250505T212503Z
UID:10000681-1746525600-1746529200@bbrlt.org
SUMMARY:Weather cancellation: Trail Tuesday: Hike Ocean Point Preserve
DESCRIPTION:***This hike has been cancelled due to the weather forecast for steady rain. Please join us next week!*** Join us for Trail Tuesdays with the Boothbay Region Land Trust!  Every Tuesday at 10 AM\, we’ll gather at a different BRLT trailhead for a leisurely 1-2 mile hike\, allowing time to soak in the scenery and marvel at nature along the way. Led by a naturalist\, our walks will include occasional stops to share fascinating insights into the preserve’s ecology including the diverse plant and animal life.\n\nNo need to worry about advanced registration—simply lace up your sturdy shoes\, pack some water\, and meet us at the parking lot kiosk. In the event of inclement weather\, cancellations will be posted on the BRLT website 24 hours in advance. Come for one hike or join us for the entire series. We look forward to seeing you on Trail Tuesdays! \nThis week’s hike is at Ocean Point Preserve: \nOcean Point
URL:https://bbrlt.org/event/trail-tuesday-hike-ocean-point-preserve-3/
LOCATION:Ocean Point Preserve
CATEGORIES:Discover the Preserves,Hiking,Trail Tuesdays
ATTACH;FMTTYPE=image/jpeg:https://bbrlt.org/wp-content/uploads/2021/10/ocean-point-forest.jpg
END:VEVENT
BEGIN:VEVENT
DTSTART;TZID=America/New_York:20240903T100000
DTEND;TZID=America/New_York:20240903T110000
DTSTAMP:20260423T103858
CREATED:20240816T185529Z
LAST-MODIFIED:20240816T185529Z
UID:10000580-1725357600-1725361200@bbrlt.org
SUMMARY:Trail Tuesday: Hike Ocean Point Preserve
DESCRIPTION:Join us for Trail Tuesdays with the Boothbay Region Land Trust!  Every Tuesday at 10 AM\, we’ll gather at a different BRLT trailhead for a leisurely 1-2 mile hike\, allowing time to soak in the scenery and marvel at nature along the way. Led by a naturalist\, our walks will include occasional stops to share fascinating insights into the preserve’s ecology including the diverse plant and animal life. \nNo need to worry about advanced registration—simply lace up your sturdy shoes\, pack some water\, and meet us at the parking lot kiosk. In the event of inclement weather\, cancellations will be posted on the BRLT website 24 hours in advance. Come for one hike or join us for the entire series. We look forward to seeing you on Trail Tuesdays! \nThis week’s hike is at Ocean Point Preserve: \nOcean Point
URL:https://bbrlt.org/event/trail-tuesday-hike-ocean-point-preserve-2/
LOCATION:Ocean Point Preserve
CATEGORIES:Discover the Preserves,Hiking,Trail Tuesdays
ATTACH;FMTTYPE=image/jpeg:https://bbrlt.org/wp-content/uploads/2021/10/ocean-point-forest.jpg
END:VEVENT
BEGIN:VEVENT
DTSTART;TZID=America/New_York:20240521T100000
DTEND;TZID=America/New_York:20240521T110000
DTSTAMP:20260423T103858
CREATED:20240412T170841Z
LAST-MODIFIED:20240412T170841Z
UID:10000394-1716285600-1716289200@bbrlt.org
SUMMARY:Trail Tuesday: Hike Ocean Point Preserve
DESCRIPTION:Join us for Trail Tuesdays with the Boothbay Region Land Trust!  Every Tuesday at 10 AM\, we’ll gather at a different BRLT trailhead for a leisurely 1-2 mile hike\, allowing time to soak in the scenery and marvel at nature along the way. Led by a naturalist\, our walks will include occasional stops to share fascinating insights into the preserve’s ecology including the diverse plant and animal life. \nNo need to worry about advanced registration—simply lace up your sturdy shoes\, pack some water\, and meet us at the parking lot kiosk. In the event of inclement weather\, cancellations will be posted on the BRLT website 24 hours in advance. Come for one hike or join us for the entire series. We look forward to seeing you on Trail Tuesdays! \nThis week’s hike is at Ocean Point Preserve: \nOcean Point
URL:https://bbrlt.org/event/trail-tuesday-hike-ocean-point-preserve/
LOCATION:Ocean Point Preserve
CATEGORIES:Discover the Preserves,Hiking,Trail Tuesdays
ATTACH;FMTTYPE=image/jpeg:https://bbrlt.org/wp-content/uploads/2021/10/ocean-point-forest.jpg
END:VEVENT
BEGIN:VEVENT
DTSTART;TZID=America/New_York:20231012T100000
DTEND;TZID=America/New_York:20231012T110000
DTSTAMP:20260423T103858
CREATED:20230921T184446Z
LAST-MODIFIED:20230921T184446Z
UID:10000304-1697104800-1697108400@bbrlt.org
SUMMARY:Ocean Point Preserve Hike
DESCRIPTION:Discover the history and ecology of Ocean Point Preserve during a guided one-mile hike with the Boothbay Region Land Trust. Located in the largest wetland area on Linekin Neck in East Boothbay\, the 15-acre Ocean Point Preserve includes Tibbetts pond\, designated by the Maine Department of Inland Fisheries and Wildlife as significant waterfowl wildlife habitat for inland waterfowl and wading birds. Group size is limited with registration required by filling out the form below: \n\n	Notice: JavaScript is required for this content.
URL:https://bbrlt.org/event/ocean-point-preserve-hike-5/
LOCATION:Ocean Point Preserve
CATEGORIES:Discover the Preserves,Natural History
ATTACH;FMTTYPE=image/jpeg:https://bbrlt.org/wp-content/uploads/2021/10/ocean-point-forest.jpg
END:VEVENT
BEGIN:VEVENT
DTSTART;TZID=America/New_York:20230530T100000
DTEND;TZID=America/New_York:20230530T110000
DTSTAMP:20260423T103858
CREATED:20230430T200400Z
LAST-MODIFIED:20230430T200604Z
UID:10000193-1685440800-1685444400@bbrlt.org
SUMMARY:Ocean Point Preserve Hike
DESCRIPTION:Discover the history and ecology of Ocean Point Preserve during a guided one-mile hike with the Boothbay Region Land Trust. Located in the largest wetland area on Linekin Neck in East Boothbay\, the 15-acre Ocean Point Preserve includes Tibbetts pond\, designated by the Maine Department of Inland Fisheries and Wildlife as significant waterfowl wildlife habitat for inland waterfowl and wading birds. Group is limited to 12 participants with registration required by filling out the form below: \n\n	Notice: JavaScript is required for this content.
URL:https://bbrlt.org/event/ocean-point-preserve-hike-4/
LOCATION:Ocean Point Preserve
CATEGORIES:Discover the Preserves,Natural History
ATTACH;FMTTYPE=image/jpeg:https://bbrlt.org/wp-content/uploads/2021/10/ocean-point-forest.jpg
END:VEVENT
BEGIN:VEVENT
DTSTART;TZID=America/New_York:20220628T100000
DTEND;TZID=America/New_York:20220628T110000
DTSTAMP:20260423T103858
CREATED:20220527T000523Z
LAST-MODIFIED:20220527T000523Z
UID:10000168-1656410400-1656414000@bbrlt.org
SUMMARY:Ocean Point Preserve Hike
DESCRIPTION:Discover the history and ecology of Ocean Point Preserve during a guided one-mile hike with the Boothbay Region Land Trust. Located in the largest wetland area on Linekin Neck in East Boothbay\, the 15-acre Ocean Point Preserve includes Tibbetts pond\, designated by the Maine Department of Inland Fisheries and Wildlife as significant waterfowl wildlife habitat for inland waterfowl and wading birds. Group is limited to 15 participants with registration required by filling out the form below: \n\n	Notice: JavaScript is required for this content.
URL:https://bbrlt.org/event/ocean-point-preserve-hike-3/
LOCATION:Ocean Point Preserve
CATEGORIES:Discover the Preserves,Fall Events,Natural History
ATTACH;FMTTYPE=image/jpeg:https://bbrlt.org/wp-content/uploads/2021/10/ocean-point-forest.jpg
END:VEVENT
BEGIN:VEVENT
DTSTART;TZID=America/New_York:20211117T100000
DTEND;TZID=America/New_York:20211117T110000
DTSTAMP:20260423T103858
CREATED:20211022T152516Z
LAST-MODIFIED:20211022T152516Z
UID:10000148-1637143200-1637146800@bbrlt.org
SUMMARY:Ocean Point Preserve Hike
DESCRIPTION:Discover the history and ecology of Ocean Point Preserve during a leisurely one mile hike with Boothbay Region Land Trust Environmental Educator Tracey Hall. Located in the largest wetland area on Linekin Neck in East Boothbay\, the 15-acre Ocean Point Preserve includes Tibbetts pond\, designated by the Maine Department of Inland Fisheries and Wildlife as significant waterfowl wildlife habitat for inland waterfowl and wading birds. Group is limited to 10 participants with the walk to follow current CDC Covid guidelines for outside gatherings. Registration is required by contacting Tracey at thall@bbrlt.org or 633-4818.
URL:https://bbrlt.org/event/ocean-point-preserve-hike-2/
LOCATION:Ocean Point Preserve
CATEGORIES:Discover the Preserves,Fall Events,Natural History
ATTACH;FMTTYPE=image/jpeg:https://bbrlt.org/wp-content/uploads/2021/10/ocean-point-forest.jpg
END:VEVENT
BEGIN:VEVENT
DTSTART;TZID=America/New_York:20210817T100000
DTEND;TZID=America/New_York:20210817T110000
DTSTAMP:20260423T103858
CREATED:20210604T144045Z
LAST-MODIFIED:20210811T124548Z
UID:10000018-1629194400-1629198000@bbrlt.org
SUMMARY:Ocean Point Preserve Hike (Event Full)
DESCRIPTION:Please note: This event is full at this time. Please consider joining us on a future hike. Discover the history and ecology of Ocean Point Preserve during a leisurely one mile hike with Boothbay Region Land Trust Environmental Educator Tracey Hall. Located in the largest wetland area on Linekin Neck in East Boothbay\, the 15-acre Ocean Point Preserve includes Tibbetts pond\, designated by the Maine Department of Inland Fisheries and Wildlife as significant waterfowl wildlife habitat for inland waterfowl and wading birds. Group is limited to 10 participants with the walk to follow current CDC Covid guidelines for outside gatherings. Registration is required by contacting Tracey at thall@bbrlt.org or 633-4818.
URL:https://bbrlt.org/event/ocean-point-preserve-hike/
LOCATION:Ocean Point Preserve
CATEGORIES:Discover the Preserves,Natural History,Summer Events
ATTACH;FMTTYPE=image/jpeg:https://bbrlt.org/wp-content/uploads/2021/07/2012-06-24-FJ-3-e1627411060558.jpg
END:VEVENT
BEGIN:VEVENT
DTSTART;TZID=America/New_York:20190829T100000
DTEND;TZID=America/New_York:20190829T113000
DTSTAMP:20260423T103858
CREATED:20190801T110409Z
LAST-MODIFIED:20190821T185322Z
UID:10000086-1567072800-1567078200@bbrlt.org
SUMMARY:Forest Bathing Walk
DESCRIPTION:Discover the health boosting benefits of moving slowly and mindfully through the forest. Open your senses and connect with the natural world through a series of invitations designed to enhance your health\, wellness\, and happiness. This leisurely walk covers less then a mile of trail and allows time for reflection and connection.\nThis walk will be led by Boothbay Region Land Trust Environmental Educator and Certified Forest Therapy Guide Tracey Hall. Registration is required for this free event\, and group size is limited to 10 people. To register for this event contact Tracey at thall@bbrlt.org or 633-4818.
URL:https://bbrlt.org/event/forest-bathing-walk/
LOCATION:Ocean Point Preserve
ATTACH;FMTTYPE=image/jpeg:https://bbrlt.org/wp-content/uploads/2019/08/forest-bathing.jpg
END:VEVENT
BEGIN:VEVENT
DTSTART;TZID=America/New_York:20190724T100000
DTEND;TZID=America/New_York:20190724T230000
DTSTAMP:20260423T103858
CREATED:20190709T164208Z
LAST-MODIFIED:20190709T164208Z
UID:10000088-1563962400-1564009200@bbrlt.org
SUMMARY:Babes in the Woods
DESCRIPTION:Babes in the Woods is a nature discovery program geared to children ages 2-5 with their families or caregivers. Participate in age-appropriate games\, crafts\, stories and other activities to connect to the natural world. Special emphasis is made on sensory exploration of ecological themes and usually includes a short and easy walk. Group meets at the kiosk near the parking lot. This event is free and registration is not required. Please wear sturdy shoes and clothing that can get muddy. \nFor more information contact Environmental Educator Tracey Hall at thall@bbrlt.org or 633-4818.
URL:https://bbrlt.org/event/babes-in-the-woods-2/
LOCATION:Ocean Point Preserve
CATEGORIES:Classes,Summer Events
ATTACH;FMTTYPE=image/jpeg:https://bbrlt.org/wp-content/uploads/2019/07/babes-in-the-woods-e1577982701960.jpg
END:VEVENT
BEGIN:VEVENT
DTSTART;TZID=America/New_York:20190709T100000
DTEND;TZID=America/New_York:20190709T230000
DTSTAMP:20260423T103858
CREATED:20190702T161137Z
LAST-MODIFIED:20190709T161803Z
UID:10000102-1562666400-1562713200@bbrlt.org
SUMMARY:Trail Mixer - Ocean Point
DESCRIPTION:Discover the Boothbay Region Land Trust preserves and meet fellow hikers! These reoccurring walks highlight subtle changes through the seasons\, while allowing plenty of time to enjoy vistas and conversation. Our knowledgeable volunteers lead participants on a leisurely paced hike averaging one or two miles in length on easy to moderate terrain. Trail mixer locations rotate among the preserves of our region. Participants may attend one hike or several. The group meets at the trail-head parking lot and registration is not required. This week’s hike leader is Nancy Adams and the hike is at Ocean Point Preserve.  \nFor more information\, contact BRLT Environmental Educator Tracey Hall at thall@bbrlt.org or 633-4818.
URL:https://bbrlt.org/event/trail-mixer-ocean-point/
LOCATION:Ocean Point Preserve
CATEGORIES:Trail Mixer
ATTACH;FMTTYPE=image/jpeg:https://bbrlt.org/wp-content/uploads/2019/07/trail-mixers.jpg
END:VEVENT
END:VCALENDAR