BEGIN:VCALENDAR
VERSION:2.0
PRODID:-//Boothbay Region Land Trust - ECPv6.15.20//NONSGML v1.0//EN
CALSCALE:GREGORIAN
METHOD:PUBLISH
X-WR-CALNAME:Boothbay Region Land Trust
X-ORIGINAL-URL:https://bbrlt.org
X-WR-CALDESC:Events for Boothbay Region Land Trust
REFRESH-INTERVAL;VALUE=DURATION:PT1H
X-Robots-Tag:noindex
X-PUBLISHED-TTL:PT1H
BEGIN:VTIMEZONE
TZID:America/New_York
BEGIN:DAYLIGHT
TZOFFSETFROM:-0500
TZOFFSETTO:-0400
TZNAME:EDT
DTSTART:20180311T070000
END:DAYLIGHT
BEGIN:STANDARD
TZOFFSETFROM:-0400
TZOFFSETTO:-0500
TZNAME:EST
DTSTART:20181104T060000
END:STANDARD
BEGIN:DAYLIGHT
TZOFFSETFROM:-0500
TZOFFSETTO:-0400
TZNAME:EDT
DTSTART:20190310T070000
END:DAYLIGHT
BEGIN:STANDARD
TZOFFSETFROM:-0400
TZOFFSETTO:-0500
TZNAME:EST
DTSTART:20191103T060000
END:STANDARD
BEGIN:DAYLIGHT
TZOFFSETFROM:-0500
TZOFFSETTO:-0400
TZNAME:EDT
DTSTART:20200308T070000
END:DAYLIGHT
BEGIN:STANDARD
TZOFFSETFROM:-0400
TZOFFSETTO:-0500
TZNAME:EST
DTSTART:20201101T060000
END:STANDARD
BEGIN:DAYLIGHT
TZOFFSETFROM:-0500
TZOFFSETTO:-0400
TZNAME:EDT
DTSTART:20210314T070000
END:DAYLIGHT
BEGIN:STANDARD
TZOFFSETFROM:-0400
TZOFFSETTO:-0500
TZNAME:EST
DTSTART:20211107T060000
END:STANDARD
BEGIN:DAYLIGHT
TZOFFSETFROM:-0500
TZOFFSETTO:-0400
TZNAME:EDT
DTSTART:20220313T070000
END:DAYLIGHT
BEGIN:STANDARD
TZOFFSETFROM:-0400
TZOFFSETTO:-0500
TZNAME:EST
DTSTART:20221106T060000
END:STANDARD
BEGIN:DAYLIGHT
TZOFFSETFROM:-0500
TZOFFSETTO:-0400
TZNAME:EDT
DTSTART:20230312T070000
END:DAYLIGHT
BEGIN:STANDARD
TZOFFSETFROM:-0400
TZOFFSETTO:-0500
TZNAME:EST
DTSTART:20231105T060000
END:STANDARD
BEGIN:DAYLIGHT
TZOFFSETFROM:-0500
TZOFFSETTO:-0400
TZNAME:EDT
DTSTART:20240310T070000
END:DAYLIGHT
BEGIN:STANDARD
TZOFFSETFROM:-0400
TZOFFSETTO:-0500
TZNAME:EST
DTSTART:20241103T060000
END:STANDARD
BEGIN:DAYLIGHT
TZOFFSETFROM:-0500
TZOFFSETTO:-0400
TZNAME:EDT
DTSTART:20250309T070000
END:DAYLIGHT
BEGIN:STANDARD
TZOFFSETFROM:-0400
TZOFFSETTO:-0500
TZNAME:EST
DTSTART:20251102T060000
END:STANDARD
BEGIN:DAYLIGHT
TZOFFSETFROM:-0500
TZOFFSETTO:-0400
TZNAME:EDT
DTSTART:20260308T070000
END:DAYLIGHT
BEGIN:STANDARD
TZOFFSETFROM:-0400
TZOFFSETTO:-0500
TZNAME:EST
DTSTART:20261101T060000
END:STANDARD
END:VTIMEZONE
BEGIN:VEVENT
DTSTART;TZID=America/New_York:20250617T100000
DTEND;TZID=America/New_York:20250617T113000
DTSTAMP:20260423T102302
CREATED:20250517T012509Z
LAST-MODIFIED:20250527T164103Z
UID:10000733-1750154400-1750159800@bbrlt.org
SUMMARY:Trail Tuesday: Hike Linekin and Burley Preserves
DESCRIPTION:Join us for Trail Tuesdays with the Boothbay Region Land Trust!  Every Tuesday at 10 AM\, we’ll gather at a different BRLT trailhead for a leisurely 1-2 mile hike\, allowing time to soak in the scenery and marvel at nature along the way. Led by a naturalist\, our walks will include occasional stops to share fascinating insights into the preserve’s ecology including the diverse plant and animal life. \nNo need to worry about advanced registration—simply lace up your sturdy shoes\, pack some water\, and meet us at the parking lot kiosk. In the event of inclement weather\, cancellations will be posted on the BRLT website. Come for one hike or join us for the entire series. We look forward to seeing you on Trail Tuesdays! \nThis week’s hike is at adjacent Linekin and Burley Preserves: \nLinekin Preserve & Burley Preserve
URL:https://bbrlt.org/event/trail-tuesday-hike-linekin-and-burley-preserves-2/
LOCATION:Linekin and Burley Preserve
CATEGORIES:Discover the Preserves,Hiking,Trail Tuesdays
ATTACH;FMTTYPE=image/jpeg:https://bbrlt.org/wp-content/uploads/2025/05/Linekin-Burley.jpg
END:VEVENT
BEGIN:VEVENT
DTSTART;TZID=America/New_York:20240709T100000
DTEND;TZID=America/New_York:20240709T113000
DTSTAMP:20260423T102302
CREATED:20240609T235105Z
LAST-MODIFIED:20240609T235105Z
UID:10000566-1720519200-1720524600@bbrlt.org
SUMMARY:Trail Tuesday: Hike Linekin and Burley Preserves
DESCRIPTION:Join us for Trail Tuesdays with the Boothbay Region Land Trust!  Every Tuesday at 10 AM\, we’ll gather at a different BRLT trailhead for a leisurely 1-2 mile hike\, allowing time to soak in the scenery and marvel at nature along the way. Led by a naturalist\, our walks will include occasional stops to share fascinating insights into the preserve’s ecology including the diverse plant and animal life. \nNo need to worry about advanced registration—simply lace up your sturdy shoes\, pack some water\, and meet us at the parking lot kiosk. In the event of inclement weather\, cancellations will be posted on the BRLT website. Come for one hike or join us for the entire series. We look forward to seeing you on Trail Tuesdays! \nThis week’s hike is at adjacent Linekin and Burley Preserves: \nLinekin Preserve & Burley Preserve
URL:https://bbrlt.org/event/trail-tuesday-hike-linekin-and-burley-preserves/
LOCATION:Linekin and Burley Preserve
CATEGORIES:Discover the Preserves,Hiking,Trail Tuesdays
ATTACH;FMTTYPE=image/jpeg:https://bbrlt.org/wp-content/uploads/2019/06/linekin-header.jpg
END:VEVENT
BEGIN:VEVENT
DTSTART;TZID=America/New_York:20230829T100000
DTEND;TZID=America/New_York:20230829T113000
DTSTAMP:20260423T102302
CREATED:20230807T162623Z
LAST-MODIFIED:20230807T162623Z
UID:10000109-1693303200-1693308600@bbrlt.org
SUMMARY:Linekin and Burley Preserve Hike
DESCRIPTION:Discover the history and ecology of Linekin and Burley Preserve during a leisurely 1.5 mile hike with a naturalist from the Boothbay Region Land Trust. These adjacent preserves offer abundant wildlife: birds\, deer\, small mammals\, frogs and toads all thrive in this protected habitat. Plant life includes ferns\, mosses\, a wide variety of trees such as red spruce\, balsam fir\, white pine\, red oak\, red maple\, eastern hemlock\, birch and even sugar maple. Group is limited with registration required by filling out the form below: \n\n	Notice: JavaScript is required for this content.
URL:https://bbrlt.org/event/linekin-and-burley-preserve-hike-3/
LOCATION:Linekin and Burley Preserve
CATEGORIES:Discover the Preserves,Natural History
ATTACH;FMTTYPE=image/jpeg:https://bbrlt.org/wp-content/uploads/2021/06/schoolhouse-pond-forest-floor-rotated.jpg
END:VEVENT
BEGIN:VEVENT
DTSTART;TZID=America/New_York:20220928T100000
DTEND;TZID=America/New_York:20220928T113000
DTSTAMP:20260423T102302
CREATED:20220822T003225Z
LAST-MODIFIED:20220927T161600Z
UID:10000177-1664359200-1664364600@bbrlt.org
SUMMARY:To be Rescheduled: Linekin and Burley Preserve Hike
DESCRIPTION:***Please note: Due to an injury the hike leader recently experienced\, this event is canceled and will be rescheduled in the future***Discover the history and ecology of Linekin and Burley Preserve during a moderate 1.5-mile hike with a naturalist from the Boothbay Region Land Trust. These adjacent preserves offer abundant wildlife: birds\, deer\, small mammals\, frogs\, and toads all thrive in this protected habitat. Plant life includes ferns\, mosses\, and a wide variety of trees such as red spruce\, balsam fir\, white pine\, red oak\, red maple\, eastern hemlock\, birch\, and even sugar maple. Group size is limited and registration is required by filling out the form below or by contacting Environmental Educator Tracey Hall at thall@bbrlt.org or 633-4818.
URL:https://bbrlt.org/event/linekin-and-burley-preserve-hike-2/
LOCATION:Linekin and Burley Preserve
CATEGORIES:Discover the Preserves,Fall Events
ATTACH;FMTTYPE=image/jpeg:https://bbrlt.org/wp-content/uploads/2019/06/linekin-header.jpg
END:VEVENT
BEGIN:VEVENT
DTSTART;TZID=America/New_York:20211019T100000
DTEND;TZID=America/New_York:20211019T113000
DTSTAMP:20260423T102302
CREATED:20210813T114331Z
LAST-MODIFIED:20210813T114331Z
UID:10000137-1634637600-1634643000@bbrlt.org
SUMMARY:Linekin and Burley Preserve Hike
DESCRIPTION:Discover the history and ecology of Linekin and Burley Preserve during a leisurely 1.5 mile hike with Boothbay Region Land Trust Environmental Educator Tracey Hall. These adjacent preserves offer abundant wildlife: birds\, deer\, small mammals\, frogs and toads all thrive in this protected habitat. Plant life includes ferns\, mosses\, a wide variety of trees such as red spruce\, balsam fir\, white pine\, red oak\, red maple\, eastern hemlock\, birch and even sugar maple. Group is limited to 10 participants with the walk to follow current CDC Covid guidelines for outside gatherings. Registration is required by contacting Tracey at thall@bbrlt.org or 633-4818.
URL:https://bbrlt.org/event/linekin-and-burley-preserve-hike/
LOCATION:Linekin and Burley Preserve
CATEGORIES:Discover the Preserves,Fall Events,Natural History
ATTACH;FMTTYPE=image/jpeg:https://bbrlt.org/wp-content/uploads/2019/07/linekin.jpg
END:VEVENT
BEGIN:VEVENT
DTSTART;TZID=America/New_York:20190820T100000
DTEND;TZID=America/New_York:20190820T230000
DTSTAMP:20260423T102302
CREATED:20190801T104723Z
LAST-MODIFIED:20190801T104723Z
UID:10000085-1566295200-1566342000@bbrlt.org
SUMMARY:Trail Mixer - Linekin and Burley
DESCRIPTION:Discover the Boothbay Region Land Trust preserves and meet fellow hikers! These reoccurring walks highlight subtle changes through the seasons\, while allowing plenty of time to enjoy vistas and conversation. Our knowledgeable volunteers lead participants on a leisurely paced hike averaging one or two miles in length on easy to moderate terrain. Trail mixer locations rotate among the preserves of our region. Participants may attend one hike or several. The group meets at the trail-head parking lot and registration is not required.  \nFor more information\, contact BRLT Environmental Educator Tracey Hall at thall@bbrlt.org or 633-4818.
URL:https://bbrlt.org/event/trail-mixer-linekin-and-burley/
LOCATION:Linekin and Burley Preserve
CATEGORIES:Trail Mixer
ATTACH;FMTTYPE=image/jpeg:https://bbrlt.org/wp-content/uploads/2019/07/trail-mixers.jpg
END:VEVENT
END:VCALENDAR