BEGIN:VCALENDAR
VERSION:2.0
PRODID:-//Boothbay Region Land Trust - ECPv6.15.20//NONSGML v1.0//EN
CALSCALE:GREGORIAN
METHOD:PUBLISH
X-ORIGINAL-URL:https://bbrlt.org
X-WR-CALDESC:Events for Boothbay Region Land Trust
REFRESH-INTERVAL;VALUE=DURATION:PT1H
X-Robots-Tag:noindex
X-PUBLISHED-TTL:PT1H
BEGIN:VTIMEZONE
TZID:America/New_York
BEGIN:DAYLIGHT
TZOFFSETFROM:-0500
TZOFFSETTO:-0400
TZNAME:EDT
DTSTART:20180311T070000
END:DAYLIGHT
BEGIN:STANDARD
TZOFFSETFROM:-0400
TZOFFSETTO:-0500
TZNAME:EST
DTSTART:20181104T060000
END:STANDARD
BEGIN:DAYLIGHT
TZOFFSETFROM:-0500
TZOFFSETTO:-0400
TZNAME:EDT
DTSTART:20190310T070000
END:DAYLIGHT
BEGIN:STANDARD
TZOFFSETFROM:-0400
TZOFFSETTO:-0500
TZNAME:EST
DTSTART:20191103T060000
END:STANDARD
BEGIN:DAYLIGHT
TZOFFSETFROM:-0500
TZOFFSETTO:-0400
TZNAME:EDT
DTSTART:20200308T070000
END:DAYLIGHT
BEGIN:STANDARD
TZOFFSETFROM:-0400
TZOFFSETTO:-0500
TZNAME:EST
DTSTART:20201101T060000
END:STANDARD
BEGIN:DAYLIGHT
TZOFFSETFROM:-0500
TZOFFSETTO:-0400
TZNAME:EDT
DTSTART:20210314T070000
END:DAYLIGHT
BEGIN:STANDARD
TZOFFSETFROM:-0400
TZOFFSETTO:-0500
TZNAME:EST
DTSTART:20211107T060000
END:STANDARD
END:VTIMEZONE
BEGIN:VEVENT
DTSTART;VALUE=DATE:20200801
DTEND;VALUE=DATE:20200901
DTSTAMP:20260422T203646
CREATED:20200731T132045Z
LAST-MODIFIED:20200731T132045Z
UID:10000049-1596240000-1598918399@bbrlt.org
SUMMARY:Self-Guided Forest Bathing Walk
DESCRIPTION:During this time of social distancing\, Boothbay Region Land Trust is offering a self-guided forest bathing walk at Hendricks Head Hiking Trail. Forest bathing is the practice of spending time in woods for the purpose of enhancing health\, wellness\, and happiness. Connect to the outdoors as you follow the forest bathing invitations mounted on posts spaced along the trail. The invitations offer gentle opportunities to build your sensory awareness while exploring your natural surroundings. This leisurely walk covers less then a mile of moderate terrain and was designed by certified forest therapy guide and BRLT environmental educator Tracey Hall. It is open during daylight hours for the month of August with parking available at Hendrick’s Head Beach.  Please practice social distancing as you walk and enjoy your time in the forest. \n  \n 
URL:https://bbrlt.org/event/self-guided-forest-bathing-walk/
LOCATION:Hendricks Head Preserve
CATEGORIES:Forest Bathing,Summer Events
ATTACH;FMTTYPE=image/jpeg:https://bbrlt.org/wp-content/uploads/2020/06/Tree-Image-2-e1596201539206.jpg
ORGANIZER;CN="Boothbay Region Land Trust":MAILTO:thall@bbrlt.org
END:VEVENT
BEGIN:VEVENT
DTSTART;TZID=America/New_York:20191220T100000
DTEND;TZID=America/New_York:20191220T113000
DTSTAMP:20260422T203646
CREATED:20191101T171345Z
LAST-MODIFIED:20191101T171345Z
UID:10000025-1576836000-1576841400@bbrlt.org
SUMMARY:Forest Bathing Walk
DESCRIPTION:Celebrate the eve of the winter solstice and the return of daylight on an Introduction to Forest Bathing walk. Discover the health boosting benefits of moving slowly and mindfully through the forest. Open your senses and connect with the natural world through a series of invitations designed to enhance your health\, wellness\, and happiness. This leisurely walk covers less then a mile of trail and allows time for reflection and connection. This walk will be led by Boothbay Region Land Trust Environmental Educator and Certified Forest Therapy Guide Tracey Hall. Registration is required for this free event\, and group size is limited to 10 people. Register by contacting Tracey at thall@bbrlt.org or 633-4818.
URL:https://bbrlt.org/event/forest-bathing-walk-2/
LOCATION:Hendricks Head Preserve
ATTACH;FMTTYPE=image/jpeg:https://bbrlt.org/wp-content/uploads/2019/08/forest-bathing.jpg
END:VEVENT
END:VCALENDAR