BEGIN:VCALENDAR
VERSION:2.0
PRODID:-//Boothbay Region Land Trust - ECPv6.15.20//NONSGML v1.0//EN
CALSCALE:GREGORIAN
METHOD:PUBLISH
X-ORIGINAL-URL:https://bbrlt.org
X-WR-CALDESC:Events for Boothbay Region Land Trust
REFRESH-INTERVAL;VALUE=DURATION:PT1H
X-Robots-Tag:noindex
X-PUBLISHED-TTL:PT1H
BEGIN:VTIMEZONE
TZID:America/New_York
BEGIN:DAYLIGHT
TZOFFSETFROM:-0500
TZOFFSETTO:-0400
TZNAME:EDT
DTSTART:20180311T070000
END:DAYLIGHT
BEGIN:STANDARD
TZOFFSETFROM:-0400
TZOFFSETTO:-0500
TZNAME:EST
DTSTART:20181104T060000
END:STANDARD
BEGIN:DAYLIGHT
TZOFFSETFROM:-0500
TZOFFSETTO:-0400
TZNAME:EDT
DTSTART:20190310T070000
END:DAYLIGHT
BEGIN:STANDARD
TZOFFSETFROM:-0400
TZOFFSETTO:-0500
TZNAME:EST
DTSTART:20191103T060000
END:STANDARD
BEGIN:DAYLIGHT
TZOFFSETFROM:-0500
TZOFFSETTO:-0400
TZNAME:EDT
DTSTART:20200308T070000
END:DAYLIGHT
BEGIN:STANDARD
TZOFFSETFROM:-0400
TZOFFSETTO:-0500
TZNAME:EST
DTSTART:20201101T060000
END:STANDARD
BEGIN:DAYLIGHT
TZOFFSETFROM:-0500
TZOFFSETTO:-0400
TZNAME:EDT
DTSTART:20210314T070000
END:DAYLIGHT
BEGIN:STANDARD
TZOFFSETFROM:-0400
TZOFFSETTO:-0500
TZNAME:EST
DTSTART:20211107T060000
END:STANDARD
BEGIN:DAYLIGHT
TZOFFSETFROM:-0500
TZOFFSETTO:-0400
TZNAME:EDT
DTSTART:20220313T070000
END:DAYLIGHT
BEGIN:STANDARD
TZOFFSETFROM:-0400
TZOFFSETTO:-0500
TZNAME:EST
DTSTART:20221106T060000
END:STANDARD
BEGIN:DAYLIGHT
TZOFFSETFROM:-0500
TZOFFSETTO:-0400
TZNAME:EDT
DTSTART:20230312T070000
END:DAYLIGHT
BEGIN:STANDARD
TZOFFSETFROM:-0400
TZOFFSETTO:-0500
TZNAME:EST
DTSTART:20231105T060000
END:STANDARD
BEGIN:DAYLIGHT
TZOFFSETFROM:-0500
TZOFFSETTO:-0400
TZNAME:EDT
DTSTART:20240310T070000
END:DAYLIGHT
BEGIN:STANDARD
TZOFFSETFROM:-0400
TZOFFSETTO:-0500
TZNAME:EST
DTSTART:20241103T060000
END:STANDARD
BEGIN:DAYLIGHT
TZOFFSETFROM:-0500
TZOFFSETTO:-0400
TZNAME:EDT
DTSTART:20250309T070000
END:DAYLIGHT
BEGIN:STANDARD
TZOFFSETFROM:-0400
TZOFFSETTO:-0500
TZNAME:EST
DTSTART:20251102T060000
END:STANDARD
BEGIN:DAYLIGHT
TZOFFSETFROM:-0500
TZOFFSETTO:-0400
TZNAME:EDT
DTSTART:20260308T070000
END:DAYLIGHT
BEGIN:STANDARD
TZOFFSETFROM:-0400
TZOFFSETTO:-0500
TZNAME:EST
DTSTART:20261101T060000
END:STANDARD
END:VTIMEZONE
BEGIN:VEVENT
DTSTART;TZID=America/New_York:20250909T100000
DTEND;TZID=America/New_York:20250909T110000
DTSTAMP:20260423T051450
CREATED:20250808T165342Z
LAST-MODIFIED:20250808T165342Z
UID:10000824-1757412000-1757415600@bbrlt.org
SUMMARY:Trail Tuesday: Gregory Hiking Trail
DESCRIPTION:Join us for Trail Tuesdays with the Boothbay Region Land Trust!  Every Tuesday at 10 AM\, we’ll gather at a different BRLT trailhead for a leisurely 1-2 mile hike\, allowing time to soak in the scenery and marvel at nature along the way. Led by a naturalist\, our walks will include occasional stops to share fascinating insights into the preserve’s ecology including the diverse plant and animal life. \nNo need to worry about advanced registration—simply lace up your sturdy shoes\, pack some water\, and meet us at the parking lot kiosk. In the event of inclement weather\, cancellations will be posted on the BRLT website 24 hours in advance. Come for one hike or join us for the entire series. We look forward to seeing you on Trail Tuesdays! \nThis week’s hike is at Gregory Hiking Trail: \nGregory Trail
URL:https://bbrlt.org/event/trail-tuesday-gregory-hiking-trail-2/
LOCATION:Gregory Hiking Trai\, 2 Sawyer's Island Rd\, Boothbay Harbor\, ME\, 04538
CATEGORIES:Discover the Preserves,Hiking,Trail Tuesdays
ATTACH;FMTTYPE=image/jpeg:https://bbrlt.org/wp-content/uploads/2022/04/Gregory-13.jpg
END:VEVENT
BEGIN:VEVENT
DTSTART;TZID=America/New_York:20250701T100000
DTEND;TZID=America/New_York:20250701T110000
DTSTAMP:20260423T051450
CREATED:20250612T172226Z
LAST-MODIFIED:20250612T172226Z
UID:10000742-1751364000-1751367600@bbrlt.org
SUMMARY:Trail Tuesday: Gregory Hiking Trail
DESCRIPTION:Join us for Trail Tuesdays with the Boothbay Region Land Trust!  Every Tuesday at 10 AM\, we’ll gather at a different BRLT trailhead for a leisurely 1-2 mile hike\, allowing time to soak in the scenery and marvel at nature along the way. Led by a naturalist\, our walks will include occasional stops to share fascinating insights into the preserve’s ecology including the diverse plant and animal life. \nNo need to worry about advanced registration—simply lace up your sturdy shoes\, pack some water\, and meet us at the parking lot kiosk. In the event of inclement weather\, cancellations will be posted on the BRLT website 24 hours in advance. Come for one hike or join us for the entire series. We look forward to seeing you on Trail Tuesdays! \nThis week’s hike is at Gregory Hiking Trail: \nGregory Trail
URL:https://bbrlt.org/event/trail-tuesday-gregory-hiking-trail/
LOCATION:Gregory Hiking Trai\, 2 Sawyer's Island Rd\, Boothbay Harbor\, ME\, 04538
CATEGORIES:Discover the Preserves,Hiking,Trail Tuesdays
ATTACH;FMTTYPE=image/jpeg:https://bbrlt.org/wp-content/uploads/2022/04/Gregory-13.jpg
END:VEVENT
BEGIN:VEVENT
DTSTART;TZID=America/New_York:20250422T100000
DTEND;TZID=America/New_York:20250422T110000
DTSTAMP:20260423T051450
CREATED:20250324T141619Z
LAST-MODIFIED:20250324T142157Z
UID:10000680-1745316000-1745319600@bbrlt.org
SUMMARY:Trail Tuesday: Gregory Hiking Trail
DESCRIPTION:Join us for Trail Tuesdays with the Boothbay Region Land Trust!  Every Tuesday at 10 AM\, we’ll gather at a different BRLT trailhead for a leisurely 1-2 mile hike\, allowing time to soak in the scenery and marvel at nature along the way. Led by a naturalist\, our walks will include occasional stops to share fascinating insights into the preserve’s ecology including the diverse plant and animal life. \nNo need to worry about advanced registration—simply lace up your sturdy shoes\, pack some water\, and meet us at the parking lot kiosk. In the event of inclement weather\, cancellations will be posted on the BRLT website 24 hours in advance. Come for one hike or join us for the entire series. We look forward to seeing you on Trail Tuesdays! \nThis week’s hike is at Gregory Hiking Trail: \nGregory Trail
URL:https://bbrlt.org/event/trail-tuesday-gregory-presesrve/
LOCATION:Gregory Hiking Trai\, 2 Sawyer's Island Rd\, Boothbay Harbor\, ME\, 04538
CATEGORIES:Discover the Preserves,Hiking,Trail Tuesdays
ATTACH;FMTTYPE=image/jpeg:https://bbrlt.org/wp-content/uploads/2022/04/Gregory-13.jpg
END:VEVENT
BEGIN:VEVENT
DTSTART;TZID=America/New_York:20241210T100000
DTEND;TZID=America/New_York:20241210T110000
DTSTAMP:20260423T051450
CREATED:20241202T010151Z
LAST-MODIFIED:20241209T115404Z
UID:10000668-1733824800-1733828400@bbrlt.org
SUMMARY:WEATHER CANCELATION: Trail Tuesday: Gregory Preserve
DESCRIPTION:***DUE TO THE WINTER STORM ADVISORY AND FORECAST FOR CHALLENGING TRAVEL CONDITIONS\, THIS HIKE HAS BEEN CANCELED.***Join us for Trail Tuesdays with the Boothbay Region Land Trust!  Every Tuesday at 10 AM\, we’ll gather at a different BRLT trailhead for a leisurely 1-2 mile hike\, allowing time to soak in the scenery and marvel at nature along the way. Led by a naturalist\, our walks will include occasional stops to share fascinating insights into the preserve’s ecology including the diverse plant and animal life. \nNo need to worry about advanced registration—simply lace up your sturdy shoes\, pack some water\, and meet us at the parking lot kiosk. In the event of inclement weather\, cancellations will be posted on the BRLT website 24 hours in advance. Come for one hike or join us for the entire series. We look forward to seeing you on Trail Tuesdays! \nThis week’s hike is at Gregory Preserve: \nGregory Trail
URL:https://bbrlt.org/event/trail-tuesday-gregory-preserve/
LOCATION:Gregory Hiking Trai\, 2 Sawyer's Island Rd\, Boothbay Harbor\, ME\, 04538
CATEGORIES:Discover the Preserves,Hiking,Trail Tuesdays
ATTACH;FMTTYPE=image/jpeg:https://bbrlt.org/wp-content/uploads/2022/04/Gregory-13.jpg
END:VEVENT
BEGIN:VEVENT
DTSTART;TZID=America/New_York:20220708T100000
DTEND;TZID=America/New_York:20220708T110000
DTSTAMP:20260423T051450
CREATED:20220628T011434Z
LAST-MODIFIED:20220628T011434Z
UID:10000055-1657274400-1657278000@bbrlt.org
SUMMARY:Gregory Preserve Hike
DESCRIPTION:Discover the history and ecology of Gregory Preserve during a leisurely one mile hike with Boothbay Region Land Trust Environmental Educator Tracey Hall. This loop trail ventures through a varied woodland with lengthy frontage on the Back River\, an eastern branch of the Sheepscot River. Hikers can enjoy walking around a small pond bordered by wildflowers and edged with cattails. Bullfrogs and dragonflies revel in this natural habitat\, as well as deer\, small mammals\, and a variety of birds. Group is limited to 15 participants with registration required by filling out the form below: \n\n	Notice: JavaScript is required for this content.
URL:https://bbrlt.org/event/gregory-preserve-hike-2/
LOCATION:Gregory Hiking Trai\, 2 Sawyer's Island Rd\, Boothbay Harbor\, ME\, 04538
CATEGORIES:Discover the Preserves,Natural History,Summer Camps
ATTACH;FMTTYPE=image/jpeg:https://bbrlt.org/wp-content/uploads/2019/06/gregory-header.jpg
END:VEVENT
BEGIN:VEVENT
DTSTART;TZID=America/New_York:20211108T100000
DTEND;TZID=America/New_York:20211108T110000
DTSTAMP:20260423T051450
CREATED:20211022T150403Z
LAST-MODIFIED:20211022T150403Z
UID:10000146-1636365600-1636369200@bbrlt.org
SUMMARY:Gregory Preserve Hike
DESCRIPTION:Discover the history and ecology of Gregory Preserve during a leisurely one mile hike with Boothbay Region Land Trust Environmental Educator Tracey Hall. This loop trail ventures through a varied woodland with lengthy frontage on the Back River\, an eastern branch of the Sheepscot River. Hikers can enjoy walking around a small pond bordered by wildflowers and edged with cattails. Bullfrogs and dragonflies revel in this natural habitat\, as well as deer\, small mammals\, and a variety of birds. Group is limited to 10 participants with the walk to follow current CDC Covid guidelines for outside gatherings. Registration is required by contacting Tracey at thall@bbrlt.org or 633-4818.
URL:https://bbrlt.org/event/gregory-preserve-hike/
LOCATION:Gregory Hiking Trai\, 2 Sawyer's Island Rd\, Boothbay Harbor\, ME\, 04538
CATEGORIES:Discover the Preserves,Fall Events,Natural History
ATTACH;FMTTYPE=image/jpeg:https://bbrlt.org/wp-content/uploads/2019/06/gregory-header.jpg
END:VEVENT
BEGIN:VEVENT
DTSTART;TZID=America/New_York:20201026T100000
DTEND;TZID=America/New_York:20201026T110000
DTSTAMP:20260423T051450
CREATED:20201013T174345Z
LAST-MODIFIED:20201013T181751Z
UID:10000004-1603706400-1603710000@bbrlt.org
SUMMARY:Discover the Preserves: Gregory
DESCRIPTION:Discover the history and ecology of the Boothbay Region Land Trust preserves in our series of guided nature hikes that follow Covid safety guidelines. Join BRLT Environmental Educator Tracey Hall on a leisurely paced walk averaging one or two miles in length on easy to moderate terrain. Learn about the origin of the BRLT preserves and the plants and animals that call them home. Locations rotate among the preserves\, and participants may attend one hike or several. Each hike is limited to 10 people with masks and registration required. To register\, contact BRLT Environmental Educator Tracey Hall at thall@bbrlt.org or 633-4818.
URL:https://bbrlt.org/event/discover-the-preserves-gregory/
LOCATION:Gregory Hiking Trai\, 2 Sawyer's Island Rd\, Boothbay Harbor\, ME\, 04538
CATEGORIES:Discover the Preserves,Fall Events,Family Friendly
ATTACH;FMTTYPE=image/jpeg:https://bbrlt.org/wp-content/uploads/2020/10/IMG_2416-scaled-e1602613060235.jpg
END:VEVENT
BEGIN:VEVENT
DTSTART;TZID=America/New_York:20190625T100000
DTEND;TZID=America/New_York:20190625T110000
DTSTAMP:20260423T051450
CREATED:20190620T214615Z
LAST-MODIFIED:20190626T180405Z
UID:10000099-1561456800-1561460400@bbrlt.org
SUMMARY:Trail Mixer
DESCRIPTION:Discover the Boothbay Region Land Trust preserves and meet fellow hikers! These reoccurring walks highlight subtle changes through the seasons\, while allowing plenty of time to enjoy vistas and conversation. Our knowledgeable volunteers lead participants on a leisurely paced hike averaging one or two miles in length on easy to moderate terrain. Trail mixer locations rotate among the preserves of our region. Participants may attend one hike or several. The group meets at the trail-head parking lot and registration is not required. For more information\, contact BRLT Environmental Educator Tracey Hall at thall@bbrlt.org or 633-4818.
URL:https://bbrlt.org/event/trail-mixer/
LOCATION:Gregory Hiking Trai\, 2 Sawyer's Island Rd\, Boothbay Harbor\, ME\, 04538
CATEGORIES:Trail Mixer
ATTACH;FMTTYPE=image/jpeg:https://bbrlt.org/wp-content/uploads/2019/06/brlt-logo-paperbg.jpg
END:VEVENT
END:VCALENDAR