BEGIN:VCALENDAR
VERSION:2.0
PRODID:-//Boothbay Region Land Trust - ECPv6.15.20//NONSGML v1.0//EN
CALSCALE:GREGORIAN
METHOD:PUBLISH
X-ORIGINAL-URL:https://bbrlt.org
X-WR-CALDESC:Events for Boothbay Region Land Trust
REFRESH-INTERVAL;VALUE=DURATION:PT1H
X-Robots-Tag:noindex
X-PUBLISHED-TTL:PT1H
BEGIN:VTIMEZONE
TZID:America/New_York
BEGIN:DAYLIGHT
TZOFFSETFROM:-0500
TZOFFSETTO:-0400
TZNAME:EDT
DTSTART:20220313T070000
END:DAYLIGHT
BEGIN:STANDARD
TZOFFSETFROM:-0400
TZOFFSETTO:-0500
TZNAME:EST
DTSTART:20221106T060000
END:STANDARD
BEGIN:DAYLIGHT
TZOFFSETFROM:-0500
TZOFFSETTO:-0400
TZNAME:EDT
DTSTART:20230312T070000
END:DAYLIGHT
BEGIN:STANDARD
TZOFFSETFROM:-0400
TZOFFSETTO:-0500
TZNAME:EST
DTSTART:20231105T060000
END:STANDARD
BEGIN:DAYLIGHT
TZOFFSETFROM:-0500
TZOFFSETTO:-0400
TZNAME:EDT
DTSTART:20240310T070000
END:DAYLIGHT
BEGIN:STANDARD
TZOFFSETFROM:-0400
TZOFFSETTO:-0500
TZNAME:EST
DTSTART:20241103T060000
END:STANDARD
END:VTIMEZONE
BEGIN:VEVENT
DTSTART;TZID=America/New_York:20230513T080000
DTEND;TZID=America/New_York:20230513T120000
DTSTAMP:20260423T080801
CREATED:20230328T182315Z
LAST-MODIFIED:20230508T133901Z
UID:10000191-1683964800-1683979200@bbrlt.org
SUMMARY:Boothbay Region Watershed Cleanup
DESCRIPTION:Do to staffing concerns at the Water District\, this event has been cancelled. \nIn honor of Drinking Water Week\, members of the Clean Drinking Water Initiative\, including Boothbay Region Land Trust\, are organizing a volunteer watershed cleanup around Adams Pond and Knickerbocker Lake. In addition to improving the beauty of our home peninsula\, cleaning up trash\, especially in the watershed of our public water supply\, will contribute to the long-term quality of our drinking water. While cleanup along the busy roadside on Rt. 27 will be overseen by water district staff\, volunteers from the land trust and other organizations will focus their efforts on quieter roads within the watershed. Let’s work together to protect the water quality of Adams Pond and Knickerbocker Lake!
URL:https://bbrlt.org/event/boothbay-region-watershed-cleanup/
LOCATION:Boothbay Region Water District\, 184 Adams Pond Rd\, Boothbay\, ME\, 04537
CATEGORIES:Clean Drinking Water Initiative,Volunteer Events
ATTACH;FMTTYPE=image/jpeg:https://bbrlt.org/wp-content/uploads/2021/11/knickercane.lowres-e1680027697445.jpg
END:VEVENT
END:VCALENDAR