BEGIN:VCALENDAR
VERSION:2.0
PRODID:-//Boothbay Region Land Trust - ECPv6.15.20//NONSGML v1.0//EN
CALSCALE:GREGORIAN
METHOD:PUBLISH
X-ORIGINAL-URL:https://bbrlt.org
X-WR-CALDESC:Events for Boothbay Region Land Trust
REFRESH-INTERVAL;VALUE=DURATION:PT1H
X-Robots-Tag:noindex
X-PUBLISHED-TTL:PT1H
BEGIN:VTIMEZONE
TZID:America/New_York
BEGIN:DAYLIGHT
TZOFFSETFROM:-0500
TZOFFSETTO:-0400
TZNAME:EDT
DTSTART:20240310T070000
END:DAYLIGHT
BEGIN:STANDARD
TZOFFSETFROM:-0400
TZOFFSETTO:-0500
TZNAME:EST
DTSTART:20241103T060000
END:STANDARD
BEGIN:DAYLIGHT
TZOFFSETFROM:-0500
TZOFFSETTO:-0400
TZNAME:EDT
DTSTART:20250309T070000
END:DAYLIGHT
BEGIN:STANDARD
TZOFFSETFROM:-0400
TZOFFSETTO:-0500
TZNAME:EST
DTSTART:20251102T060000
END:STANDARD
BEGIN:DAYLIGHT
TZOFFSETFROM:-0500
TZOFFSETTO:-0400
TZNAME:EDT
DTSTART:20260308T070000
END:DAYLIGHT
BEGIN:STANDARD
TZOFFSETFROM:-0400
TZOFFSETTO:-0500
TZNAME:EST
DTSTART:20261101T060000
END:STANDARD
END:VTIMEZONE
BEGIN:VEVENT
DTSTART;TZID=America/New_York:20251028T100000
DTEND;TZID=America/New_York:20251028T113000
DTSTAMP:20260425T125323
CREATED:20250919T124740Z
LAST-MODIFIED:20250919T124740Z
UID:10000833-1761645600-1761651000@bbrlt.org
SUMMARY:Trail Tuesday: Hike Autumn View Preserve to Appalachee Preserve
DESCRIPTION:Join us for Trail Tuesdays with the Boothbay Region Land Trust!  Every Tuesday at 10 AM\, we’ll gather at a different BRLT trailhead for a leisurely 1-2 mile hike\, allowing time to soak in the scenery and marvel at nature along the way. Led by a naturalist\, our walks will include occasional stops to share fascinating insights into the preserve’s ecology\, including the diverse plant and animal life. \nNo need to worry about advanced registration—simply lace up your sturdy shoes\, pack some water\, and meet us at the parking lot kiosk. In the event of inclement weather\, cancellations will be posted on the BRLT website 24 hours in advance. Come for one hike or join us for the entire series. We look forward to seeing you on Trail Tuesdays! \nThis week’s hike starts at Autumn View Preserve and continues onto neighboring Appalachee Preserve for a 2.5-mile walk. Autumn View is our newest preserve and is not currently listed on maps. To find the preserve\, take Route 96 from the light at Hannaford towards East Boothbay for .9 of a mile. Turn right onto Autumn View Road (formerly Giles Road). Continue down the dirt road until reaching the preserve parking lot.
URL:https://bbrlt.org/event/trail-tuesday-hike-autumn-view-preserve-to-appalachee-preserve/
LOCATION:Autumn View\, 60 Autumn View Ln\, Boothbay Harbor\, ME\, United States
CATEGORIES:Discover the Preserves,Hiking,Trail Tuesdays
ATTACH;FMTTYPE=image/jpeg:https://bbrlt.org/wp-content/uploads/2024/10/Autumn-View-Barn-Landscape-1-scaled-e1730308169553.jpg
GEO:43.861374;-69.610571
X-APPLE-STRUCTURED-LOCATION;VALUE=URI;X-ADDRESS=Autumn View 60 Autumn View Ln Boothbay Harbor ME United States;X-APPLE-RADIUS=500;X-TITLE=60 Autumn View Ln:geo:-69.610571,43.861374
END:VEVENT
BEGIN:VEVENT
DTSTART;TZID=America/New_York:20250902T100000
DTEND;TZID=America/New_York:20250902T113000
DTSTAMP:20260425T125323
CREATED:20250808T165038Z
LAST-MODIFIED:20250808T170456Z
UID:10000823-1756807200-1756812600@bbrlt.org
SUMMARY:Trail Tuesday: Hike Autumn View Preserve
DESCRIPTION:Join us for Trail Tuesdays with the Boothbay Region Land Trust!  Every Tuesday at 10 AM\, we’ll gather at a different BRLT trailhead for a leisurely 1-2 mile hike\, allowing time to soak in the scenery and marvel at nature along the way. Led by a naturalist\, our walks will include occasional stops to share fascinating insights into the preserve’s ecology\, including the diverse plant and animal life. \nNo need to worry about advanced registration—simply lace up your sturdy shoes\, pack some water\, and meet us at the parking lot kiosk. In the event of inclement weather\, cancellations will be posted on the BRLT website 24 hours in advance. Come for one hike or join us for the entire series. We look forward to seeing you on Trail Tuesdays! \nThis week’s hike is at Autumn View Preserve. This is our newest preserve and is not currently listed on maps. To find the preserve\, take Route 96 from the light at Hannaford towards East Boothbay for .9 of a mile. Turn right onto Autumn View Road (formerly Giles Road). Continue down the dirt road until reaching the preserve parking lot.
URL:https://bbrlt.org/event/trail-tuesday-hike-autumn-view-preserve/
LOCATION:Autumn View\, 60 Autumn View Ln\, Boothbay Harbor\, ME\, United States
CATEGORIES:Discover the Preserves,Hiking,Trail Tuesdays
ATTACH;FMTTYPE=image/jpeg:https://bbrlt.org/wp-content/uploads/2024/10/Autumn-View-Barn-Landscape-1-scaled-e1730308169553.jpg
GEO:43.861374;-69.610571
X-APPLE-STRUCTURED-LOCATION;VALUE=URI;X-ADDRESS=Autumn View 60 Autumn View Ln Boothbay Harbor ME United States;X-APPLE-RADIUS=500;X-TITLE=60 Autumn View Ln:geo:-69.610571,43.861374
END:VEVENT
BEGIN:VEVENT
DTSTART;TZID=America/New_York:20250822T100000
DTEND;TZID=America/New_York:20250822T113000
DTSTAMP:20260425T125323
CREATED:20250721T140521Z
LAST-MODIFIED:20250821T133117Z
UID:10000813-1755856800-1755862200@bbrlt.org
SUMMARY:Event FULL: Forest Walk & Tree Talk at Autumn View Preserve
DESCRIPTION:This event is full. Please join us for a future program. \nForest Walk & Tree Talk at Autumn View PreserveDate: Friday\, August 22ndTime: 10 AM-11:30 AMLocation: Autumn View Preserve at the end of Autumn View Lane (formerly Giles Road)\, Boothbay Harbor\, ME \nInvestigate the wonders of our local forests while exploring BRLT’s newest preserve during an informative walk with Maine Forest Service District Forester Jared Gregory. This walk will focus on tree identification\, while branching into broader topics such as forest ecology\, historical land use\, silviculture\, and wildlife habitat. Jared’s flexible\, conversational style invites questions and curiosity. This is a great opportunity to deepen your understanding of Midcoast Maine’s woodlands\, learn practical tree ID tips\, and explore one of our newest protected spaces. \nThis walk will be approximately 1 mile in length over uneven terrain. Please wear sturdy shoes and bring bottled water.
URL:https://bbrlt.org/event/forest-walk-tree-talk-at-autumn-view-preserve/
LOCATION:Autumn View\, 60 Autumn View Ln\, Boothbay Harbor\, ME\, United States
ATTACH;FMTTYPE=image/jpeg:https://bbrlt.org/wp-content/uploads/2025/07/IMG_6994.jpg
GEO:43.861374;-69.610571
X-APPLE-STRUCTURED-LOCATION;VALUE=URI;X-ADDRESS=Autumn View 60 Autumn View Ln Boothbay Harbor ME United States;X-APPLE-RADIUS=500;X-TITLE=60 Autumn View Ln:geo:-69.610571,43.861374
END:VEVENT
BEGIN:VEVENT
DTSTART;TZID=America/New_York:20250804T090000
DTEND;TZID=America/New_York:20250804T103000
DTSTAMP:20260425T125323
CREATED:20250616T132734Z
LAST-MODIFIED:20250728T201138Z
UID:10000744-1754298000-1754303400@bbrlt.org
SUMMARY:Wildflower Walk at Autumn View Preserve
DESCRIPTION:Summer brings a vibrant display of wildflowers to the meadows and woodlands of the Boothbay Region. Join botanist and BRLT volunteer Lauren Stockwell for a leisurely guided walk at our newest preserve\, Autumn View Farm. As we explore the trails\, Lauren will help participants identify a variety of common wildflowers and highlight the unique features and adaptations of each plant. \nThis is an easy-paced walk suitable for all ages with an interest in the natural world. Whether you’re new to plant identification or simply enjoy the beauty of Maine’s native flora\, this walk offers a great opportunity to deepen your appreciation of the season’s botanical wonders. \nSpace is limited and advance registration is required.Please reserve your spot by filling out the form below. \n\n	Notice: JavaScript is required for this content.
URL:https://bbrlt.org/event/wildflower-walk-at-autumn-view-preserve/
LOCATION:Autumn View\, 60 Autumn View Ln\, Boothbay Harbor\, ME\, United States
CATEGORIES:Natural History
ATTACH;FMTTYPE=image/jpeg:https://bbrlt.org/wp-content/uploads/2025/06/goldenrod-and-aster.jpg
GEO:43.861374;-69.610571
X-APPLE-STRUCTURED-LOCATION;VALUE=URI;X-ADDRESS=Autumn View 60 Autumn View Ln Boothbay Harbor ME United States;X-APPLE-RADIUS=500;X-TITLE=60 Autumn View Ln:geo:-69.610571,43.861374
END:VEVENT
BEGIN:VEVENT
DTSTART;TZID=America/New_York:20250715T100000
DTEND;TZID=America/New_York:20250715T140000
DTSTAMP:20260425T125323
CREATED:20250606T190927Z
LAST-MODIFIED:20250702T184726Z
UID:10000741-1752573600-1752588000@bbrlt.org
SUMMARY:Autumn View Open House
DESCRIPTION:Join us at our newest public nature preserve\, Autumn View\, for a first peak at this exciting property! Autumn View Preserve sits in the Meadow Brook conservation area and directly abuts two other BRLT preserves: Appalachee and Lobster Cove Meadow. This beautiful property comprises approximately 68 acres including productive wetlands that join other BRLT conservation lands to permanently protect a significant unfragmented habitat for wildlife.  This preserve has also enabled BRLT to transform public access to nature in the heart of Boothbay Harbor. Autumn View’s interconnected trails adjoin the systems at Appalachee and Lobster Cove Meadow to create the most extensive recreational trail system in Boothbay Harbor. \nEnvironmental educator\, Tracey Hall\, will lead a guided hike of the new trail system at Autumn View beginning at 10am. Shortly after the conclusion of the hike\, historian Dr. Aimée Keithan of Greater Portland Landmarks will provide a guest presentation highlighting the land’s rich history. This  event is free and open to all! \nSchedule: \n10:00 am Welcome & Introductions\n10:10-11:00am Nature Hike\n11:30-12pm History Talk with Q&A by Dr. Aimee Keithan\n12pm-2pm Staff on hand to answer questions. Visitors are invited to explore the preserve at their leisure\n2pm Event Concludes
URL:https://bbrlt.org/event/autumn-view-open-house/
LOCATION:Autumn View\, 60 Autumn View Ln\, Boothbay Harbor\, ME\, United States
CATEGORIES:Discover the Preserves,Family Friendly,Hiking,Lecture,Summer Events
ATTACH;FMTTYPE=image/jpeg:https://bbrlt.org/wp-content/uploads/2025/06/Autumn-View-Barn-Cover1-1.jpg
GEO:43.861374;-69.610571
X-APPLE-STRUCTURED-LOCATION;VALUE=URI;X-ADDRESS=Autumn View 60 Autumn View Ln Boothbay Harbor ME United States;X-APPLE-RADIUS=500;X-TITLE=60 Autumn View Ln:geo:-69.610571,43.861374
END:VEVENT
END:VCALENDAR