BEGIN:VCALENDAR
VERSION:2.0
PRODID:-//Boothbay Region Land Trust - ECPv6.15.20//NONSGML v1.0//EN
CALSCALE:GREGORIAN
METHOD:PUBLISH
X-ORIGINAL-URL:https://bbrlt.org
X-WR-CALDESC:Events for Boothbay Region Land Trust
REFRESH-INTERVAL;VALUE=DURATION:PT1H
X-Robots-Tag:noindex
X-PUBLISHED-TTL:PT1H
BEGIN:VTIMEZONE
TZID:America/New_York
BEGIN:DAYLIGHT
TZOFFSETFROM:-0500
TZOFFSETTO:-0400
TZNAME:EDT
DTSTART:20190310T070000
END:DAYLIGHT
BEGIN:STANDARD
TZOFFSETFROM:-0400
TZOFFSETTO:-0500
TZNAME:EST
DTSTART:20191103T060000
END:STANDARD
BEGIN:DAYLIGHT
TZOFFSETFROM:-0500
TZOFFSETTO:-0400
TZNAME:EDT
DTSTART:20200308T070000
END:DAYLIGHT
BEGIN:STANDARD
TZOFFSETFROM:-0400
TZOFFSETTO:-0500
TZNAME:EST
DTSTART:20201101T060000
END:STANDARD
BEGIN:DAYLIGHT
TZOFFSETFROM:-0500
TZOFFSETTO:-0400
TZNAME:EDT
DTSTART:20210314T070000
END:DAYLIGHT
BEGIN:STANDARD
TZOFFSETFROM:-0400
TZOFFSETTO:-0500
TZNAME:EST
DTSTART:20211107T060000
END:STANDARD
BEGIN:DAYLIGHT
TZOFFSETFROM:-0500
TZOFFSETTO:-0400
TZNAME:EDT
DTSTART:20220313T070000
END:DAYLIGHT
BEGIN:STANDARD
TZOFFSETFROM:-0400
TZOFFSETTO:-0500
TZNAME:EST
DTSTART:20221106T060000
END:STANDARD
END:VTIMEZONE
BEGIN:VEVENT
DTSTART;TZID=America/New_York:20210918T160000
DTEND;TZID=America/New_York:20210918T173000
DTSTAMP:20260423T013833
CREATED:20210820T204745Z
LAST-MODIFIED:20210916T173601Z
UID:10000138-1631980800-1631986200@bbrlt.org
SUMMARY:2021 Annual Membership Meeting
DESCRIPTION:[vc_row type=”in_container” full_screen_row_position=”middle” scene_position=”center” text_color=”dark” text_align=”left” overlay_strength=”0.3″ shape_divider_position=”bottom” bg_image_animation=”none”][vc_column column_padding=”no-extra-padding” column_padding_position=”all” background_color_opacity=”1″ background_hover_color_opacity=”1″ column_link_target=”_self” column_shadow=”none” column_border_radius=”none” width=”1/1″ tablet_width_inherit=”default” tablet_text_alignment=”default” phone_text_alignment=”default” column_border_width=”none” column_border_style=”solid” bg_image_animation=”none”][vc_column_text]\nAnnual Membership Meeting\nSaturday\, September 18\, 2021\n4:00-5:30 pm live on Zoom \nRegistration required! \nJoin us live on Zoom for an evening of reconnecting with Boothbay Region Land Trust members and friends.  \nThe evening’s featured speaker will be Dr. Heather Goldstone\, Chief Communications Officer for Woodwell Climate Research Center. Dr. Goldstone will present on: \nThree Things You Should Know About Climate Change (but probably didn’t)\nFollowing Dr. Goldstone\, we will share the year-in-review\, which will highlight the work and accomplishments of BRLT. The evening will conclude with a short business meeting including voting on the Board slate. \nDr. Heather Goldstone oversees Woodwell Climate Research Center’s communications activities\, bringing the rich stories of Woodwell scientists to diverse public audiences. Dr. Goldstone has extensive experience as both a scientist and a journalist\, and she is passionate about melding data and narrative in climate change stories that build awareness and inspire action. \nDr. Goldstone came to Woodwell Climate from WGBH\, where she founded and hosted a weekly science-focused radio show\, Living Lab Radio. Previously\, she wrote the Climatide blog about coastal communities facing climate change. Her extensive reporting on science and the environment has appeared in outlets ranging from Cape Cod Times and Commercial Fishery News to NPR’s Morning Edition\, The Takeaway\, and PBS News Hour. In 2014\, she was recognized for the breadth of her work with WGBH’s Margret and Hans Rey/Curious George Producer award. \nDr. Goldstone fell in love with the ocean as a child\, and pursued a career in marine research before discovering a passion for science communication. She serves on the Woods Hole Sea Grant Marine Outreach Guidance Group\, is deeply involved in supporting local public schools\, and frequently teaches or mentors students in communication skills. \nVoting:\nNew Board Nominees:\nPenny is a native Floridian who spent her youth enjoying the beaches\, waterways\, and nature preserves between West Palm and Miami Beach. Ms. Pollard enjoyed a career as a health policy analyst and served for many years in the Office of the Assistant Secretary of Health at the U.S. Department of Health and Human Services\, the Office of Technology Assessment of the U.S. Congress\, and in the private sector at The Lewin Group.  Earlier in her career Ms. Pollard developed and oversaw the graduate program for Pediatric Nurse Practitioners at Catholic University in Washington\, DC\, and previously was a Public Health Nurse for the City of Boston.  Ms. Pollard graduated from the University of Michigan with a Bachelors of Science; she also holds a Master of Science from Boston College\, and a Master of Business Administration from the University of Pennsylvania\, Wharton School of Business (with concentrations in Finance and Marketing).  She is treasurer of the Smithsonian Women’s Committee and is a docent at the Hillwood Estate Museum and Gardens and the Textile Museum in D.C..  Locally\, she has served as a flag officer of the Southport Yacht Club and on the Boards of the Coastal Maine Botanical Gardens and the Friends of Burnt Island Light. \n\nRenewing Board Members (Second Term):\nValerie Young \nKathleen Kennedy \nMargaret Reiser \nBoard Officers:\nJohn Welsh (President) \nRob Wheeler (Vice President) \nValerie Young (Treasurer) \nKathleen Kennedy (Secretary) \nVoting will take place during the presentation. All members are welcome at this free\, virtual event. Registration is required to receive the zoom link.[/vc_column_text][/vc_column][/vc_row]
URL:https://bbrlt.org/event/2021-annual-membership-meeting/
CATEGORIES:Fall Events
ATTACH;FMTTYPE=image/jpeg:https://bbrlt.org/wp-content/uploads/2021/08/OPF-Annual-Meeting-2-e1632332812345.jpg
ORGANIZER;CN="Boothbay Region Land Trust":MAILTO:thall@bbrlt.org
END:VEVENT
BEGIN:VEVENT
DTSTART;TZID=America/New_York:20210430T100000
DTEND;TZID=America/New_York:20210430T110000
DTSTAMP:20260423T013833
CREATED:20210326T135822Z
LAST-MODIFIED:20210331T152435Z
UID:10000115-1619776800-1619780400@bbrlt.org
SUMMARY:Salamanders and Algae: From Roommates to Intimate Partners
DESCRIPTION:Each spring the vernal pools throughout our region host a flurry of activity just below the surface. Amphibians meet in these locations to reproduce\, leaving behind their eggs and offspring. Dr. John Burns of Bigelow Laboratory for Ocean Sciences visits our local vernal pools to study the symbiotic relationship between algae and spotted salamander eggs and larva. Join us to learn about his work through an online presentation on Friday April 30th at 10 AM hosted by the Boothbay Region Land Trust. Yellow spotted salamanders migrate en masse to vernal pools to mate and lay eggs\, which swell to form a dense jelly mass holding around 100 embryos each. These eggs and embryos are colonized by a tiny green alga\, which have adapted to one another to both benefit from this arrangement. Alga invades the baby salamander tissues and cells forming the only known such association in any vertebrate. In this talk\, Burns will speak about the salamander-alga association and discuss the context of why it is currently under intense scrutiny. The uniqueness of the interaction has implications for the development of our own adaptive immune systems. John Burns is a senior research scientist working at the Bigelow Laboratory for Ocean Sciences. He received his bachelor’s degree in geoscience from Franklin and Marshall College in Lancaster\, Pennsylvania\, and a master’s and Ph.D. in molecular biology from New York University. He spent five years broadening his horizons working on evolutionary biology and symbioses involving protists and algae at the American Museum of Natural History in New York before starting his own research group in Maine. Today he continues to work on symbiotic interactions\, how DNA codes the shapes of cells\, and how genetic patterns influence microbe functions in the world’s oceans. To register and receive the link for this online zoom presentation\, please click on the website link or paste the following in your browser: https://us02web.zoom.us/webinar/register/WN_ncMsSjpRSGKxWQ26PsCF9g
URL:https://bbrlt.org/event/salamanders-and-algae-from-roommates-to-intimate-partners/
LOCATION:Online
ATTACH;FMTTYPE=image/jpeg:https://bbrlt.org/wp-content/uploads/2021/03/Spotted-Salamander-Egg-masses-by-John-Burns.jpg
ORGANIZER;CN="Boothbay Region Land Trust":MAILTO:thall@bbrlt.org
END:VEVENT
BEGIN:VEVENT
DTSTART;TZID=America/New_York:20210331T100000
DTEND;TZID=America/New_York:20210331T113000
DTSTAMP:20260423T013833
CREATED:20210302T162801Z
LAST-MODIFIED:20210302T162801Z
UID:10000113-1617184800-1617190200@bbrlt.org
SUMMARY:Landscape Conservation Certification Program
DESCRIPTION:Interested in practicing conservation in your own backyard? Join us for an online zoom presentation to learn about the newly developed Certification Program for Conservation Landscapes offered locally by the Knox-Lincoln Soil Water Conservation District. This program will help you implement recommended conservation practices in a systematic way\, with guidance and ideas from KLSWCD staff and one-on-one help on your property. It is also a chance to measure your progress and share ideas and practices with your neighbors\, friends and family. Residents who complete the Conservation Landscape Certification receive a certificate and document that can support other conservation work they are doing\, such as working with the NRCS or state agencies. You can post sign indicating your property is certified\, which is a great way to start conversations with others about your efforts. But it’s likely your own immediate reward will be the chance to watch birds and wildlife inhabiting your land\, feeding\, and raising young\, and seeing beautiful changes in the landscape. To register and receive the link for this online zoom presentation\, please click on the website link below or paste the following in your browser:\nhttps://us02web.zoom.us/meeting/register/tZcqdeCvrj0iH9fwE-Hw19XYeLHHD_OUCKjc
URL:https://bbrlt.org/event/landscape-conservation-certification-program/
LOCATION:Online
CATEGORIES:Classes,Conservation,Lecture,Spring Events
ATTACH;FMTTYPE=image/jpeg:https://bbrlt.org/wp-content/uploads/2020/09/Black-and-Yellow-Garden-Spider-rotated.jpg
ORGANIZER;CN="Boothbay Region Land Trust":MAILTO:thall@bbrlt.org
END:VEVENT
BEGIN:VEVENT
DTSTART;TZID=America/New_York:20200926T163000
DTEND;TZID=America/New_York:20200926T173000
DTSTAMP:20260423T013833
CREATED:20200828T163330Z
LAST-MODIFIED:20200828T181057Z
UID:10000002-1601137800-1601141400@bbrlt.org
SUMMARY:Annual Membership Meeting
DESCRIPTION:[vc_row type=”in_container” full_screen_row_position=”middle” scene_position=”center” text_color=”dark” text_align=”left” overlay_strength=”0.3″ shape_divider_position=”bottom” bg_image_animation=”none”][vc_column column_padding=”no-extra-padding” column_padding_position=”all” background_color_opacity=”1″ background_hover_color_opacity=”1″ column_link_target=”_self” column_shadow=”none” column_border_radius=”none” width=”1/1″ tablet_width_inherit=”default” tablet_text_alignment=”default” phone_text_alignment=”default” column_border_width=”none” column_border_style=”solid” bg_image_animation=”none”][vc_column_text]\nBoothbay Region Land Trust’s\nVirtual Annual Membership Meeting\nJoin us during cocktail hour from the comfort of your own home. This live streamed event will include: \n\nA short BRLT film premier\nLive speakers\nThe year in review report\nMembership vote for new board member nominees\n\nAttendees will also enjoy a a special visual look back at 40 years at Boothbay Region Land Trust. See and remember the members\, volunteers and donors who made Boothbay Region Land Trust the organization it is today! \nThe Annual Membership Meeting is open to all members of Boothbay Region Land Trust. Members include any person or business that has made a donation to the land trust in a one-year period. \nAttendance is free to all!\n \nPlease stay tuned for more details. Mailed invites to all members will provide instructions for connecting to this virtual event or check back here for more information as it becomes available.\n[/vc_column_text][/vc_column][/vc_row]
URL:https://bbrlt.org/event/2020-annual-membership-meeting/
CATEGORIES:Fall Events
ATTACH;FMTTYPE=image/jpeg:https://bbrlt.org/wp-content/uploads/2020/08/Landscape-e1598630704841.jpg
ORGANIZER;CN="Boothbay Region Land Trust":MAILTO:thall@bbrlt.org
END:VEVENT
BEGIN:VEVENT
DTSTART;VALUE=DATE:20200801
DTEND;VALUE=DATE:20200901
DTSTAMP:20260423T013833
CREATED:20200731T132045Z
LAST-MODIFIED:20200731T132045Z
UID:10000049-1596240000-1598918399@bbrlt.org
SUMMARY:Self-Guided Forest Bathing Walk
DESCRIPTION:During this time of social distancing\, Boothbay Region Land Trust is offering a self-guided forest bathing walk at Hendricks Head Hiking Trail. Forest bathing is the practice of spending time in woods for the purpose of enhancing health\, wellness\, and happiness. Connect to the outdoors as you follow the forest bathing invitations mounted on posts spaced along the trail. The invitations offer gentle opportunities to build your sensory awareness while exploring your natural surroundings. This leisurely walk covers less then a mile of moderate terrain and was designed by certified forest therapy guide and BRLT environmental educator Tracey Hall. It is open during daylight hours for the month of August with parking available at Hendrick’s Head Beach.  Please practice social distancing as you walk and enjoy your time in the forest. \n  \n 
URL:https://bbrlt.org/event/self-guided-forest-bathing-walk/
LOCATION:Hendricks Head Preserve
CATEGORIES:Forest Bathing,Summer Events
ATTACH;FMTTYPE=image/jpeg:https://bbrlt.org/wp-content/uploads/2020/06/Tree-Image-2-e1596201539206.jpg
ORGANIZER;CN="Boothbay Region Land Trust":MAILTO:thall@bbrlt.org
END:VEVENT
END:VCALENDAR