BEGIN:VCALENDAR
VERSION:2.0
PRODID:-//Boothbay Region Land Trust - ECPv6.15.20//NONSGML v1.0//EN
CALSCALE:GREGORIAN
METHOD:PUBLISH
X-ORIGINAL-URL:https://bbrlt.org
X-WR-CALDESC:Events for Boothbay Region Land Trust
REFRESH-INTERVAL;VALUE=DURATION:PT1H
X-Robots-Tag:noindex
X-PUBLISHED-TTL:PT1H
BEGIN:VTIMEZONE
TZID:America/New_York
BEGIN:DAYLIGHT
TZOFFSETFROM:-0500
TZOFFSETTO:-0400
TZNAME:EDT
DTSTART:20250309T070000
END:DAYLIGHT
BEGIN:STANDARD
TZOFFSETFROM:-0400
TZOFFSETTO:-0500
TZNAME:EST
DTSTART:20251102T060000
END:STANDARD
BEGIN:DAYLIGHT
TZOFFSETFROM:-0500
TZOFFSETTO:-0400
TZNAME:EDT
DTSTART:20260308T070000
END:DAYLIGHT
BEGIN:STANDARD
TZOFFSETFROM:-0400
TZOFFSETTO:-0500
TZNAME:EST
DTSTART:20261101T060000
END:STANDARD
BEGIN:DAYLIGHT
TZOFFSETFROM:-0500
TZOFFSETTO:-0400
TZNAME:EDT
DTSTART:20270314T070000
END:DAYLIGHT
BEGIN:STANDARD
TZOFFSETFROM:-0400
TZOFFSETTO:-0500
TZNAME:EST
DTSTART:20271107T060000
END:STANDARD
END:VTIMEZONE
BEGIN:VEVENT
DTSTART;TZID=America/New_York:20260311T153000
DTEND;TZID=America/New_York:20260311T163000
DTSTAMP:20260423T100733
CREATED:20260130T210312Z
LAST-MODIFIED:20260310T115042Z
UID:10000848-1773243000-1773246600@bbrlt.org
SUMMARY:Event Full: Owls of Maine: Habits and Adaptations of Maine's Native Owls
DESCRIPTION:***this event has reached capacity. Send an email to thall@bbrlt.org to be placed on a waiting list*** All ages are welcome to join Boothbay Region Land Trust at Oak Point Farm for a cozy\, indoor owl program with Chewonki and one of their live owls. Held in the farmhouse\, this engaging experience invites participants\, young and old\, to discover the owls native to Maine. Through slides and owl calls\, you’ll learn how to identify different species by sight and sound. Hands-on learning tools—like wings\, feathers\, talons\, and skulls—help bring owl adaptations to life and reveal how these incredible birds hunt and thrive at night. The program concludes with a memorable\, up-close look at a live owl\, offering a rare chance to connect with these mysterious creatures of the night.
URL:https://bbrlt.org/event/owls-of-maine-habits-and-adaptations-of-maines-native-owls-2/
LOCATION:Boothbay Region Land Trust’s Oak Point Farm\, 60 Samoset Rd\, Boothbay Harbor\, ME\, 04538
CATEGORIES:Birding,Classes,Family Friendly,Lecture,Natural History
ATTACH;FMTTYPE=image/jpeg:https://bbrlt.org/wp-content/uploads/2023/02/istockphoto-531790598-612x612-1.jpg
END:VEVENT
BEGIN:VEVENT
DTSTART;TZID=America/New_York:20260319T100000
DTEND;TZID=America/New_York:20260319T110000
DTSTAMP:20260423T100733
CREATED:20260130T214827Z
LAST-MODIFIED:20260226T151654Z
UID:10000849-1773914400-1773918000@bbrlt.org
SUMMARY:Community Detectors: Invasive Tree Pests to Know
DESCRIPTION:Invasive forest pests pose a growing threat to Maine’s woodlands\, neighborhoods\, and beloved backyard trees—and local residents are often the first to notice when something isn’t right. \nJoin the Boothbay Region Land Trust and the Knox-Lincoln Soil & Water Conservation District for an informative and engaging program that will help you learn how to spot invasive tree pests before they spread. Participants will be introduced to several high-priority invasive insects\, the signs of infestation to watch for\, and what steps to take if you suspect a problem. \nWhether you spend time hiking our trails\, caring for your property\, or simply enjoying Maine’s forests\, this program will empower you to play an important role in protecting our local landscape. \nThis program is funded by a grant from USDA-APHIS. \nThis indoor program has limited space\, so advance registration is required. Please register using the form below: \n\n	Notice: JavaScript is required for this content.
URL:https://bbrlt.org/event/community-detectors-invasive-tree-pests-to-know/
LOCATION:Boothbay Region Land Trust’s Oak Point Farm\, 60 Samoset Rd\, Boothbay Harbor\, ME\, 04538
ATTACH;FMTTYPE=image/jpeg:https://bbrlt.org/wp-content/uploads/2026/01/Euproctis_chrysorrhoea_1.jpg
END:VEVENT
BEGIN:VEVENT
DTSTART;TZID=America/New_York:20260326T120000
DTEND;TZID=America/New_York:20260326T130000
DTSTAMP:20260423T100733
CREATED:20260316T161230Z
LAST-MODIFIED:20260316T163755Z
UID:10000860-1774526400-1774530000@bbrlt.org
SUMMARY:Midday Books at Oak Point Farm
DESCRIPTION:The March meeting will discuss: \nLongitude \nby Dava Sobel \n——— \nOffered in collaboration with Boothbay Harbor Memorial Library\, this book group focuses on the fascinating world of nonfiction science. Meetings take place on the 4th Thursday of the month at noon at Oak Point Farm to discuss the selected book of the month. New members are welcome! \nFor more information\, including the monthly book selection\, contact Bethany Schmidt of Boothbay Harbor Memorial Library at 207-633-3112 or at tech@bbhlibrary.org.
URL:https://bbrlt.org/event/midday-books-at-oak-point-farm-march-2026/
LOCATION:Boothbay Region Land Trust’s Oak Point Farm\, 60 Samoset Rd\, Boothbay Harbor\, ME\, 04538
CATEGORIES:Book Club
ATTACH;FMTTYPE=image/jpeg:https://bbrlt.org/wp-content/uploads/2026/03/Longitude.jpg
END:VEVENT
END:VCALENDAR