BEGIN:VCALENDAR
VERSION:2.0
PRODID:-//Boothbay Region Land Trust - ECPv6.15.20//NONSGML v1.0//EN
CALSCALE:GREGORIAN
METHOD:PUBLISH
X-WR-CALNAME:Boothbay Region Land Trust
X-ORIGINAL-URL:https://bbrlt.org
X-WR-CALDESC:Events for Boothbay Region Land Trust
REFRESH-INTERVAL;VALUE=DURATION:PT1H
X-Robots-Tag:noindex
X-PUBLISHED-TTL:PT1H
BEGIN:VTIMEZONE
TZID:America/New_York
BEGIN:DAYLIGHT
TZOFFSETFROM:-0500
TZOFFSETTO:-0400
TZNAME:EDT
DTSTART:20250309T070000
END:DAYLIGHT
BEGIN:STANDARD
TZOFFSETFROM:-0400
TZOFFSETTO:-0500
TZNAME:EST
DTSTART:20251102T060000
END:STANDARD
BEGIN:DAYLIGHT
TZOFFSETFROM:-0500
TZOFFSETTO:-0400
TZNAME:EDT
DTSTART:20260308T070000
END:DAYLIGHT
BEGIN:STANDARD
TZOFFSETFROM:-0400
TZOFFSETTO:-0500
TZNAME:EST
DTSTART:20261101T060000
END:STANDARD
BEGIN:DAYLIGHT
TZOFFSETFROM:-0500
TZOFFSETTO:-0400
TZNAME:EDT
DTSTART:20270314T070000
END:DAYLIGHT
BEGIN:STANDARD
TZOFFSETFROM:-0400
TZOFFSETTO:-0500
TZNAME:EST
DTSTART:20271107T060000
END:STANDARD
END:VTIMEZONE
BEGIN:VEVENT
DTSTART;VALUE=DATE:20260201
DTEND;VALUE=DATE:20260301
DTSTAMP:20260423T112906
CREATED:20260201T172937Z
LAST-MODIFIED:20260203T194456Z
UID:10000851-1769904000-1772323199@bbrlt.org
SUMMARY:Self-Guided Winter Tree Identification Walk
DESCRIPTION:From textured bark to tiny twigs and tree silhouettes etched against a winter sky\, late winter is a wonderful time to sharpen your tree identification skills. This self-guided\, one-mile walk invites you to explore the woods and learn how to identify trees without their leaves by focusing on bark patterns and textures\, buds and leaf scars\, overall tree shape\, and habitat. \nAlong the wooded trail—ending with scenic views of the Cross River—you’ll encounter more than a dozen native tree species. Begin your walk by picking up a winter tree identification pamphlet at the Cross River Preserve parking lot kiosk\, then follow the trail to find the individually marked trees featured in the guide. \nThe trail is open during daylight hours throughout the month of February at Cross River Preserve. \nPlease note that winter hiking conditions may be present. Sturdy boots with traction devices are strongly recommended\, and depending on snow depth\, snowshoes may be required. Conditions can change quickly—participants are encouraged to monitor local weather and trail conditions or call the Boothbay Region Land Trust office at 633-4818 for the most up-to-date hiking information before heading out.
URL:https://bbrlt.org/event/self-guided-winter-tree-identification-walk-7/
LOCATION:Cross River Preserve
ATTACH;FMTTYPE=image/jpeg:https://bbrlt.org/wp-content/uploads/2022/01/2021-01-31-14.21.20-scaled.jpg
END:VEVENT
BEGIN:VEVENT
DTSTART;TZID=America/New_York:20260226T120000
DTEND;TZID=America/New_York:20260226T130000
DTSTAMP:20260423T112906
CREATED:20251121T182312Z
LAST-MODIFIED:20260203T195236Z
UID:10000846-1772107200-1772110800@bbrlt.org
SUMMARY:Midday Books at Oak Point Farm
DESCRIPTION:The February meeting will discuss: \nUnder a White Sky: The Nature of the Future \nby Elizabeth Kolbert \n——— \nOffered in collaboration with Boothbay Harbor Memorial Library\, this book group focuses on the fascinating world of nonfiction science. Meetings take place on the 4th Thursday of the month at noon at Oak Point Farm to discuss the selected book of the month. New members are welcome! \nFor more information\, including the monthly book selection\, contact Bethany Schmidt of Boothbay Harbor Memorial Library at 207-633-3112 or at tech@bbhlibrary.org.
URL:https://bbrlt.org/event/midday-books-at-oak-point-farm-5/
LOCATION:Boothbay Region Land Trust’s Oak Point Farm\, 60 Samoset Rd\, Boothbay Harbor\, ME\, 04538
CATEGORIES:Book Club
ATTACH;FMTTYPE=image/jpeg:https://bbrlt.org/wp-content/uploads/2025/11/under-the-white-sky-e1770148264794.jpg
END:VEVENT
BEGIN:VEVENT
DTSTART;TZID=America/New_York:20260228T100000
DTEND;TZID=America/New_York:20260228T120000
DTSTAMP:20260423T112907
CREATED:20260106T155023Z
LAST-MODIFIED:20260223T174738Z
UID:10000847-1772272800-1772280000@bbrlt.org
SUMMARY:Within the Whale: Step Inside a Life-size Inflatable Humpback Whale!
DESCRIPTION:NOTICE: This Event has been postponed due to weather conditions and rescheduled for February 28 from 10am-12pm. \nJoin Boothbay Region Land Trust and our partners\, Bigelow Laboratory for Ocean Sciences and Boothbay Harbor Memorial Library for an unforgettable journey inside a whale. Experience science in a spectacular way by stepping inside “Chunk\,” a life-size\, inflatable humpback whale\, and embark on an immersive journey through the wonders of whale anatomy and ocean ecology. This unique experience is part of the nationally recognized Within the Whale program\, designed and guided by award-winning wildlife educator Jessica Woodend\, creator of this one-of-a-kind marine science adventure. \nInside the whale\, participants of all ages will explore 3D anatomical features and learn engaging facts about humpbacks and marine ecosystems — a perfect blend of fun and science that connects people directly with the ocean world. All three host organizations will have additional activities on hand. This is a great way to get out with the whole family during February break. This event is free and no registration is required. \nLooking for sensory-friendly options for this event? Please contact Bethany Schmidt at tech@bbhlibrary.org for information.
URL:https://bbrlt.org/event/within-the-whale-step-inside-a-life-size-inflatable-humpback-whale/
LOCATION:Bigelow Laboratory for Ocean Sciences
ATTACH;FMTTYPE=image/png:https://bbrlt.org/wp-content/uploads/2026/01/Within-the-Whale.png
END:VEVENT
END:VCALENDAR