BEGIN:VCALENDAR
VERSION:2.0
PRODID:-//Boothbay Region Land Trust - ECPv6.15.20//NONSGML v1.0//EN
CALSCALE:GREGORIAN
METHOD:PUBLISH
X-WR-CALNAME:Boothbay Region Land Trust
X-ORIGINAL-URL:https://bbrlt.org
X-WR-CALDESC:Events for Boothbay Region Land Trust
REFRESH-INTERVAL;VALUE=DURATION:PT1H
X-Robots-Tag:noindex
X-PUBLISHED-TTL:PT1H
BEGIN:VTIMEZONE
TZID:America/New_York
BEGIN:DAYLIGHT
TZOFFSETFROM:-0500
TZOFFSETTO:-0400
TZNAME:EDT
DTSTART:20250309T070000
END:DAYLIGHT
BEGIN:STANDARD
TZOFFSETFROM:-0400
TZOFFSETTO:-0500
TZNAME:EST
DTSTART:20251102T060000
END:STANDARD
BEGIN:DAYLIGHT
TZOFFSETFROM:-0500
TZOFFSETTO:-0400
TZNAME:EDT
DTSTART:20260308T070000
END:DAYLIGHT
BEGIN:STANDARD
TZOFFSETFROM:-0400
TZOFFSETTO:-0500
TZNAME:EST
DTSTART:20261101T060000
END:STANDARD
BEGIN:DAYLIGHT
TZOFFSETFROM:-0500
TZOFFSETTO:-0400
TZNAME:EDT
DTSTART:20270314T070000
END:DAYLIGHT
BEGIN:STANDARD
TZOFFSETFROM:-0400
TZOFFSETTO:-0500
TZNAME:EST
DTSTART:20271107T060000
END:STANDARD
END:VTIMEZONE
BEGIN:VEVENT
DTSTART;TZID=America/New_York:20260319T100000
DTEND;TZID=America/New_York:20260319T110000
DTSTAMP:20260423T150234
CREATED:20260130T214827Z
LAST-MODIFIED:20260226T151654Z
UID:10000849-1773914400-1773918000@bbrlt.org
SUMMARY:Community Detectors: Invasive Tree Pests to Know
DESCRIPTION:Invasive forest pests pose a growing threat to Maine’s woodlands\, neighborhoods\, and beloved backyard trees—and local residents are often the first to notice when something isn’t right. \nJoin the Boothbay Region Land Trust and the Knox-Lincoln Soil & Water Conservation District for an informative and engaging program that will help you learn how to spot invasive tree pests before they spread. Participants will be introduced to several high-priority invasive insects\, the signs of infestation to watch for\, and what steps to take if you suspect a problem. \nWhether you spend time hiking our trails\, caring for your property\, or simply enjoying Maine’s forests\, this program will empower you to play an important role in protecting our local landscape. \nThis program is funded by a grant from USDA-APHIS. \nThis indoor program has limited space\, so advance registration is required. Please register using the form below: \n\n	Notice: JavaScript is required for this content.
URL:https://bbrlt.org/event/community-detectors-invasive-tree-pests-to-know/
LOCATION:Boothbay Region Land Trust’s Oak Point Farm\, 60 Samoset Rd\, Boothbay Harbor\, ME\, 04538
ATTACH;FMTTYPE=image/jpeg:https://bbrlt.org/wp-content/uploads/2026/01/Euproctis_chrysorrhoea_1.jpg
END:VEVENT
BEGIN:VEVENT
DTSTART;TZID=America/New_York:20260326T120000
DTEND;TZID=America/New_York:20260326T130000
DTSTAMP:20260423T150234
CREATED:20260316T161230Z
LAST-MODIFIED:20260316T163755Z
UID:10000860-1774526400-1774530000@bbrlt.org
SUMMARY:Midday Books at Oak Point Farm
DESCRIPTION:The March meeting will discuss: \nLongitude \nby Dava Sobel \n——— \nOffered in collaboration with Boothbay Harbor Memorial Library\, this book group focuses on the fascinating world of nonfiction science. Meetings take place on the 4th Thursday of the month at noon at Oak Point Farm to discuss the selected book of the month. New members are welcome! \nFor more information\, including the monthly book selection\, contact Bethany Schmidt of Boothbay Harbor Memorial Library at 207-633-3112 or at tech@bbhlibrary.org.
URL:https://bbrlt.org/event/midday-books-at-oak-point-farm-march-2026/
LOCATION:Boothbay Region Land Trust’s Oak Point Farm\, 60 Samoset Rd\, Boothbay Harbor\, ME\, 04538
CATEGORIES:Book Club
ATTACH;FMTTYPE=image/jpeg:https://bbrlt.org/wp-content/uploads/2026/03/Longitude.jpg
END:VEVENT
BEGIN:VEVENT
DTSTART;TZID=America/New_York:20260409T100000
DTEND;TZID=America/New_York:20260409T110000
DTSTAMP:20260423T150234
CREATED:20260130T220307Z
LAST-MODIFIED:20260319T130641Z
UID:10000850-1775728800-1775732400@bbrlt.org
SUMMARY:Event Full: Bird Songs and How to Remember Them
DESCRIPTION:***This event has reached capacity and we have started a waiting list. Contact Tracey at thall@bbrlt.org to be added to the waitlist*** Birdsong is the soundtrack of nature—and one of the most useful tools for identifying birds once you learn how to recognize it. \nJoin the Boothbay Region Land Trust and Maine Audubon at the farmhouse at Oak Point Farm for an engaging indoor presentation with Nick Lund\, Maine Audubon’s Advocacy and Outreach Manager. Nick will introduce participants to the different kinds of sounds birds make and share simple\, memorable techniques to help you recognize and remember the calls and songs of some of Maine’s most common bird species. \nWhether you’re new to birding\, enjoy listening on your daily walks\, or want to deepen your connection to the natural world around you\, this program will give you practical tools and a fresh appreciation for the voices of our local birds. \nThis indoor program has limited space\, so advance registration is required.
URL:https://bbrlt.org/event/bird-songs-and-how-to-remember-them/
LOCATION:Boothbay Region Land Trust’s Oak Point Farm\, 60 Samoset Rd\, Boothbay Harbor\, ME\, 04538
CATEGORIES:Birding,Classes,Lecture,Spring Events
ATTACH;FMTTYPE=image/jpeg:https://bbrlt.org/wp-content/uploads/2023/06/8DAAF60C-CB59-4652-81A2-85036EB67B4F-e1690916255969.jpeg
END:VEVENT
BEGIN:VEVENT
DTSTART;TZID=America/New_York:20260418T130000
DTEND;TZID=America/New_York:20260418T150000
DTSTAMP:20260423T150234
CREATED:20260316T182353Z
LAST-MODIFIED:20260416T204011Z
UID:10000859-1776517200-1776524400@bbrlt.org
SUMMARY:Within the Whale: Spring Break Edition!
DESCRIPTION:This event is full!\nBack by popular demand! Within the Whale proved to be so popular that the Boothbay Region Land Trust has teamed up with our partners\, Bigelow Laboratory for Ocean Sciences and Boothbay Harbor Memorial Library\, to bring the whale back! With over 300 people attending the first Within the Whale program in February\, not everyone had the chance to step inside of the life-sized inflatable humpback. “Chunk” will return to the Boothbay region to give those who missed out the opportunity to experience an unforgettable journey inside a whale. In order to avoid long waits and disappointment\, this second event will require guests to register for a specific timed-entry. \nExperience science in a spectacular way by stepping inside “Chunk\,” a life-size\, inflatable humpback whale\, and embark on an immersive journey through the wonders of whale anatomy and ocean ecology. This unique experience is part of the nationally recognized Within the Whale program\, designed and guided by award-winning wildlife educator Jessica Woodend\, creator of this one-of-a-kind marine science adventure. \nInside the whale\, participants of all ages will explore 3D anatomical features and learn engaging facts about humpbacks and marine ecosystems — a perfect blend of fun and science that connects people directly with the ocean world. \nThis event is free but registration is required below to schedule your timed entry inside the whale. As time slots fill\, they will be removed. \nThis event is full!
URL:https://bbrlt.org/event/within-the-whale-spring-break-edition/
LOCATION:Bigelow Laboratory for Ocean Sciences
ATTACH;FMTTYPE=image/png:https://bbrlt.org/wp-content/uploads/2026/01/Within-the-Whale.png
END:VEVENT
BEGIN:VEVENT
DTSTART;VALUE=DATE:20260419
DTEND;VALUE=DATE:20260601
DTSTAMP:20260423T150234
CREATED:20260414T144932Z
LAST-MODIFIED:20260414T144932Z
UID:10000870-1776556800-1780271999@bbrlt.org
SUMMARY:Story Trail: Noticing
DESCRIPTION:Read a family-friendly book while walking through the woods. Follow the illustrated signs along the trail as they tell a tale that connects you to your natural surroundings. The free 1-mile story trail starts from the Oak Point Farm parking lot kiosk and can be completed at your own pace and on your own time. The current story trail features the read-aloud book “Noticing\,” written by Kobi Yamada and illustrated by Elise Hurst. \nThis is a story about noticing the little things\, the grand big things\, the imaginary\, and sometimes\, hidden things. It is about embracing what’s possible. And that the incredible is everywhere\, and in everything–waiting to be known\, discovered\, recognized.\nThis beautiful tale by New York Times best-selling author Kobi Yamada and illustrator Elise Hurst encourages readers of all ages to slow down and look at the world with their hearts–to use their imagination to expand their vision. A companion to the beloved children’s book Trying\, Noticing follows a young girl and an accomplished painter as they learn to observe the beauty and magic in each day. It’s a story that will encourage you to pay attention\, to make new discoveries\, and to explore the unknown. And it’s also an invitation to look within\, to your own hopes and dreams\, and perhaps to discover even more.
URL:https://bbrlt.org/event/story-trail-noticing/
LOCATION:Boothbay Region Land Trust’s Oak Point Farm\, 60 Samoset Rd\, Boothbay Harbor\, ME\, 04538
CATEGORIES:Family Friendly,Story Trail
ATTACH;FMTTYPE=image/jpeg:https://bbrlt.org/wp-content/uploads/2026/04/noticing.jpg
END:VEVENT
BEGIN:VEVENT
DTSTART;TZID=America/New_York:20260423T120000
DTEND;TZID=America/New_York:20260423T130000
DTSTAMP:20260423T150234
CREATED:20260331T185250Z
LAST-MODIFIED:20260406T180920Z
UID:10000862-1776945600-1776949200@bbrlt.org
SUMMARY:Midday Books at Oak Point Farm
DESCRIPTION:The April meeting will discuss: \nRefuge: An Unnatural History of Family and Place \nby Terry Tempest Williams \n——— \nOffered in collaboration with Boothbay Harbor Memorial Library\, this book group focuses on the fascinating world of nonfiction science. Meetings take place on the 4th Thursday of the month at noon at Oak Point Farm to discuss the selected book of the month. New members are welcome! \nFor more information\, including the monthly book selection\, contact Bethany Schmidt of Boothbay Harbor Memorial Library at 207-633-3112 or at tech@bbhlibrary.org.
URL:https://bbrlt.org/event/midday-books-at-oak-point-farm-april-2026/
LOCATION:Boothbay Region Land Trust’s Oak Point Farm\, 60 Samoset Rd\, Boothbay Harbor\, ME\, 04538
CATEGORIES:Book Club
ATTACH;FMTTYPE=image/jpeg:https://bbrlt.org/wp-content/uploads/2026/03/Refuge-e1775497569114.jpg
END:VEVENT
BEGIN:VEVENT
DTSTART;TZID=America/New_York:20260424T090000
DTEND;TZID=America/New_York:20260424T120000
DTSTAMP:20260423T150234
CREATED:20260312T171859Z
LAST-MODIFIED:20260316T205948Z
UID:10000858-1777021200-1777032000@bbrlt.org
SUMMARY:Spring Work Party at Oak Point Farm
DESCRIPTION:Your help is needed for stewardship of BRLT’s preserves! Join community members for a pleasant and productive spring day in support of BRLT’s universally accessible trail network. \nVolunteers will assist with annual maintenance to keep the gravel surface level and free of obstacles. \nTools needed: please bring your own work gloves and hand tools such as hoe\, potato hook/fork\, hand rake/cultivator\, or stirrup hoe. \nPlease note\, for safety and comfort\, we advise volunteers to wear close-toed shoes\, long pants\, and be prepared to protect themselves if sun exposure is an issue. Work gloves will be important! \nRegistration required so we can plan work for the number of volunteers. Please sign-up below. \n\n	Notice: JavaScript is required for this content.
URL:https://bbrlt.org/event/spring-work-party-at-oak-point-farm/
LOCATION:Boothbay Region Land Trust’s Oak Point Farm\, 60 Samoset Rd\, Boothbay Harbor\, ME\, 04538
CATEGORIES:Volunteer Events
ATTACH;FMTTYPE=image/jpeg:https://bbrlt.org/wp-content/uploads/2026/03/Work-Party-1-2.jpg
END:VEVENT
BEGIN:VEVENT
DTSTART;TZID=America/New_York:20260425T100000
DTEND;TZID=America/New_York:20260425T130000
DTSTAMP:20260423T150234
CREATED:20260406T181647Z
LAST-MODIFIED:20260406T184618Z
UID:10000869-1777111200-1777122000@bbrlt.org
SUMMARY:Earth Day Fest 2026
DESCRIPTION:We are excited to join our friends on the Boothbay Harbor Memorial Library lawn to celebrate Earth Day on Saturday\, April 25th from 10am to 1pm. Several local nonprofit organizations are co-sponsoring this event\, offering activities and information. \nBoothbay Region Land Trust will share details about our local preserves\, flora\, and fauna. Staff will be overseeing a touch table filled with natural objects from our region and will offer an activity as well. \nFor more information on Earth Day Fest 2026\, visit the Boothbay Harbor Memorial Library website at: www.https://bbhlibrary.org/
URL:https://bbrlt.org/event/earth-day-fest-2026/
LOCATION:Boothbay Harbor Memorial Library
CATEGORIES:Family Friendly,Spring Events
ATTACH;FMTTYPE=image/jpeg:https://bbrlt.org/wp-content/uploads/2026/04/Earthday-Fest-2026.jpg
END:VEVENT
BEGIN:VEVENT
DTSTART;TZID=America/New_York:20260428T100000
DTEND;TZID=America/New_York:20260428T110000
DTSTAMP:20260423T150234
CREATED:20260331T190149Z
LAST-MODIFIED:20260331T190149Z
UID:10000865-1777370400-1777374000@bbrlt.org
SUMMARY:Trail Tuesday: Oak Point Farm
DESCRIPTION:Join us for Trail Tuesdays with the Boothbay Region Land Trust!  Every Tuesday at 10 AM\, we’ll gather at a different BRLT trailhead for a leisurely 1-2 mile hike\, allowing time to soak in the scenery and marvel at nature along the way. Led by a naturalist\, our walks will include occasional stops to share fascinating insights into the preserve’s ecology\, including the diverse plant and animal life. \nNo need to worry about advanced registration—simply lace up your sturdy shoes\, pack some water\, and meet us at the parking lot kiosk. In the event of inclement weather\, cancellations will be posted on the BRLT website 24 hours in advance. Come for one hike or join us for the entire series. We look forward to seeing you on Trail Tuesdays! \nThis week’s hike is at Oak Point Farm: \nOak Point Farm
URL:https://bbrlt.org/event/trail-tuesday-oak-point-farm-2/
LOCATION:Boothbay Region Land Trust’s Oak Point Farm\, 60 Samoset Rd\, Boothbay Harbor\, ME\, 04538
CATEGORIES:Discover the Preserves,Hiking,Trail Tuesdays
ATTACH;FMTTYPE=image/jpeg:https://bbrlt.org/wp-content/uploads/2024/08/2.-Cruising-for-Conservation-Oak-Point.jpg
END:VEVENT
BEGIN:VEVENT
DTSTART;TZID=America/New_York:20260503T090000
DTEND;TZID=America/New_York:20260503T120000
DTSTAMP:20260423T150234
CREATED:20260316T205813Z
LAST-MODIFIED:20260316T205813Z
UID:10000861-1777798800-1777809600@bbrlt.org
SUMMARY:Spring Work Party at River~Link
DESCRIPTION:Your help is needed for stewardship of BRLT’s preserves! Join community members for a pleasant and productive spring day in collaboration with the our friends at the Schmid Preserve and Coastal Rivers Conservation Trust. Volunteers will conduct trail maintenance of the 7+ mile long River~Link trail connecting ZakPreserve\, the Schmid Preserve\, and Dodge Point Preserve. \nTools needed: please bring your own work gloves and hand tools such as pruning saw\, lopper\, etc. \nPlease note\, for safety and comfort\, we advise volunteers to wear close-toed shoes\, long pants\, and be prepared to protect themselves if sun exposure is an issue. Work gloves will be important! \nRegistration required so we can plan accordingly. Please sign-up below. \n\n	Notice: JavaScript is required for this content.
URL:https://bbrlt.org/event/spring-work-party-at-riverlink/
CATEGORIES:Volunteer Events
ATTACH;FMTTYPE=image/jpeg:https://bbrlt.org/wp-content/uploads/2026/03/River-Link-bridge-progress-Wayne-Susan-Bell.jpg
END:VEVENT
BEGIN:VEVENT
DTSTART;TZID=America/New_York:20260505T100000
DTEND;TZID=America/New_York:20260505T110000
DTSTAMP:20260423T150234
CREATED:20250728T202149Z
LAST-MODIFIED:20260331T191121Z
UID:10000822-1777975200-1777978800@bbrlt.org
SUMMARY:Trail Tuesday: Hike Ocean Point Preserve
DESCRIPTION:Join us for Trail Tuesdays with the Boothbay Region Land Trust!  Every Tuesday at 10 AM\, we’ll gather at a different BRLT trailhead for a leisurely 1-2 mile hike\, allowing time to soak in the scenery and marvel at nature along the way. Led by a naturalist\, our walks will include occasional stops to share fascinating insights into the preserve’s ecology\, including the diverse plant and animal life. \nNo need to worry about advanced registration—simply lace up your sturdy shoes\, pack some water\, and meet us at the parking lot kiosk. In the event of inclement weather\, cancellations will be posted on the BRLT website 24 hours in advance. Come for one hike or join us for the entire series. We look forward to seeing you on Trail Tuesdays! \nThis week’s hike is at Ocean Point Preserve: \nOcean Point
URL:https://bbrlt.org/event/trail-tuesday-hike-ocean-point-preserve-4/
LOCATION:Ocean Point Preserve
CATEGORIES:Discover the Preserves,Hiking,Trail Tuesdays
ATTACH;FMTTYPE=image/jpeg:https://bbrlt.org/wp-content/uploads/2021/10/ocean-point-forest.jpg
END:VEVENT
BEGIN:VEVENT
DTSTART;TZID=America/New_York:20260512T100000
DTEND;TZID=America/New_York:20260512T110000
DTSTAMP:20260423T150234
CREATED:20260416T144935Z
LAST-MODIFIED:20260416T144935Z
UID:10000871-1778580000-1778583600@bbrlt.org
SUMMARY:Trail Tuesday: Hike Penny Lake Preserve
DESCRIPTION:Join us for Trail Tuesdays with the Boothbay Region Land Trust!  Every Tuesday at 10 AM\, we’ll gather at a different BRLT trailhead for a leisurely 1-2 mile hike\, allowing time to soak in the scenery and marvel at nature along the way. Led by a naturalist\, our walks will include occasional stops to share fascinating insights into the preserve’s ecology including the diverse plant and animal life. \nNo need to worry about advanced registration—simply lace up your sturdy shoes\, pack some water\, and meet us at the parking lot kiosk. In the event of inclement weather\, cancellations will be posted on the BRLT website in advance. Come for one hike or join us for the entire series. We look forward to seeing you on Trail Tuesdays! \nThis week’s hike will take place at Penny Lake Preserve: \nPenny Lake
URL:https://bbrlt.org/event/trail-tuesday-hike-penny-lake-preserve-8/
LOCATION:Penny Lake Preserve
CATEGORIES:Discover the Preserves,Hiking,Trail Tuesdays
ATTACH;FMTTYPE=image/jpeg:https://bbrlt.org/wp-content/uploads/2022/07/Penny-Lake-skye-scaled.jpg
END:VEVENT
BEGIN:VEVENT
DTSTART;TZID=America/New_York:20260512T140000
DTEND;TZID=America/New_York:20260512T160000
DTSTAMP:20260423T150234
CREATED:20260305T184533Z
LAST-MODIFIED:20260305T222318Z
UID:10000852-1778594400-1778601600@bbrlt.org
SUMMARY:Live Staking Demonstration
DESCRIPTION:Join Boothbay Region Land Trust\, in partnership with Boothbay Clean Drinking Water Initiative\, Maine Forest Service\, Knox-Lincoln Soil & Water Conservation District\, and Boothbay Region Water District\, for a hands-on Live Staking Workshop at Oak Point Farm. \nThis interactive workshop will be led by Maine Forest Service District Forester Jared Gregory and will focus on the basics of live staking\, a simple and effective streambank and shoreline restoration technique. Participants will learn how to harvest live stakes and take part in a planting demonstration\, gaining practical skills to help stabilize shorelines and improve riparian habitat. \nPlease come prepared to work outdoors. Wear weather-appropriate clothing and sturdy boots\, and bring work gloves and hand pruners or loppers if you have them (we will have extras available). \nWhether you’re a landowner\, volunteer\, or simply curious about conservation practices\, this workshop offers a great opportunity to learn by doing and connect with local conservation partners. \nRegistration is required for this free event by filling out the form below: \n\n	Notice: JavaScript is required for this content.
URL:https://bbrlt.org/event/live-staking-demonstration/
LOCATION:Boothbay Region Land Trust’s Oak Point Farm\, 60 Samoset Rd\, Boothbay Harbor\, ME\, 04538
ATTACH;FMTTYPE=image/jpeg:https://bbrlt.org/wp-content/uploads/2026/03/live-staking-demo-scaled.jpeg
END:VEVENT
BEGIN:VEVENT
DTSTART;TZID=America/New_York:20260519T100000
DTEND;TZID=America/New_York:20260519T110000
DTSTAMP:20260423T150234
CREATED:20260331T191448Z
LAST-MODIFIED:20260331T191521Z
UID:10000866-1779184800-1779188400@bbrlt.org
SUMMARY:Trail Tuesday: Gregory Hiking Trail
DESCRIPTION:Join us for Trail Tuesdays with the Boothbay Region Land Trust!  Every Tuesday at 10 AM\, we’ll gather at a different BRLT trailhead for a leisurely 1-2 mile hike\, allowing time to soak in the scenery and marvel at nature along the way. Led by a naturalist\, our walks will include occasional stops to share fascinating insights into the preserve’s ecology including the diverse plant and animal life. \nNo need to worry about advanced registration—simply lace up your sturdy shoes\, pack some water\, and meet us at the parking lot kiosk. In the event of inclement weather\, cancellations will be posted on the BRLT website 24 hours in advance. Come for one hike or join us for the entire series. We look forward to seeing you on Trail Tuesdays! \nThis week’s hike is at Gregory Hiking Trail: \nGregory Trail
URL:https://bbrlt.org/event/trail-tuesday-gregory-hiking-trail-3/
LOCATION:Gregory Hiking Trai\, 2 Sawyer's Island Rd\, Boothbay Harbor\, ME\, 04538
CATEGORIES:Discover the Preserves,Hiking,Trail Tuesdays
ATTACH;FMTTYPE=image/jpeg:https://bbrlt.org/wp-content/uploads/2022/04/Gregory-13.jpg
END:VEVENT
BEGIN:VEVENT
DTSTART;TZID=America/New_York:20260526T100000
DTEND;TZID=America/New_York:20260526T110000
DTSTAMP:20260423T150234
CREATED:20260331T203343Z
LAST-MODIFIED:20260331T203343Z
UID:10000868-1779789600-1779793200@bbrlt.org
SUMMARY:Trail Tuesday: Hike Porter Preserve
DESCRIPTION:Join us for Trail Tuesdays with the Boothbay Region Land Trust!  Every Tuesday at 10 AM\, we’ll gather at a different BRLT trailhead for a leisurely 1-2 mile hike\, allowing time to soak in the scenery and marvel at nature along the way. Led by a naturalist\, our walks will include occasional stops to share fascinating insights into the preserve’s ecology including the diverse plant and animal life. \nNo need to worry about advanced registration—simply lace up your sturdy shoes\, pack some water\, and meet us at the parking lot kiosk. In the event of inclement weather\, cancellations will be posted on the BRLT website 24 hours in advance. Come for one hike or join us for the entire series. We look forward to seeing you on Trail Tuesdays! \nThis week’s hike is at Porter Preserve: \nPorter
URL:https://bbrlt.org/event/trail-tuesday-hike-porter-preserve-7/
LOCATION:Porter Preserve\, 1 Porter Point Road\, Trevett\, ME\, 04571
CATEGORIES:Discover the Preserves,Hiking,Trail Tuesdays
ATTACH;FMTTYPE=image/jpeg:https://bbrlt.org/wp-content/uploads/2020/08/Porter-e1596295250279.jpg
END:VEVENT
BEGIN:VEVENT
DTSTART;TZID=America/New_York:20260528T120000
DTEND;TZID=America/New_York:20260528T130000
DTSTAMP:20260423T150234
CREATED:20260331T185601Z
LAST-MODIFIED:20260331T185601Z
UID:10000863-1779969600-1779973200@bbrlt.org
SUMMARY:Midday Books at Oak Point Farm
DESCRIPTION:The May meeting will discuss: \nSing Like Fish \nby Amorina Kingdon \n——— \nOffered in collaboration with Boothbay Harbor Memorial Library\, this book group focuses on the fascinating world of nonfiction science. Meetings take place on the 4th Thursday of the month at noon at Oak Point Farm to discuss the selected book of the month. New members are welcome! \nFor more information\, including the monthly book selection\, contact Bethany Schmidt of Boothbay Harbor Memorial Library at 207-633-3112 or at tech@bbhlibrary.org.
URL:https://bbrlt.org/event/midday-books-at-oak-point-farm-7/
LOCATION:Boothbay Region Land Trust’s Oak Point Farm\, 60 Samoset Rd\, Boothbay Harbor\, ME\, 04538
CATEGORIES:Book Club
ATTACH;FMTTYPE=image/jpeg:https://bbrlt.org/wp-content/uploads/2026/03/sing-like-fish.jpg
END:VEVENT
BEGIN:VEVENT
DTSTART;TZID=America/New_York:20260602T100000
DTEND;TZID=America/New_York:20260602T110000
DTSTAMP:20260423T150234
CREATED:20260331T202845Z
LAST-MODIFIED:20260331T203025Z
UID:10000867-1780394400-1780398000@bbrlt.org
SUMMARY:Trail Tuesday: Hike Saunders Preserve
DESCRIPTION:Join us for Trail Tuesdays with the Boothbay Region Land Trust!  Every Tuesday at 10 AM\, we’ll gather at a different BRLT trailhead for a leisurely 1-2 mile hike\, allowing time to soak in the scenery and marvel at nature along the way. Led by a naturalist\, our walks will include occasional stops to share fascinating insights into the preserve’s ecology including the diverse plant and animal life. \nNo need to worry about advanced registration—simply lace up your sturdy shoes\, pack some water\, and meet us at the parking lot kiosk. In the event of inclement weather\, cancellations will be posted on the BRLT website 24 hours in advance. Come for one hike or join us for the entire series. We look forward to seeing you on Trail Tuesdays! \nThis week’s hike is at Saunders Preserve: \nSaunders
URL:https://bbrlt.org/event/trail-tuesday-hike-saunders-preserve-5/
LOCATION:Saunders Preserve
CATEGORIES:Discover the Preserves,Hiking,Trail Tuesdays
ATTACH;FMTTYPE=image/jpeg:https://bbrlt.org/wp-content/uploads/2021/02/SaundersPic-Resize.jpeg
END:VEVENT
BEGIN:VEVENT
DTSTART;TZID=America/New_York:20260625T120000
DTEND;TZID=America/New_York:20260626T130000
DTSTAMP:20260423T150234
CREATED:20260331T185845Z
LAST-MODIFIED:20260331T185845Z
UID:10000864-1782388800-1782478800@bbrlt.org
SUMMARY:Midday Books at Oak Point Farm
DESCRIPTION:The June meeting will discuss: \nThe Soul of an Octopus \nby Sy Montgomery \n——— \nOffered in collaboration with Boothbay Harbor Memorial Library\, this book group focuses on the fascinating world of nonfiction science. Meetings take place on the 4th Thursday of the month at noon at Oak Point Farm to discuss the selected book of the month. New members are welcome! \nFor more information\, including the monthly book selection\, contact Bethany Schmidt of Boothbay Harbor Memorial Library at 207-633-3112 or at tech@bbhlibrary.org.
URL:https://bbrlt.org/event/midday-books-at-oak-point-farm-8/
LOCATION:Boothbay Region Land Trust’s Oak Point Farm\, 60 Samoset Rd\, Boothbay Harbor\, ME\, 04538
CATEGORIES:Book Club
ATTACH;FMTTYPE=image/jpeg:https://bbrlt.org/wp-content/uploads/2026/03/octopus.jpeg
END:VEVENT
END:VCALENDAR