BEGIN:VCALENDAR
VERSION:2.0
PRODID:-//Boothbay Region Land Trust - ECPv6.15.20//NONSGML v1.0//EN
CALSCALE:GREGORIAN
METHOD:PUBLISH
X-WR-CALNAME:Boothbay Region Land Trust
X-ORIGINAL-URL:https://bbrlt.org
X-WR-CALDESC:Events for Boothbay Region Land Trust
REFRESH-INTERVAL;VALUE=DURATION:PT1H
X-Robots-Tag:noindex
X-PUBLISHED-TTL:PT1H
BEGIN:VTIMEZONE
TZID:America/New_York
BEGIN:DAYLIGHT
TZOFFSETFROM:-0500
TZOFFSETTO:-0400
TZNAME:EDT
DTSTART:20200308T070000
END:DAYLIGHT
BEGIN:STANDARD
TZOFFSETFROM:-0400
TZOFFSETTO:-0500
TZNAME:EST
DTSTART:20201101T060000
END:STANDARD
BEGIN:DAYLIGHT
TZOFFSETFROM:-0500
TZOFFSETTO:-0400
TZNAME:EDT
DTSTART:20210314T070000
END:DAYLIGHT
BEGIN:STANDARD
TZOFFSETFROM:-0400
TZOFFSETTO:-0500
TZNAME:EST
DTSTART:20211107T060000
END:STANDARD
BEGIN:DAYLIGHT
TZOFFSETFROM:-0500
TZOFFSETTO:-0400
TZNAME:EDT
DTSTART:20220313T070000
END:DAYLIGHT
BEGIN:STANDARD
TZOFFSETFROM:-0400
TZOFFSETTO:-0500
TZNAME:EST
DTSTART:20221106T060000
END:STANDARD
END:VTIMEZONE
BEGIN:VEVENT
DTSTART;TZID=America/New_York:20210901T090000
DTEND;TZID=America/New_York:20210901T120000
DTSTAMP:20260423T083847
CREATED:20210602T144846Z
LAST-MODIFIED:20210630T153055Z
UID:10000127-1630486800-1630497600@bbrlt.org
SUMMARY:CLIP Work Party
DESCRIPTION:Join our newly formed Committee to Limit Invasive Plants (CLIP). CLIP work parties will take place every other Wednesday at Penny Lake Preserve during the summer of 2021 (Penny Lake will be the focus point for the group’s initial efforts throughout the summer). CLIP volunteers will be helping eradicate invasive shrubs and vines (bush honeysuckle\, oriental bittersweet\, multi flora rose\, autumn olive\, and Japanese barberry) on this preserve.  Work will consist of pulling\, cutting\, and piling invasive brush that will be chipped or burned later. No prior knowledge or experience with invasive plants is needed. Training will be provided including species identification and removal techniques. Some tools will be available\, but volunteers are welcome and encouraged to bring their favorite pruning shears\, loppers\, or pulling/cutting devices. Long pants\, long sleeve shirts\, and gloves are recommended as well as bug spray and water. Your help is vital to supporting native ecosystems on our preserves!
URL:https://bbrlt.org/event/clip-work-party/2021-09-01/
LOCATION:Penny Lake Preserve
CATEGORIES:CLIP,Summer Events,Volunteer Events
ATTACH;FMTTYPE=image/jpeg:https://bbrlt.org/wp-content/uploads/2021/06/Penny-Lake-Invasive-Plants-e1625067036960.jpg
END:VEVENT
BEGIN:VEVENT
DTSTART;TZID=America/New_York:20210818T090000
DTEND;TZID=America/New_York:20210818T120000
DTSTAMP:20260423T083847
CREATED:20210602T144846Z
LAST-MODIFIED:20210630T153055Z
UID:10000126-1629277200-1629288000@bbrlt.org
SUMMARY:CLIP Work Party
DESCRIPTION:Join our newly formed Committee to Limit Invasive Plants (CLIP). CLIP work parties will take place every other Wednesday at Penny Lake Preserve during the summer of 2021 (Penny Lake will be the focus point for the group’s initial efforts throughout the summer). CLIP volunteers will be helping eradicate invasive shrubs and vines (bush honeysuckle\, oriental bittersweet\, multi flora rose\, autumn olive\, and Japanese barberry) on this preserve.  Work will consist of pulling\, cutting\, and piling invasive brush that will be chipped or burned later. No prior knowledge or experience with invasive plants is needed. Training will be provided including species identification and removal techniques. Some tools will be available\, but volunteers are welcome and encouraged to bring their favorite pruning shears\, loppers\, or pulling/cutting devices. Long pants\, long sleeve shirts\, and gloves are recommended as well as bug spray and water. Your help is vital to supporting native ecosystems on our preserves!
URL:https://bbrlt.org/event/clip-work-party/2021-08-18/
LOCATION:Penny Lake Preserve
CATEGORIES:CLIP,Summer Events,Volunteer Events
ATTACH;FMTTYPE=image/jpeg:https://bbrlt.org/wp-content/uploads/2021/06/Penny-Lake-Invasive-Plants-e1625067036960.jpg
END:VEVENT
BEGIN:VEVENT
DTSTART;TZID=America/New_York:20210804T090000
DTEND;TZID=America/New_York:20210804T120000
DTSTAMP:20260423T083847
CREATED:20210602T144846Z
LAST-MODIFIED:20210630T153055Z
UID:10000125-1628067600-1628078400@bbrlt.org
SUMMARY:CLIP Work Party
DESCRIPTION:Join our newly formed Committee to Limit Invasive Plants (CLIP). CLIP work parties will take place every other Wednesday at Penny Lake Preserve during the summer of 2021 (Penny Lake will be the focus point for the group’s initial efforts throughout the summer). CLIP volunteers will be helping eradicate invasive shrubs and vines (bush honeysuckle\, oriental bittersweet\, multi flora rose\, autumn olive\, and Japanese barberry) on this preserve.  Work will consist of pulling\, cutting\, and piling invasive brush that will be chipped or burned later. No prior knowledge or experience with invasive plants is needed. Training will be provided including species identification and removal techniques. Some tools will be available\, but volunteers are welcome and encouraged to bring their favorite pruning shears\, loppers\, or pulling/cutting devices. Long pants\, long sleeve shirts\, and gloves are recommended as well as bug spray and water. Your help is vital to supporting native ecosystems on our preserves!
URL:https://bbrlt.org/event/clip-work-party/2021-08-04/
LOCATION:Penny Lake Preserve
CATEGORIES:CLIP,Summer Events,Volunteer Events
ATTACH;FMTTYPE=image/jpeg:https://bbrlt.org/wp-content/uploads/2021/06/Penny-Lake-Invasive-Plants-e1625067036960.jpg
END:VEVENT
BEGIN:VEVENT
DTSTART;TZID=America/New_York:20210721T090000
DTEND;TZID=America/New_York:20210721T120000
DTSTAMP:20260423T083847
CREATED:20210602T144846Z
LAST-MODIFIED:20210630T153055Z
UID:10000124-1626858000-1626868800@bbrlt.org
SUMMARY:CLIP Work Party
DESCRIPTION:Join our newly formed Committee to Limit Invasive Plants (CLIP). CLIP work parties will take place every other Wednesday at Penny Lake Preserve during the summer of 2021 (Penny Lake will be the focus point for the group’s initial efforts throughout the summer). CLIP volunteers will be helping eradicate invasive shrubs and vines (bush honeysuckle\, oriental bittersweet\, multi flora rose\, autumn olive\, and Japanese barberry) on this preserve.  Work will consist of pulling\, cutting\, and piling invasive brush that will be chipped or burned later. No prior knowledge or experience with invasive plants is needed. Training will be provided including species identification and removal techniques. Some tools will be available\, but volunteers are welcome and encouraged to bring their favorite pruning shears\, loppers\, or pulling/cutting devices. Long pants\, long sleeve shirts\, and gloves are recommended as well as bug spray and water. Your help is vital to supporting native ecosystems on our preserves!
URL:https://bbrlt.org/event/clip-work-party/2021-07-21/
LOCATION:Penny Lake Preserve
CATEGORIES:CLIP,Summer Events,Volunteer Events
ATTACH;FMTTYPE=image/jpeg:https://bbrlt.org/wp-content/uploads/2021/06/Penny-Lake-Invasive-Plants-e1625067036960.jpg
END:VEVENT
BEGIN:VEVENT
DTSTART;TZID=America/New_York:20210707T090000
DTEND;TZID=America/New_York:20210707T120000
DTSTAMP:20260423T083847
CREATED:20210602T144846Z
LAST-MODIFIED:20210630T153055Z
UID:10000123-1625648400-1625659200@bbrlt.org
SUMMARY:CLIP Work Party
DESCRIPTION:Join our newly formed Committee to Limit Invasive Plants (CLIP). CLIP work parties will take place every other Wednesday at Penny Lake Preserve during the summer of 2021 (Penny Lake will be the focus point for the group’s initial efforts throughout the summer). CLIP volunteers will be helping eradicate invasive shrubs and vines (bush honeysuckle\, oriental bittersweet\, multi flora rose\, autumn olive\, and Japanese barberry) on this preserve.  Work will consist of pulling\, cutting\, and piling invasive brush that will be chipped or burned later. No prior knowledge or experience with invasive plants is needed. Training will be provided including species identification and removal techniques. Some tools will be available\, but volunteers are welcome and encouraged to bring their favorite pruning shears\, loppers\, or pulling/cutting devices. Long pants\, long sleeve shirts\, and gloves are recommended as well as bug spray and water. Your help is vital to supporting native ecosystems on our preserves!
URL:https://bbrlt.org/event/clip-work-party/2021-07-07/
LOCATION:Penny Lake Preserve
CATEGORIES:CLIP,Summer Events,Volunteer Events
ATTACH;FMTTYPE=image/jpeg:https://bbrlt.org/wp-content/uploads/2021/06/Penny-Lake-Invasive-Plants-e1625067036960.jpg
END:VEVENT
BEGIN:VEVENT
DTSTART;TZID=America/New_York:20210623T090000
DTEND;TZID=America/New_York:20210623T120000
DTSTAMP:20260423T083847
CREATED:20210602T144846Z
LAST-MODIFIED:20210630T153055Z
UID:10000122-1624438800-1624449600@bbrlt.org
SUMMARY:CLIP Work Party
DESCRIPTION:Join our newly formed Committee to Limit Invasive Plants (CLIP). CLIP work parties will take place every other Wednesday at Penny Lake Preserve during the summer of 2021 (Penny Lake will be the focus point for the group’s initial efforts throughout the summer). CLIP volunteers will be helping eradicate invasive shrubs and vines (bush honeysuckle\, oriental bittersweet\, multi flora rose\, autumn olive\, and Japanese barberry) on this preserve.  Work will consist of pulling\, cutting\, and piling invasive brush that will be chipped or burned later. No prior knowledge or experience with invasive plants is needed. Training will be provided including species identification and removal techniques. Some tools will be available\, but volunteers are welcome and encouraged to bring their favorite pruning shears\, loppers\, or pulling/cutting devices. Long pants\, long sleeve shirts\, and gloves are recommended as well as bug spray and water. Your help is vital to supporting native ecosystems on our preserves!
URL:https://bbrlt.org/event/clip-work-party/2021-06-23/
LOCATION:Penny Lake Preserve
CATEGORIES:CLIP,Summer Events,Volunteer Events
ATTACH;FMTTYPE=image/jpeg:https://bbrlt.org/wp-content/uploads/2021/06/Penny-Lake-Invasive-Plants-e1625067036960.jpg
END:VEVENT
BEGIN:VEVENT
DTSTART;TZID=America/New_York:20210609T090000
DTEND;TZID=America/New_York:20210609T120000
DTSTAMP:20260423T083847
CREATED:20210602T144846Z
LAST-MODIFIED:20210630T153055Z
UID:10000121-1623229200-1623240000@bbrlt.org
SUMMARY:CLIP Work Party
DESCRIPTION:Join our newly formed Committee to Limit Invasive Plants (CLIP). CLIP work parties will take place every other Wednesday at Penny Lake Preserve during the summer of 2021 (Penny Lake will be the focus point for the group’s initial efforts throughout the summer). CLIP volunteers will be helping eradicate invasive shrubs and vines (bush honeysuckle\, oriental bittersweet\, multi flora rose\, autumn olive\, and Japanese barberry) on this preserve.  Work will consist of pulling\, cutting\, and piling invasive brush that will be chipped or burned later. No prior knowledge or experience with invasive plants is needed. Training will be provided including species identification and removal techniques. Some tools will be available\, but volunteers are welcome and encouraged to bring their favorite pruning shears\, loppers\, or pulling/cutting devices. Long pants\, long sleeve shirts\, and gloves are recommended as well as bug spray and water. Your help is vital to supporting native ecosystems on our preserves!
URL:https://bbrlt.org/event/clip-work-party/2021-06-09/
LOCATION:Penny Lake Preserve
CATEGORIES:CLIP,Summer Events,Volunteer Events
ATTACH;FMTTYPE=image/jpeg:https://bbrlt.org/wp-content/uploads/2021/06/Penny-Lake-Invasive-Plants-e1625067036960.jpg
END:VEVENT
END:VCALENDAR