BEGIN:VCALENDAR
VERSION:2.0
PRODID:-//Boothbay Region Land Trust - ECPv6.15.20//NONSGML v1.0//EN
CALSCALE:GREGORIAN
METHOD:PUBLISH
X-WR-CALNAME:Boothbay Region Land Trust
X-ORIGINAL-URL:https://bbrlt.org
X-WR-CALDESC:Events for Boothbay Region Land Trust
REFRESH-INTERVAL;VALUE=DURATION:PT1H
X-Robots-Tag:noindex
X-PUBLISHED-TTL:PT1H
BEGIN:VTIMEZONE
TZID:America/New_York
BEGIN:DAYLIGHT
TZOFFSETFROM:-0500
TZOFFSETTO:-0400
TZNAME:EDT
DTSTART:20200308T070000
END:DAYLIGHT
BEGIN:STANDARD
TZOFFSETFROM:-0400
TZOFFSETTO:-0500
TZNAME:EST
DTSTART:20201101T060000
END:STANDARD
BEGIN:DAYLIGHT
TZOFFSETFROM:-0500
TZOFFSETTO:-0400
TZNAME:EDT
DTSTART:20210314T070000
END:DAYLIGHT
BEGIN:STANDARD
TZOFFSETFROM:-0400
TZOFFSETTO:-0500
TZNAME:EST
DTSTART:20211107T060000
END:STANDARD
BEGIN:DAYLIGHT
TZOFFSETFROM:-0500
TZOFFSETTO:-0400
TZNAME:EDT
DTSTART:20220313T070000
END:DAYLIGHT
BEGIN:STANDARD
TZOFFSETFROM:-0400
TZOFFSETTO:-0500
TZNAME:EST
DTSTART:20221106T060000
END:STANDARD
BEGIN:DAYLIGHT
TZOFFSETFROM:-0500
TZOFFSETTO:-0400
TZNAME:EDT
DTSTART:20230312T070000
END:DAYLIGHT
BEGIN:STANDARD
TZOFFSETFROM:-0400
TZOFFSETTO:-0500
TZNAME:EST
DTSTART:20231105T060000
END:STANDARD
BEGIN:DAYLIGHT
TZOFFSETFROM:-0500
TZOFFSETTO:-0400
TZNAME:EDT
DTSTART:20240310T070000
END:DAYLIGHT
BEGIN:STANDARD
TZOFFSETFROM:-0400
TZOFFSETTO:-0500
TZNAME:EST
DTSTART:20241103T060000
END:STANDARD
END:VTIMEZONE
BEGIN:VEVENT
DTSTART;TZID=America/New_York:20230726T100000
DTEND;TZID=America/New_York:20230726T120000
DTSTAMP:20260423T072402
CREATED:20230707T192827Z
LAST-MODIFIED:20230707T193758Z
UID:10000281-1690365600-1690372800@bbrlt.org
SUMMARY:CLIP Work Party
DESCRIPTION:Join our Committee to Limit Invasive Plants (CLIP). CLIP work parties will take place every other Wednesday at Penny Lake Preserve during the summer of 2023. CLIP volunteers will be helping eradicate invasive shrubs and vines (bush honeysuckle\, oriental bittersweet\, multi flora rose\, autumn olive\, and Japanese barberry) on this preserve.  Work will consist of pulling\, cutting\, and piling invasive brush that will be chipped or burned later. No prior knowledge or experience with invasive plants is needed. Training will be provided including species identification and removal techniques. Some tools will be available\, but volunteers are welcome and encouraged to bring their favorite pruning shears\, loppers\, or pulling/cutting devices. Long pants\, long sleeve shirts\, and gloves are recommended as well as bug spray and water. Your help is vital to supporting native ecosystems on our preserves! For further questions\, please email Daniel Hill at dhill@bbrlt.org.
URL:https://bbrlt.org/event/clip-work-party-3/2023-07-26/
LOCATION:Penny Lake Preserve
CATEGORIES:CLIP,Summer Events,Volunteer Events
ATTACH;FMTTYPE=image/jpeg:https://bbrlt.org/wp-content/uploads/2021/06/Penny-Lake-Invasive-Plants-e1625067036960.jpg
END:VEVENT
BEGIN:VEVENT
DTSTART;TZID=America/New_York:20230712T100000
DTEND;TZID=America/New_York:20230712T120000
DTSTAMP:20260423T072402
CREATED:20230707T192827Z
LAST-MODIFIED:20230707T193758Z
UID:10000280-1689156000-1689163200@bbrlt.org
SUMMARY:CLIP Work Party
DESCRIPTION:Join our Committee to Limit Invasive Plants (CLIP). CLIP work parties will take place every other Wednesday at Penny Lake Preserve during the summer of 2023. CLIP volunteers will be helping eradicate invasive shrubs and vines (bush honeysuckle\, oriental bittersweet\, multi flora rose\, autumn olive\, and Japanese barberry) on this preserve.  Work will consist of pulling\, cutting\, and piling invasive brush that will be chipped or burned later. No prior knowledge or experience with invasive plants is needed. Training will be provided including species identification and removal techniques. Some tools will be available\, but volunteers are welcome and encouraged to bring their favorite pruning shears\, loppers\, or pulling/cutting devices. Long pants\, long sleeve shirts\, and gloves are recommended as well as bug spray and water. Your help is vital to supporting native ecosystems on our preserves! For further questions\, please email Daniel Hill at dhill@bbrlt.org.
URL:https://bbrlt.org/event/clip-work-party-3/2023-07-12/
LOCATION:Penny Lake Preserve
CATEGORIES:CLIP,Summer Events,Volunteer Events
ATTACH;FMTTYPE=image/jpeg:https://bbrlt.org/wp-content/uploads/2021/06/Penny-Lake-Invasive-Plants-e1625067036960.jpg
END:VEVENT
BEGIN:VEVENT
DTSTART;TZID=America/New_York:20230513T080000
DTEND;TZID=America/New_York:20230513T120000
DTSTAMP:20260423T072402
CREATED:20230328T182315Z
LAST-MODIFIED:20230508T133901Z
UID:10000191-1683964800-1683979200@bbrlt.org
SUMMARY:Boothbay Region Watershed Cleanup
DESCRIPTION:Do to staffing concerns at the Water District\, this event has been cancelled. \nIn honor of Drinking Water Week\, members of the Clean Drinking Water Initiative\, including Boothbay Region Land Trust\, are organizing a volunteer watershed cleanup around Adams Pond and Knickerbocker Lake. In addition to improving the beauty of our home peninsula\, cleaning up trash\, especially in the watershed of our public water supply\, will contribute to the long-term quality of our drinking water. While cleanup along the busy roadside on Rt. 27 will be overseen by water district staff\, volunteers from the land trust and other organizations will focus their efforts on quieter roads within the watershed. Let’s work together to protect the water quality of Adams Pond and Knickerbocker Lake!
URL:https://bbrlt.org/event/boothbay-region-watershed-cleanup/
LOCATION:Boothbay Region Water District\, 184 Adams Pond Rd\, Boothbay\, ME\, 04537
CATEGORIES:Clean Drinking Water Initiative,Volunteer Events
ATTACH;FMTTYPE=image/jpeg:https://bbrlt.org/wp-content/uploads/2021/11/knickercane.lowres-e1680027697445.jpg
END:VEVENT
BEGIN:VEVENT
DTSTART;TZID=America/New_York:20211124T090000
DTEND;TZID=America/New_York:20211124T120000
DTSTAMP:20260423T072402
CREATED:20211008T163534Z
LAST-MODIFIED:20211008T163756Z
UID:10000145-1637744400-1637755200@bbrlt.org
SUMMARY:CLIP Work Party
DESCRIPTION:Join our Committee to Limit Invasive Plants (CLIP). CLIP work parties will take place every other Wednesday at Penny Lake Preserve during the fall of 2021 (Penny Lake will continue to be the focus point for the group’s efforts though Ovens Mouth East may see some work as well). CLIP volunteers will be helping eradicate invasive shrubs and vines (bush honeysuckle\, oriental bittersweet\, multi flora rose\, autumn olive\, and Japanese barberry) on this preserve.  Work will consist of pulling\, cutting\, and piling invasive brush that will be chipped or burned later. No prior knowledge or experience with invasive plants is needed. Training will be provided including species identification and removal techniques. Some tools will be available\, but volunteers are welcome and encouraged to bring their favorite pruning shears\, loppers\, or pulling/cutting devices. Long pants\, long sleeve shirts\, and gloves are recommended as well as bug spray and water. Your help is vital to supporting native ecosystems on our preserves!
URL:https://bbrlt.org/event/clip-work-party-2/2021-11-24/
LOCATION:Penny Lake Preserve
CATEGORIES:CLIP,Fall Events,Volunteer Events
ATTACH;FMTTYPE=image/jpeg:https://bbrlt.org/wp-content/uploads/2021/06/Penny-Lake-Invasive-Plants-e1625067036960.jpg
END:VEVENT
BEGIN:VEVENT
DTSTART;TZID=America/New_York:20211110T090000
DTEND;TZID=America/New_York:20211110T120000
DTSTAMP:20260423T072402
CREATED:20211008T163534Z
LAST-MODIFIED:20211008T163756Z
UID:10000144-1636534800-1636545600@bbrlt.org
SUMMARY:CLIP Work Party
DESCRIPTION:Join our Committee to Limit Invasive Plants (CLIP). CLIP work parties will take place every other Wednesday at Penny Lake Preserve during the fall of 2021 (Penny Lake will continue to be the focus point for the group’s efforts though Ovens Mouth East may see some work as well). CLIP volunteers will be helping eradicate invasive shrubs and vines (bush honeysuckle\, oriental bittersweet\, multi flora rose\, autumn olive\, and Japanese barberry) on this preserve.  Work will consist of pulling\, cutting\, and piling invasive brush that will be chipped or burned later. No prior knowledge or experience with invasive plants is needed. Training will be provided including species identification and removal techniques. Some tools will be available\, but volunteers are welcome and encouraged to bring their favorite pruning shears\, loppers\, or pulling/cutting devices. Long pants\, long sleeve shirts\, and gloves are recommended as well as bug spray and water. Your help is vital to supporting native ecosystems on our preserves!
URL:https://bbrlt.org/event/clip-work-party-2/2021-11-10/
LOCATION:Penny Lake Preserve
CATEGORIES:CLIP,Fall Events,Volunteer Events
ATTACH;FMTTYPE=image/jpeg:https://bbrlt.org/wp-content/uploads/2021/06/Penny-Lake-Invasive-Plants-e1625067036960.jpg
END:VEVENT
BEGIN:VEVENT
DTSTART;TZID=America/New_York:20211027T090000
DTEND;TZID=America/New_York:20211027T120000
DTSTAMP:20260423T072402
CREATED:20211008T163534Z
LAST-MODIFIED:20211008T163756Z
UID:10000143-1635325200-1635336000@bbrlt.org
SUMMARY:CLIP Work Party
DESCRIPTION:Join our Committee to Limit Invasive Plants (CLIP). CLIP work parties will take place every other Wednesday at Penny Lake Preserve during the fall of 2021 (Penny Lake will continue to be the focus point for the group’s efforts though Ovens Mouth East may see some work as well). CLIP volunteers will be helping eradicate invasive shrubs and vines (bush honeysuckle\, oriental bittersweet\, multi flora rose\, autumn olive\, and Japanese barberry) on this preserve.  Work will consist of pulling\, cutting\, and piling invasive brush that will be chipped or burned later. No prior knowledge or experience with invasive plants is needed. Training will be provided including species identification and removal techniques. Some tools will be available\, but volunteers are welcome and encouraged to bring their favorite pruning shears\, loppers\, or pulling/cutting devices. Long pants\, long sleeve shirts\, and gloves are recommended as well as bug spray and water. Your help is vital to supporting native ecosystems on our preserves!
URL:https://bbrlt.org/event/clip-work-party-2/2021-10-27/
LOCATION:Penny Lake Preserve
CATEGORIES:CLIP,Fall Events,Volunteer Events
ATTACH;FMTTYPE=image/jpeg:https://bbrlt.org/wp-content/uploads/2021/06/Penny-Lake-Invasive-Plants-e1625067036960.jpg
END:VEVENT
BEGIN:VEVENT
DTSTART;TZID=America/New_York:20211013T090000
DTEND;TZID=America/New_York:20211013T120000
DTSTAMP:20260423T072402
CREATED:20211008T163534Z
LAST-MODIFIED:20211008T163756Z
UID:10000142-1634115600-1634126400@bbrlt.org
SUMMARY:CLIP Work Party
DESCRIPTION:Join our Committee to Limit Invasive Plants (CLIP). CLIP work parties will take place every other Wednesday at Penny Lake Preserve during the fall of 2021 (Penny Lake will continue to be the focus point for the group’s efforts though Ovens Mouth East may see some work as well). CLIP volunteers will be helping eradicate invasive shrubs and vines (bush honeysuckle\, oriental bittersweet\, multi flora rose\, autumn olive\, and Japanese barberry) on this preserve.  Work will consist of pulling\, cutting\, and piling invasive brush that will be chipped or burned later. No prior knowledge or experience with invasive plants is needed. Training will be provided including species identification and removal techniques. Some tools will be available\, but volunteers are welcome and encouraged to bring their favorite pruning shears\, loppers\, or pulling/cutting devices. Long pants\, long sleeve shirts\, and gloves are recommended as well as bug spray and water. Your help is vital to supporting native ecosystems on our preserves!
URL:https://bbrlt.org/event/clip-work-party-2/2021-10-13/
LOCATION:Penny Lake Preserve
CATEGORIES:CLIP,Fall Events,Volunteer Events
ATTACH;FMTTYPE=image/jpeg:https://bbrlt.org/wp-content/uploads/2021/06/Penny-Lake-Invasive-Plants-e1625067036960.jpg
END:VEVENT
BEGIN:VEVENT
DTSTART;TZID=America/New_York:20210929T090000
DTEND;TZID=America/New_York:20210929T120000
DTSTAMP:20260423T072402
CREATED:20210602T144846Z
LAST-MODIFIED:20211008T162733Z
UID:10000012-1632906000-1632916800@bbrlt.org
SUMMARY:CLIP Work Party
DESCRIPTION:Join our newly formed Committee to Limit Invasive Plants (CLIP). CLIP work parties will take place every other Wednesday at Penny Lake Preserve during the summer of 2021 (Penny Lake will be the focus point for the group’s initial efforts throughout the summer). CLIP volunteers will be helping eradicate invasive shrubs and vines (bush honeysuckle\, oriental bittersweet\, multi flora rose\, autumn olive\, and Japanese barberry) on this preserve.  Work will consist of pulling\, cutting\, and piling invasive brush that will be chipped or burned later. No prior knowledge or experience with invasive plants is needed. Training will be provided including species identification and removal techniques. Some tools will be available\, but volunteers are welcome and encouraged to bring their favorite pruning shears\, loppers\, or pulling/cutting devices. Long pants\, long sleeve shirts\, and gloves are recommended as well as bug spray and water. Your help is vital to supporting native ecosystems on our preserves!
URL:https://bbrlt.org/event/clip-work-party-2021-09-29/
LOCATION:Penny Lake Preserve
CATEGORIES:CLIP,Summer Events,Volunteer Events
ATTACH;FMTTYPE=image/jpeg:https://bbrlt.org/wp-content/uploads/2021/06/Penny-Lake-Invasive-Plants-e1625067036960.jpg
END:VEVENT
BEGIN:VEVENT
DTSTART;TZID=America/New_York:20210917T093000
DTEND;TZID=America/New_York:20210917T120000
DTSTAMP:20260423T072402
CREATED:20210913T142316Z
LAST-MODIFIED:20210913T142337Z
UID:10000140-1631871000-1631880000@bbrlt.org
SUMMARY:Apple Corps Volunteer Work Party
DESCRIPTION:On Friday\, September 17\, starting at 9:30 BRLT will have an Apple Corps clean-up party at the Oak Point Farm Orchard. We need to clean out the weeds growing around the young trees\, check for vole damage\, secure the deer fencing for the winter\, etc. We hope you can join us! Bring sharp grass clippers and a trowel for weeding if you can\, plus the usual: insect repellent\, sun screen\, water\, etc.\n\nWe hope to see you this Friday!  (Rain Date Saturday\, Sept. 18\, 9:30am).
URL:https://bbrlt.org/event/apple-corps-volunteer-work-party/
LOCATION:Boothbay Region Land Trust’s Oak Point Farm\, 60 Samoset Rd\, Boothbay Harbor\, ME\, 04538
CATEGORIES:Apple Corps,Volunteer Events
ATTACH;FMTTYPE=image/jpeg:https://bbrlt.org/wp-content/uploads/2021/09/IMG_0383-1-e1631542812853.jpg
END:VEVENT
BEGIN:VEVENT
DTSTART;TZID=America/New_York:20210915T090000
DTEND;TZID=America/New_York:20210915T120000
DTSTAMP:20260423T072402
CREATED:20210602T144846Z
LAST-MODIFIED:20210630T153055Z
UID:10000128-1631696400-1631707200@bbrlt.org
SUMMARY:CLIP Work Party
DESCRIPTION:Join our newly formed Committee to Limit Invasive Plants (CLIP). CLIP work parties will take place every other Wednesday at Penny Lake Preserve during the summer of 2021 (Penny Lake will be the focus point for the group’s initial efforts throughout the summer). CLIP volunteers will be helping eradicate invasive shrubs and vines (bush honeysuckle\, oriental bittersweet\, multi flora rose\, autumn olive\, and Japanese barberry) on this preserve.  Work will consist of pulling\, cutting\, and piling invasive brush that will be chipped or burned later. No prior knowledge or experience with invasive plants is needed. Training will be provided including species identification and removal techniques. Some tools will be available\, but volunteers are welcome and encouraged to bring their favorite pruning shears\, loppers\, or pulling/cutting devices. Long pants\, long sleeve shirts\, and gloves are recommended as well as bug spray and water. Your help is vital to supporting native ecosystems on our preserves!
URL:https://bbrlt.org/event/clip-work-party/2021-09-15/
LOCATION:Penny Lake Preserve
CATEGORIES:CLIP,Summer Events,Volunteer Events
ATTACH;FMTTYPE=image/jpeg:https://bbrlt.org/wp-content/uploads/2021/06/Penny-Lake-Invasive-Plants-e1625067036960.jpg
END:VEVENT
BEGIN:VEVENT
DTSTART;TZID=America/New_York:20210901T090000
DTEND;TZID=America/New_York:20210901T120000
DTSTAMP:20260423T072402
CREATED:20210602T144846Z
LAST-MODIFIED:20210630T153055Z
UID:10000127-1630486800-1630497600@bbrlt.org
SUMMARY:CLIP Work Party
DESCRIPTION:Join our newly formed Committee to Limit Invasive Plants (CLIP). CLIP work parties will take place every other Wednesday at Penny Lake Preserve during the summer of 2021 (Penny Lake will be the focus point for the group’s initial efforts throughout the summer). CLIP volunteers will be helping eradicate invasive shrubs and vines (bush honeysuckle\, oriental bittersweet\, multi flora rose\, autumn olive\, and Japanese barberry) on this preserve.  Work will consist of pulling\, cutting\, and piling invasive brush that will be chipped or burned later. No prior knowledge or experience with invasive plants is needed. Training will be provided including species identification and removal techniques. Some tools will be available\, but volunteers are welcome and encouraged to bring their favorite pruning shears\, loppers\, or pulling/cutting devices. Long pants\, long sleeve shirts\, and gloves are recommended as well as bug spray and water. Your help is vital to supporting native ecosystems on our preserves!
URL:https://bbrlt.org/event/clip-work-party/2021-09-01/
LOCATION:Penny Lake Preserve
CATEGORIES:CLIP,Summer Events,Volunteer Events
ATTACH;FMTTYPE=image/jpeg:https://bbrlt.org/wp-content/uploads/2021/06/Penny-Lake-Invasive-Plants-e1625067036960.jpg
END:VEVENT
BEGIN:VEVENT
DTSTART;TZID=America/New_York:20210818T090000
DTEND;TZID=America/New_York:20210818T120000
DTSTAMP:20260423T072402
CREATED:20210602T144846Z
LAST-MODIFIED:20210630T153055Z
UID:10000126-1629277200-1629288000@bbrlt.org
SUMMARY:CLIP Work Party
DESCRIPTION:Join our newly formed Committee to Limit Invasive Plants (CLIP). CLIP work parties will take place every other Wednesday at Penny Lake Preserve during the summer of 2021 (Penny Lake will be the focus point for the group’s initial efforts throughout the summer). CLIP volunteers will be helping eradicate invasive shrubs and vines (bush honeysuckle\, oriental bittersweet\, multi flora rose\, autumn olive\, and Japanese barberry) on this preserve.  Work will consist of pulling\, cutting\, and piling invasive brush that will be chipped or burned later. No prior knowledge or experience with invasive plants is needed. Training will be provided including species identification and removal techniques. Some tools will be available\, but volunteers are welcome and encouraged to bring their favorite pruning shears\, loppers\, or pulling/cutting devices. Long pants\, long sleeve shirts\, and gloves are recommended as well as bug spray and water. Your help is vital to supporting native ecosystems on our preserves!
URL:https://bbrlt.org/event/clip-work-party/2021-08-18/
LOCATION:Penny Lake Preserve
CATEGORIES:CLIP,Summer Events,Volunteer Events
ATTACH;FMTTYPE=image/jpeg:https://bbrlt.org/wp-content/uploads/2021/06/Penny-Lake-Invasive-Plants-e1625067036960.jpg
END:VEVENT
BEGIN:VEVENT
DTSTART;TZID=America/New_York:20210804T090000
DTEND;TZID=America/New_York:20210804T120000
DTSTAMP:20260423T072402
CREATED:20210602T144846Z
LAST-MODIFIED:20210630T153055Z
UID:10000125-1628067600-1628078400@bbrlt.org
SUMMARY:CLIP Work Party
DESCRIPTION:Join our newly formed Committee to Limit Invasive Plants (CLIP). CLIP work parties will take place every other Wednesday at Penny Lake Preserve during the summer of 2021 (Penny Lake will be the focus point for the group’s initial efforts throughout the summer). CLIP volunteers will be helping eradicate invasive shrubs and vines (bush honeysuckle\, oriental bittersweet\, multi flora rose\, autumn olive\, and Japanese barberry) on this preserve.  Work will consist of pulling\, cutting\, and piling invasive brush that will be chipped or burned later. No prior knowledge or experience with invasive plants is needed. Training will be provided including species identification and removal techniques. Some tools will be available\, but volunteers are welcome and encouraged to bring their favorite pruning shears\, loppers\, or pulling/cutting devices. Long pants\, long sleeve shirts\, and gloves are recommended as well as bug spray and water. Your help is vital to supporting native ecosystems on our preserves!
URL:https://bbrlt.org/event/clip-work-party/2021-08-04/
LOCATION:Penny Lake Preserve
CATEGORIES:CLIP,Summer Events,Volunteer Events
ATTACH;FMTTYPE=image/jpeg:https://bbrlt.org/wp-content/uploads/2021/06/Penny-Lake-Invasive-Plants-e1625067036960.jpg
END:VEVENT
BEGIN:VEVENT
DTSTART;TZID=America/New_York:20210721T090000
DTEND;TZID=America/New_York:20210721T120000
DTSTAMP:20260423T072402
CREATED:20210602T144846Z
LAST-MODIFIED:20210630T153055Z
UID:10000124-1626858000-1626868800@bbrlt.org
SUMMARY:CLIP Work Party
DESCRIPTION:Join our newly formed Committee to Limit Invasive Plants (CLIP). CLIP work parties will take place every other Wednesday at Penny Lake Preserve during the summer of 2021 (Penny Lake will be the focus point for the group’s initial efforts throughout the summer). CLIP volunteers will be helping eradicate invasive shrubs and vines (bush honeysuckle\, oriental bittersweet\, multi flora rose\, autumn olive\, and Japanese barberry) on this preserve.  Work will consist of pulling\, cutting\, and piling invasive brush that will be chipped or burned later. No prior knowledge or experience with invasive plants is needed. Training will be provided including species identification and removal techniques. Some tools will be available\, but volunteers are welcome and encouraged to bring their favorite pruning shears\, loppers\, or pulling/cutting devices. Long pants\, long sleeve shirts\, and gloves are recommended as well as bug spray and water. Your help is vital to supporting native ecosystems on our preserves!
URL:https://bbrlt.org/event/clip-work-party/2021-07-21/
LOCATION:Penny Lake Preserve
CATEGORIES:CLIP,Summer Events,Volunteer Events
ATTACH;FMTTYPE=image/jpeg:https://bbrlt.org/wp-content/uploads/2021/06/Penny-Lake-Invasive-Plants-e1625067036960.jpg
END:VEVENT
BEGIN:VEVENT
DTSTART;TZID=America/New_York:20210707T090000
DTEND;TZID=America/New_York:20210707T120000
DTSTAMP:20260423T072402
CREATED:20210602T144846Z
LAST-MODIFIED:20210630T153055Z
UID:10000123-1625648400-1625659200@bbrlt.org
SUMMARY:CLIP Work Party
DESCRIPTION:Join our newly formed Committee to Limit Invasive Plants (CLIP). CLIP work parties will take place every other Wednesday at Penny Lake Preserve during the summer of 2021 (Penny Lake will be the focus point for the group’s initial efforts throughout the summer). CLIP volunteers will be helping eradicate invasive shrubs and vines (bush honeysuckle\, oriental bittersweet\, multi flora rose\, autumn olive\, and Japanese barberry) on this preserve.  Work will consist of pulling\, cutting\, and piling invasive brush that will be chipped or burned later. No prior knowledge or experience with invasive plants is needed. Training will be provided including species identification and removal techniques. Some tools will be available\, but volunteers are welcome and encouraged to bring their favorite pruning shears\, loppers\, or pulling/cutting devices. Long pants\, long sleeve shirts\, and gloves are recommended as well as bug spray and water. Your help is vital to supporting native ecosystems on our preserves!
URL:https://bbrlt.org/event/clip-work-party/2021-07-07/
LOCATION:Penny Lake Preserve
CATEGORIES:CLIP,Summer Events,Volunteer Events
ATTACH;FMTTYPE=image/jpeg:https://bbrlt.org/wp-content/uploads/2021/06/Penny-Lake-Invasive-Plants-e1625067036960.jpg
END:VEVENT
BEGIN:VEVENT
DTSTART;TZID=America/New_York:20210623T090000
DTEND;TZID=America/New_York:20210623T120000
DTSTAMP:20260423T072402
CREATED:20210602T144846Z
LAST-MODIFIED:20210630T153055Z
UID:10000122-1624438800-1624449600@bbrlt.org
SUMMARY:CLIP Work Party
DESCRIPTION:Join our newly formed Committee to Limit Invasive Plants (CLIP). CLIP work parties will take place every other Wednesday at Penny Lake Preserve during the summer of 2021 (Penny Lake will be the focus point for the group’s initial efforts throughout the summer). CLIP volunteers will be helping eradicate invasive shrubs and vines (bush honeysuckle\, oriental bittersweet\, multi flora rose\, autumn olive\, and Japanese barberry) on this preserve.  Work will consist of pulling\, cutting\, and piling invasive brush that will be chipped or burned later. No prior knowledge or experience with invasive plants is needed. Training will be provided including species identification and removal techniques. Some tools will be available\, but volunteers are welcome and encouraged to bring their favorite pruning shears\, loppers\, or pulling/cutting devices. Long pants\, long sleeve shirts\, and gloves are recommended as well as bug spray and water. Your help is vital to supporting native ecosystems on our preserves!
URL:https://bbrlt.org/event/clip-work-party/2021-06-23/
LOCATION:Penny Lake Preserve
CATEGORIES:CLIP,Summer Events,Volunteer Events
ATTACH;FMTTYPE=image/jpeg:https://bbrlt.org/wp-content/uploads/2021/06/Penny-Lake-Invasive-Plants-e1625067036960.jpg
END:VEVENT
BEGIN:VEVENT
DTSTART;TZID=America/New_York:20210609T090000
DTEND;TZID=America/New_York:20210609T120000
DTSTAMP:20260423T072402
CREATED:20210602T144846Z
LAST-MODIFIED:20210630T153055Z
UID:10000121-1623229200-1623240000@bbrlt.org
SUMMARY:CLIP Work Party
DESCRIPTION:Join our newly formed Committee to Limit Invasive Plants (CLIP). CLIP work parties will take place every other Wednesday at Penny Lake Preserve during the summer of 2021 (Penny Lake will be the focus point for the group’s initial efforts throughout the summer). CLIP volunteers will be helping eradicate invasive shrubs and vines (bush honeysuckle\, oriental bittersweet\, multi flora rose\, autumn olive\, and Japanese barberry) on this preserve.  Work will consist of pulling\, cutting\, and piling invasive brush that will be chipped or burned later. No prior knowledge or experience with invasive plants is needed. Training will be provided including species identification and removal techniques. Some tools will be available\, but volunteers are welcome and encouraged to bring their favorite pruning shears\, loppers\, or pulling/cutting devices. Long pants\, long sleeve shirts\, and gloves are recommended as well as bug spray and water. Your help is vital to supporting native ecosystems on our preserves!
URL:https://bbrlt.org/event/clip-work-party/2021-06-09/
LOCATION:Penny Lake Preserve
CATEGORIES:CLIP,Summer Events,Volunteer Events
ATTACH;FMTTYPE=image/jpeg:https://bbrlt.org/wp-content/uploads/2021/06/Penny-Lake-Invasive-Plants-e1625067036960.jpg
END:VEVENT
END:VCALENDAR