BEGIN:VCALENDAR
VERSION:2.0
PRODID:-//Boothbay Region Land Trust - ECPv6.15.20//NONSGML v1.0//EN
CALSCALE:GREGORIAN
METHOD:PUBLISH
X-ORIGINAL-URL:https://bbrlt.org
X-WR-CALDESC:Events for Boothbay Region Land Trust
REFRESH-INTERVAL;VALUE=DURATION:PT1H
X-Robots-Tag:noindex
X-PUBLISHED-TTL:PT1H
BEGIN:VTIMEZONE
TZID:America/New_York
BEGIN:DAYLIGHT
TZOFFSETFROM:-0500
TZOFFSETTO:-0400
TZNAME:EDT
DTSTART:20240310T070000
END:DAYLIGHT
BEGIN:STANDARD
TZOFFSETFROM:-0400
TZOFFSETTO:-0500
TZNAME:EST
DTSTART:20241103T060000
END:STANDARD
BEGIN:DAYLIGHT
TZOFFSETFROM:-0500
TZOFFSETTO:-0400
TZNAME:EDT
DTSTART:20250309T070000
END:DAYLIGHT
BEGIN:STANDARD
TZOFFSETFROM:-0400
TZOFFSETTO:-0500
TZNAME:EST
DTSTART:20251102T060000
END:STANDARD
BEGIN:DAYLIGHT
TZOFFSETFROM:-0500
TZOFFSETTO:-0400
TZNAME:EDT
DTSTART:20260308T070000
END:DAYLIGHT
BEGIN:STANDARD
TZOFFSETFROM:-0400
TZOFFSETTO:-0500
TZNAME:EST
DTSTART:20261101T060000
END:STANDARD
END:VTIMEZONE
BEGIN:VEVENT
DTSTART;TZID=America/New_York:20250807T090000
DTEND;TZID=America/New_York:20250807T110000
DTSTAMP:20260423T200744
CREATED:20250702T165904Z
LAST-MODIFIED:20250728T190917Z
UID:10000814-1754557200-1754564400@bbrlt.org
SUMMARY:CLIP Work Party
DESCRIPTION:Join our Committee to Limit Invasive Plants (CLIP). CLIP work parties will take place on Thursday mornings during the months of July and August at Penny Lake Preserve. CLIP volunteers will be helping eradicate invasive shrubs and vines (bush honeysuckle\, oriental bittersweet\, multi flora rose\, autumn olive\, and Japanese barberry) on this preserve.  Work will consist of pulling\, cutting\, and piling invasive brush that will be chipped or burned later. No prior knowledge or experience with invasive plants is needed. Training will be provided including species identification and removal techniques. \nSome tools will be available\, but volunteers are welcome and encouraged to bring their favorite pruning shears\, loppers\, or pulling/cutting devices. Long pants\, long sleeve shirts\, and gloves are recommended as well as bug spray and water. Your help is vital to supporting native ecosystems on our preserves! For further questions\, please email Scott Peterson at speterson@bbrlt.org.
URL:https://bbrlt.org/event/clip-work-party-2025/2025-08-07/
LOCATION:Penny Lake Preserve
CATEGORIES:CLIP,Summer Events,Volunteer Events
ATTACH;FMTTYPE=image/jpeg:https://bbrlt.org/wp-content/uploads/2021/06/Penny-Lake-Invasive-Plants-e1625067036960.jpg
END:VEVENT
BEGIN:VEVENT
DTSTART;TZID=America/New_York:20250814T090000
DTEND;TZID=America/New_York:20250814T110000
DTSTAMP:20260423T200744
CREATED:20250702T165904Z
LAST-MODIFIED:20250728T190917Z
UID:10000815-1755162000-1755169200@bbrlt.org
SUMMARY:CLIP Work Party
DESCRIPTION:Join our Committee to Limit Invasive Plants (CLIP). CLIP work parties will take place on Thursday mornings during the months of July and August at Penny Lake Preserve. CLIP volunteers will be helping eradicate invasive shrubs and vines (bush honeysuckle\, oriental bittersweet\, multi flora rose\, autumn olive\, and Japanese barberry) on this preserve.  Work will consist of pulling\, cutting\, and piling invasive brush that will be chipped or burned later. No prior knowledge or experience with invasive plants is needed. Training will be provided including species identification and removal techniques. \nSome tools will be available\, but volunteers are welcome and encouraged to bring their favorite pruning shears\, loppers\, or pulling/cutting devices. Long pants\, long sleeve shirts\, and gloves are recommended as well as bug spray and water. Your help is vital to supporting native ecosystems on our preserves! For further questions\, please email Scott Peterson at speterson@bbrlt.org.
URL:https://bbrlt.org/event/clip-work-party-2025/2025-08-14/
LOCATION:Penny Lake Preserve
CATEGORIES:CLIP,Summer Events,Volunteer Events
ATTACH;FMTTYPE=image/jpeg:https://bbrlt.org/wp-content/uploads/2021/06/Penny-Lake-Invasive-Plants-e1625067036960.jpg
END:VEVENT
BEGIN:VEVENT
DTSTART;TZID=America/New_York:20250821T090000
DTEND;TZID=America/New_York:20250821T110000
DTSTAMP:20260423T200744
CREATED:20250702T165904Z
LAST-MODIFIED:20250728T190917Z
UID:10000816-1755766800-1755774000@bbrlt.org
SUMMARY:CLIP Work Party
DESCRIPTION:Join our Committee to Limit Invasive Plants (CLIP). CLIP work parties will take place on Thursday mornings during the months of July and August at Penny Lake Preserve. CLIP volunteers will be helping eradicate invasive shrubs and vines (bush honeysuckle\, oriental bittersweet\, multi flora rose\, autumn olive\, and Japanese barberry) on this preserve.  Work will consist of pulling\, cutting\, and piling invasive brush that will be chipped or burned later. No prior knowledge or experience with invasive plants is needed. Training will be provided including species identification and removal techniques. \nSome tools will be available\, but volunteers are welcome and encouraged to bring their favorite pruning shears\, loppers\, or pulling/cutting devices. Long pants\, long sleeve shirts\, and gloves are recommended as well as bug spray and water. Your help is vital to supporting native ecosystems on our preserves! For further questions\, please email Scott Peterson at speterson@bbrlt.org.
URL:https://bbrlt.org/event/clip-work-party-2025/2025-08-21/
LOCATION:Penny Lake Preserve
CATEGORIES:CLIP,Summer Events,Volunteer Events
ATTACH;FMTTYPE=image/jpeg:https://bbrlt.org/wp-content/uploads/2021/06/Penny-Lake-Invasive-Plants-e1625067036960.jpg
END:VEVENT
BEGIN:VEVENT
DTSTART;TZID=America/New_York:20250828T090000
DTEND;TZID=America/New_York:20250828T110000
DTSTAMP:20260423T200744
CREATED:20250702T165904Z
LAST-MODIFIED:20250728T190917Z
UID:10000817-1756371600-1756378800@bbrlt.org
SUMMARY:CLIP Work Party
DESCRIPTION:Join our Committee to Limit Invasive Plants (CLIP). CLIP work parties will take place on Thursday mornings during the months of July and August at Penny Lake Preserve. CLIP volunteers will be helping eradicate invasive shrubs and vines (bush honeysuckle\, oriental bittersweet\, multi flora rose\, autumn olive\, and Japanese barberry) on this preserve.  Work will consist of pulling\, cutting\, and piling invasive brush that will be chipped or burned later. No prior knowledge or experience with invasive plants is needed. Training will be provided including species identification and removal techniques. \nSome tools will be available\, but volunteers are welcome and encouraged to bring their favorite pruning shears\, loppers\, or pulling/cutting devices. Long pants\, long sleeve shirts\, and gloves are recommended as well as bug spray and water. Your help is vital to supporting native ecosystems on our preserves! For further questions\, please email Scott Peterson at speterson@bbrlt.org.
URL:https://bbrlt.org/event/clip-work-party-2025/2025-08-28/
LOCATION:Penny Lake Preserve
CATEGORIES:CLIP,Summer Events,Volunteer Events
ATTACH;FMTTYPE=image/jpeg:https://bbrlt.org/wp-content/uploads/2021/06/Penny-Lake-Invasive-Plants-e1625067036960.jpg
END:VEVENT
END:VCALENDAR