BEGIN:VCALENDAR
VERSION:2.0
PRODID:-//Boothbay Region Land Trust - ECPv6.15.20//NONSGML v1.0//EN
CALSCALE:GREGORIAN
METHOD:PUBLISH
X-ORIGINAL-URL:https://bbrlt.org
X-WR-CALDESC:Events for Boothbay Region Land Trust
REFRESH-INTERVAL;VALUE=DURATION:PT1H
X-Robots-Tag:noindex
X-PUBLISHED-TTL:PT1H
BEGIN:VTIMEZONE
TZID:America/New_York
BEGIN:DAYLIGHT
TZOFFSETFROM:-0500
TZOFFSETTO:-0400
TZNAME:EDT
DTSTART:20180311T070000
END:DAYLIGHT
BEGIN:STANDARD
TZOFFSETFROM:-0400
TZOFFSETTO:-0500
TZNAME:EST
DTSTART:20181104T060000
END:STANDARD
BEGIN:DAYLIGHT
TZOFFSETFROM:-0500
TZOFFSETTO:-0400
TZNAME:EDT
DTSTART:20190310T070000
END:DAYLIGHT
BEGIN:STANDARD
TZOFFSETFROM:-0400
TZOFFSETTO:-0500
TZNAME:EST
DTSTART:20191103T060000
END:STANDARD
BEGIN:DAYLIGHT
TZOFFSETFROM:-0500
TZOFFSETTO:-0400
TZNAME:EDT
DTSTART:20200308T070000
END:DAYLIGHT
BEGIN:STANDARD
TZOFFSETFROM:-0400
TZOFFSETTO:-0500
TZNAME:EST
DTSTART:20201101T060000
END:STANDARD
BEGIN:DAYLIGHT
TZOFFSETFROM:-0500
TZOFFSETTO:-0400
TZNAME:EDT
DTSTART:20210314T070000
END:DAYLIGHT
BEGIN:STANDARD
TZOFFSETFROM:-0400
TZOFFSETTO:-0500
TZNAME:EST
DTSTART:20211107T060000
END:STANDARD
END:VTIMEZONE
BEGIN:VEVENT
DTSTART;VALUE=DATE:20200528
DTEND;VALUE=DATE:20200816
DTSTAMP:20260425T223303
CREATED:20200529T160737Z
LAST-MODIFIED:20200818T192038Z
UID:10000038-1590624000-1597535999@bbrlt.org
SUMMARY:The Bird Word: Bird Nesting Blog
DESCRIPTION:Boothbay Region Land Trust volunteer and long-time birder\, Stan Wakefield\, regularly shares his observations and photos while monitoring BRLT’s bird boxes at Oak Point Farm\, Lobster Cove Meadow\, and Singing Meadows preserves. Learn about the variety of birds that are making homes in these boxes\, see great photos that document the nesting process\, and find out the best times to schedule a walk at our preserves and observe the busy feathered parents tending to their young (remember to bring your binoculars and observe from a distance). Observations and data from these boxes is also reported to NestWatch\, a citizen-science monitoring program developed by the Cornell Lab of Ornithology and used nationwide to track the status and trends in the reproductive biology of birds. We encourage readers to check back frequently at this blog to track how nests in BRLT’s bird boxes are changing over the season. \nAccess blog here!
URL:https://bbrlt.org/event/the-bird-word-bird-nesting-blog/
CATEGORIES:Family Friendly,Nature Blog,Spring Events,Summer Events
ATTACH;FMTTYPE=image/jpeg:https://bbrlt.org/wp-content/uploads/2020/05/IMG_35701-rotated-e1590694810660.jpeg
END:VEVENT
BEGIN:VEVENT
DTSTART;TZID=America/New_York:20190918T100000
DTEND;TZID=America/New_York:20190918T110000
DTSTAMP:20260425T223303
CREATED:20190826T182314Z
LAST-MODIFIED:20190910T161631Z
UID:10000054-1568800800-1568804400@bbrlt.org
SUMMARY:Babes in the Woods- Singing Meadows Preserve
DESCRIPTION:Babes in the Woods is a nature discovery program geared to children ages 2-5 with their families or caregivers. Participate in age-appropriate games\, crafts\, stories and other activities to connect to the natural world. Special emphasis is made on sensory exploration of ecological themes and usually includes a short and easy walk. Group meets at the kiosk near the parking lot. This event is free and registration is not required. Please wear sturdy shoes and clothing that can get muddy. \nFor more information contact Environmental Educator Tracey Hall at thall@bbrlt.org or 633-4818.
URL:https://bbrlt.org/event/babes-in-the-woods-singing-meadows-preserve/
LOCATION:Singing Meadows Preserve
CATEGORIES:Babes in the Woods,Summer Events
ATTACH;FMTTYPE=image/jpeg:https://bbrlt.org/wp-content/uploads/2019/07/babes-in-the-woods-e1577982701960.jpg
END:VEVENT
BEGIN:VEVENT
DTSTART;TZID=America/New_York:20190904T100000
DTEND;TZID=America/New_York:20190904T230000
DTSTAMP:20260425T223303
CREATED:20190826T180112Z
LAST-MODIFIED:20190826T180112Z
UID:10000081-1567591200-1567638000@bbrlt.org
SUMMARY:Babes in the Woods- Penny Lake Preserve
DESCRIPTION:Babes in the Woods is a nature discovery program geared to children ages 2-5 with their families or caregivers. Participate in age-appropriate games\, crafts\, stories and other activities to connect to the natural world. Special emphasis is made on sensory exploration of ecological themes and usually includes a short and easy walk. Group meets at the kiosk near the parking lot. This event is free and registration is not required. Please wear sturdy shoes and clothing that can get muddy. \nFor more information contact Environmental Educator Tracey Hall at thall@bbrlt.org or 633-4818.
URL:https://bbrlt.org/event/babes-in-the-woods-penny-lake-preserve/
LOCATION:Penny Lake Preserve
CATEGORIES:Babes in the Woods,Summer Events
ATTACH;FMTTYPE=image/jpeg:https://bbrlt.org/wp-content/uploads/2019/07/babes-in-the-woods-e1577982701960.jpg
END:VEVENT
BEGIN:VEVENT
DTSTART;TZID=America/New_York:20190821T100000
DTEND;TZID=America/New_York:20190821T230000
DTSTAMP:20260425T223303
CREATED:20190801T103054Z
LAST-MODIFIED:20190801T103054Z
UID:10000098-1566381600-1566428400@bbrlt.org
SUMMARY:Babes in the Woods- Hendricks Head
DESCRIPTION:Babes in the Woods is a nature discovery program geared to children ages 2-5 with their families or caregivers. Participate in age-appropriate games\, crafts\, stories and other activities to connect to the natural world. Special emphasis is made on sensory exploration of ecological themes and usually includes a short and easy walk. Group meets at the kiosk near the parking lot. This event is free and registration is not required. Please wear sturdy shoes and clothing that can get muddy. \nFor more information contact Environmental Educator Tracey Hall at thall@bbrlt.org or 633-4818.
URL:https://bbrlt.org/event/babes-in-the-woods-hendricks-head/
LOCATION:Hendricks Head
CATEGORIES:Babes in the Woods,Summer Events
ATTACH;FMTTYPE=image/jpeg:https://bbrlt.org/wp-content/uploads/2019/07/babes-in-the-woods-e1577982701960.jpg
END:VEVENT
BEGIN:VEVENT
DTSTART;TZID=America/New_York:20190808T170000
DTEND;TZID=America/New_York:20190808T210000
DTSTAMP:20260425T223303
CREATED:20190731T204446Z
LAST-MODIFIED:20190731T204446Z
UID:10000096-1565283600-1565298000@bbrlt.org
SUMMARY:Points of View Art Auction
DESCRIPTION:From Barters Island to Ocean Point\, and everything in between\, the Boothbay peninsula is overflowing with terrific galleries and talented artists inspired by the region. There is no better advocate for land conservation than the artists that capture the beauty of our stunning field\, forest\, and waterfront landscapes. Since 1995\, Boothbay Region Land Trust has hosted the Points of View Art Auction to highlight the incredible work of our regional artists\, while also raising funds to support land protection and public access to many of the same places these artists convey in their work. \nThis quadrennial live auction is particularly important since all proceeds will support the This Land is Your Land: Campaign for Oak Point Farm. The event will take place at Oak Point Farm\, a 32-acre public preserve that also serves as BRLT’s new headquarters. In addition to this year’s exciting new event location\, the auction will include the sale of sculptures created during the Maine Stone Symposium\, thanks to a partnership with Sculpture Boothbay. \nHonorary chair Don Demers will again be donating a featured piece to our live auction\, as well as artists Corrine McIntyre\, Peter Egeli\, June Elderkin\, Pat Berger\, John Butke and Brad Betts\, just to name a few. We will also have the professional services of Thomaston Auction Place Galleries serving as auctioneers\, and Seacoast Catering serving up a delicious and hearty spread. \nThis is an event not to be missed! Tickets are $100/person and includes a variety of delectables\, complimentary drinks and live music\, in addition to the auction. Get your tickets through the BRLT office at (207) 633-4818 or here.
URL:https://bbrlt.org/event/points-of-view-art-auction/
LOCATION:Boothbay Region Land Trust’s Oak Point Farm\, 60 Samoset Rd\, Boothbay Harbor\, ME\, 04538
CATEGORIES:Summer Events
END:VEVENT
BEGIN:VEVENT
DTSTART;TZID=America/New_York:20190807T160000
DTEND;TZID=America/New_York:20190807T180000
DTSTAMP:20260425T223303
CREATED:20190731T191038Z
LAST-MODIFIED:20190731T191038Z
UID:10000095-1565193600-1565200800@bbrlt.org
SUMMARY:Art Preview & Meet the Artist Reception
DESCRIPTION:The general public is invited to view art in advance of BRLT’s Points of View Art Auction. During this time\, art will be featured in the farmhouse at Oak Point Farm and artists will be on hand to discuss their work. The preview event is free to attend\, but RSVP is required. To RSVP\, please email brlt@bbrlt.org or call our office at 633-4818.
URL:https://bbrlt.org/event/art-preview-meet-the-artist-reception/
LOCATION:Boothbay Region Land Trust’s Oak Point Farm\, 60 Samoset Rd\, Boothbay Harbor\, ME\, 04538
CATEGORIES:Summer Events
END:VEVENT
BEGIN:VEVENT
DTSTART;TZID=America/New_York:20190807T100000
DTEND;TZID=America/New_York:20190807T230000
DTSTAMP:20260425T223303
CREATED:20190731T162130Z
LAST-MODIFIED:20190731T162130Z
UID:10000094-1565172000-1565218800@bbrlt.org
SUMMARY:Babes in the Woods- Porter
DESCRIPTION:Babes in the Woods is a nature discovery program geared to children ages 2-5 with their families or caregivers. Participate in age-appropriate games\, crafts\, stories and other activities to connect to the natural world. Special emphasis is made on sensory exploration of ecological themes and usually includes a short and easy walk. Group meets at the kiosk near the parking lot. This event is free and registration is not required. Please wear sturdy shoes and clothing that can get muddy. \nFor more information contact Environmental Educator Tracey Hall at thall@bbrlt.org or 633-4818.
URL:https://bbrlt.org/event/babes-in-the-woods-porter/
LOCATION:Porter Preserve\, 1 Porter Point Road\, Trevett\, ME\, 04571
CATEGORIES:Babes in the Woods,Summer Events
ATTACH;FMTTYPE=image/jpeg:https://bbrlt.org/wp-content/uploads/2019/07/babes-in-the-woods-e1577982701960.jpg
END:VEVENT
BEGIN:VEVENT
DTSTART;TZID=America/New_York:20190726T100000
DTEND;TZID=America/New_York:20190726T113000
DTSTAMP:20260425T223303
CREATED:20190709T164819Z
LAST-MODIFIED:20190709T164819Z
UID:10000089-1564135200-1564140600@bbrlt.org
SUMMARY:Wildlife Biology Walk and Talk
DESCRIPTION:Take a hike with Regional Biologist Keel Kemper of the Maine Department of Inland Fisheries and Wildlife\, and learn about the role his organization has in our state and what work is being done for wildlife. As we walk\, Keel will share information about the animals in our region and how they interact with their environment\, and answer any questions you may have about wildlife.  \nRegistration is required for this free event by contacting BRLT Environmental Educator Tracey Hall at thall@bbrlt.org or 633-4818
URL:https://bbrlt.org/event/wildlife-biology-walk-and-talk/
LOCATION:Lobster Cover Preserve
CATEGORIES:Classes,Summer Events
ATTACH;FMTTYPE=image/jpeg:https://bbrlt.org/wp-content/uploads/2019/07/Wildlife-Biology-Walk-and-Talk.jpg
END:VEVENT
BEGIN:VEVENT
DTSTART;TZID=America/New_York:20190724T100000
DTEND;TZID=America/New_York:20190724T230000
DTSTAMP:20260425T223303
CREATED:20190709T164208Z
LAST-MODIFIED:20190709T164208Z
UID:10000088-1563962400-1564009200@bbrlt.org
SUMMARY:Babes in the Woods
DESCRIPTION:Babes in the Woods is a nature discovery program geared to children ages 2-5 with their families or caregivers. Participate in age-appropriate games\, crafts\, stories and other activities to connect to the natural world. Special emphasis is made on sensory exploration of ecological themes and usually includes a short and easy walk. Group meets at the kiosk near the parking lot. This event is free and registration is not required. Please wear sturdy shoes and clothing that can get muddy. \nFor more information contact Environmental Educator Tracey Hall at thall@bbrlt.org or 633-4818.
URL:https://bbrlt.org/event/babes-in-the-woods-2/
LOCATION:Ocean Point Preserve
CATEGORIES:Classes,Summer Events
ATTACH;FMTTYPE=image/jpeg:https://bbrlt.org/wp-content/uploads/2019/07/babes-in-the-woods-e1577982701960.jpg
END:VEVENT
BEGIN:VEVENT
DTSTART;TZID=America/New_York:20190715T093000
DTEND;TZID=America/New_York:20190715T123000
DTSTAMP:20260425T223303
CREATED:20190709T170638Z
LAST-MODIFIED:20190709T170638Z
UID:10000091-1563183000-1563193800@bbrlt.org
SUMMARY:Paddle to Indiantown Island Preserve
DESCRIPTION:Grab your kayak or canoe and join BRLT Executive Director and registered Maine Kayak Guide Nick Ullo as he paddles out to Indiantown Island Preserve. This moderate 3 mile paddle will begin in the Townsend Gut and travel up the Sheepscot River before landing at the Indiantown Island float. Paddlers will have the opportunity to stretch their legs with a short hike while investigating the significant cultural history of the preserve. This round trip paddle launches at the float at Oak Point Farm and is best suited for intermediate and advanced paddlers. Participants should bring plenty of water\, snacks\, sunblock\, and a PDF.  \nRegistration is required by contacting BRLT at brlt@bbrlt.org or 633-4818.
URL:https://bbrlt.org/event/paddle-to-indiantown-island-preserve/
LOCATION:Indiantown Island Preserve
CATEGORIES:Summer Events
END:VEVENT
BEGIN:VEVENT
DTSTART;TZID=America/New_York:20190712T090000
DTEND;TZID=America/New_York:20190712T113000
DTSTAMP:20260425T223303
CREATED:20190702T160839Z
LAST-MODIFIED:20190702T160909Z
UID:10000101-1562922000-1562931000@bbrlt.org
SUMMARY:Trees in the Forest and the Gallery
DESCRIPTION:Trees have inspired naturalists and artists alike\, both in the forest and in the gallery. In that spirit\, the Boothbay Region Land Trust has partnered with the Mathias Fine Art to offer a tree identification walk and private viewing of tree art. Our day will start in the woods of Schoolhouse Pond Preserve. As we walk a one-mile loop past old stone walls and along a sphagnum bog\, we will encounter a variety of the tree species found in Midcoast Maine. A naturalist will offer some interesting insights into the ecology of the forest as well as share some tips for identifying our local trees. \nAfter our tree hike\, we will drive or take a short walk down the quiet road to Mathias Fine Art Gallery. Upon our arrival we will be greeted with coffee\, breakfast pastries\, and a private viewing of the show\, featuring art works created by artists from Maine and from away and inspired by the tremendous variety of trees\, their shape\, textures\, utility and most of all their beauty. \nThis event is free and open to everyone with registration required. To register or for more information\, contact BRLT Environmental Educator Tracey Hall at thall@bbrlt.org or 633-4818. \nFor more information on the exhibition visit www.mathiasfineart.com.
URL:https://bbrlt.org/event/trees-in-the-forest-and-the-gallery/
LOCATION:Schoolhouse Pond Preserve
CATEGORIES:Summer Events
END:VEVENT
BEGIN:VEVENT
DTSTART;TZID=America/New_York:20190710T080000
DTEND;TZID=America/New_York:20190710T170000
DTSTAMP:20260425T223303
CREATED:20190702T161424Z
LAST-MODIFIED:20190709T162547Z
UID:10000087-1562745600-1562778000@bbrlt.org
SUMMARY:Babes in the Woods
DESCRIPTION:Babes in the Woods is a nature discovery program geared to children ages 2-5 with their families or caregivers. Participate in age-appropriate games\, crafts\, stories and other activities to connect to the natural world. Special emphasis is made on sensory exploration of ecological themes and usually includes a short and easy walk. Group will meet at the Hendricks Head Beach parking lot and walk a short distance to the trailhead. This event is free and registration is not required. Please wear sturdy shoes and clothing that can get muddy.  \nFor more information contact Environmental Educator Tracey Hall at thall@bbrlt.org or 633-4818.
URL:https://bbrlt.org/event/babes-in-the-woods/
LOCATION:Hendricks Head
CATEGORIES:Classes,Summer Events
ATTACH;FMTTYPE=image/jpeg:https://bbrlt.org/wp-content/uploads/2019/07/babes-in-the-woods-e1577982701960.jpg
END:VEVENT
END:VCALENDAR