BEGIN:VCALENDAR
VERSION:2.0
PRODID:-//Boothbay Region Land Trust - ECPv6.15.20//NONSGML v1.0//EN
CALSCALE:GREGORIAN
METHOD:PUBLISH
X-WR-CALNAME:Boothbay Region Land Trust
X-ORIGINAL-URL:https://bbrlt.org
X-WR-CALDESC:Events for Boothbay Region Land Trust
REFRESH-INTERVAL;VALUE=DURATION:PT1H
X-Robots-Tag:noindex
X-PUBLISHED-TTL:PT1H
BEGIN:VTIMEZONE
TZID:America/New_York
BEGIN:DAYLIGHT
TZOFFSETFROM:-0500
TZOFFSETTO:-0400
TZNAME:EDT
DTSTART:20180311T070000
END:DAYLIGHT
BEGIN:STANDARD
TZOFFSETFROM:-0400
TZOFFSETTO:-0500
TZNAME:EST
DTSTART:20181104T060000
END:STANDARD
BEGIN:DAYLIGHT
TZOFFSETFROM:-0500
TZOFFSETTO:-0400
TZNAME:EDT
DTSTART:20190310T070000
END:DAYLIGHT
BEGIN:STANDARD
TZOFFSETFROM:-0400
TZOFFSETTO:-0500
TZNAME:EST
DTSTART:20191103T060000
END:STANDARD
BEGIN:DAYLIGHT
TZOFFSETFROM:-0500
TZOFFSETTO:-0400
TZNAME:EDT
DTSTART:20200308T070000
END:DAYLIGHT
BEGIN:STANDARD
TZOFFSETFROM:-0400
TZOFFSETTO:-0500
TZNAME:EST
DTSTART:20201101T060000
END:STANDARD
END:VTIMEZONE
BEGIN:VEVENT
DTSTART;TZID=America/New_York:20190812T090000
DTEND;TZID=America/New_York:20190816T120000
DTSTAMP:20260425T125019
CREATED:20190620T212139Z
LAST-MODIFIED:20190801T103545Z
UID:10000097-1565600400-1565956800@bbrlt.org
SUMMARY:Junior Naturalist Summer Camp: Session 2
DESCRIPTION:Session 2: August 12-16 from 9 AM- 12 PM \nDiscover the wonders of the natural world through play and exploration of our local preserves! In partnership with the Boothbay Region YMCA we are excited to offer two sessions of half day summer camp for children ages 6-12. BRLT Environmental Educator Tracey Hall will offer a variety of activities that connect children to the outdoors. Dip nets in a pond to see what critters call it home\, adopt a tree\, build a survival shelter\, investigate a rotting log\, create nature art\, and many more adventures in this camp for budding naturalists.  Registration is through the Boothbay Region YMCA: BRYMCA Family Member $115\, BRYMCA Member $125\, and Non Member $155.
URL:https://bbrlt.org/event/junior-naturalist-summer-camp-session-1/
LOCATION:Boothbay Region Land Trust’s Oak Point Farm\, 60 Samoset Rd\, Boothbay Harbor\, ME\, 04538
CATEGORIES:Summer Camps
ATTACH;FMTTYPE=image/jpeg:https://bbrlt.org/wp-content/uploads/2019/06/Junior-Naturalist-Camp-e1625067740969.jpg
END:VEVENT
END:VCALENDAR