BEGIN:VCALENDAR
VERSION:2.0
PRODID:-//Boothbay Region Land Trust - ECPv6.15.20//NONSGML v1.0//EN
CALSCALE:GREGORIAN
METHOD:PUBLISH
X-WR-CALNAME:Boothbay Region Land Trust
X-ORIGINAL-URL:https://bbrlt.org
X-WR-CALDESC:Events for Boothbay Region Land Trust
REFRESH-INTERVAL;VALUE=DURATION:PT1H
X-Robots-Tag:noindex
X-PUBLISHED-TTL:PT1H
BEGIN:VTIMEZONE
TZID:America/New_York
BEGIN:DAYLIGHT
TZOFFSETFROM:-0500
TZOFFSETTO:-0400
TZNAME:EDT
DTSTART:20180311T070000
END:DAYLIGHT
BEGIN:STANDARD
TZOFFSETFROM:-0400
TZOFFSETTO:-0500
TZNAME:EST
DTSTART:20181104T060000
END:STANDARD
BEGIN:DAYLIGHT
TZOFFSETFROM:-0500
TZOFFSETTO:-0400
TZNAME:EDT
DTSTART:20190310T070000
END:DAYLIGHT
BEGIN:STANDARD
TZOFFSETFROM:-0400
TZOFFSETTO:-0500
TZNAME:EST
DTSTART:20191103T060000
END:STANDARD
BEGIN:DAYLIGHT
TZOFFSETFROM:-0500
TZOFFSETTO:-0400
TZNAME:EDT
DTSTART:20200308T070000
END:DAYLIGHT
BEGIN:STANDARD
TZOFFSETFROM:-0400
TZOFFSETTO:-0500
TZNAME:EST
DTSTART:20201101T060000
END:STANDARD
BEGIN:DAYLIGHT
TZOFFSETFROM:-0500
TZOFFSETTO:-0400
TZNAME:EDT
DTSTART:20210314T070000
END:DAYLIGHT
BEGIN:STANDARD
TZOFFSETFROM:-0400
TZOFFSETTO:-0500
TZNAME:EST
DTSTART:20211107T060000
END:STANDARD
BEGIN:DAYLIGHT
TZOFFSETFROM:-0500
TZOFFSETTO:-0400
TZNAME:EDT
DTSTART:20220313T070000
END:DAYLIGHT
BEGIN:STANDARD
TZOFFSETFROM:-0400
TZOFFSETTO:-0500
TZNAME:EST
DTSTART:20221106T060000
END:STANDARD
BEGIN:DAYLIGHT
TZOFFSETFROM:-0500
TZOFFSETTO:-0400
TZNAME:EDT
DTSTART:20230312T070000
END:DAYLIGHT
BEGIN:STANDARD
TZOFFSETFROM:-0400
TZOFFSETTO:-0500
TZNAME:EST
DTSTART:20231105T060000
END:STANDARD
BEGIN:DAYLIGHT
TZOFFSETFROM:-0500
TZOFFSETTO:-0400
TZNAME:EDT
DTSTART:20240310T070000
END:DAYLIGHT
BEGIN:STANDARD
TZOFFSETFROM:-0400
TZOFFSETTO:-0500
TZNAME:EST
DTSTART:20241103T060000
END:STANDARD
END:VTIMEZONE
BEGIN:VEVENT
DTSTART;TZID=America/New_York:20231101T100000
DTEND;TZID=America/New_York:20231101T110000
DTSTAMP:20260425T113455
CREATED:20231018T164529Z
LAST-MODIFIED:20231018T164529Z
UID:10000310-1698832800-1698836400@bbrlt.org
SUMMARY:Oak Point Farm Hike
DESCRIPTION:Discover the history and ecology of Oak Point Farm during a leisurely one-mile hike with Boothbay Region Land Trust naturalist. This loop trail ventures through a varied meadow and woodland with lengthy frontage on the Townsend Gut. Hikers can enjoy walking around a small pond bordered by wildflowers. Bullfrogs and dragonflies revel in this natural habitat\, as well as deer\, small mammals\, and a variety of birds. Group size is limited and registration is required by filling out the form below: \n\n	Notice: JavaScript is required for this content.
URL:https://bbrlt.org/event/oak-point-farm-hike-4/
LOCATION:Boothbay Region Land Trust’s Oak Point Farm\, 60 Samoset Rd\, Boothbay Harbor\, ME\, 04538
CATEGORIES:Discover the Preserves,Natural History,Summer Camps
ATTACH;FMTTYPE=image/jpeg:https://bbrlt.org/wp-content/uploads/2020/08/Canada-geese-enjoy-the-protection-of-the-pond-at-Oak-Point-Farm-small.jpg
END:VEVENT
BEGIN:VEVENT
DTSTART;TZID=America/New_York:20230907T100000
DTEND;TZID=America/New_York:20230907T110000
DTSTAMP:20260425T113456
CREATED:20230725T004933Z
LAST-MODIFIED:20230818T141429Z
UID:10000291-1694080800-1694084400@bbrlt.org
SUMMARY:Oak Point Farm Hike
DESCRIPTION:Discover the history and ecology of Oak Point Farm during a leisurely one-mile hike with Boothbay Region Land Trust naturalist. This loop trail ventures through a varied meadow and woodland with lengthy frontage on the Townsend Gut. Hikers can enjoy walking around a small pond bordered by wildflowers. Bullfrogs and dragonflies revel in this natural habitat\, as well as deer\, small mammals\, and a variety of birds. Group size is limited and registration is required by filling out the form below: \n\n	Notice: JavaScript is required for this content.
URL:https://bbrlt.org/event/oak-point-farm-hike-3/
LOCATION:Boothbay Region Land Trust’s Oak Point Farm\, 60 Samoset Rd\, Boothbay Harbor\, ME\, 04538
CATEGORIES:Discover the Preserves,Natural History,Summer Camps
ATTACH;FMTTYPE=image/jpeg:https://bbrlt.org/wp-content/uploads/2020/08/Canada-geese-enjoy-the-protection-of-the-pond-at-Oak-Point-Farm-small.jpg
END:VEVENT
BEGIN:VEVENT
DTSTART;TZID=America/New_York:20230626T100000
DTEND;TZID=America/New_York:20230626T110000
DTSTAMP:20260425T113456
CREATED:20230501T114712Z
LAST-MODIFIED:20230623T123108Z
UID:10000198-1687773600-1687777200@bbrlt.org
SUMMARY:Oak Point Farm Hike (Location Moved from Gregory Preserve)
DESCRIPTION:***Note: Due to unforseen circumstances the Gregory Preserve hike has moved locations to Oak Point Farm***Discover the history and ecology of Oak Point Farm during a leisurely one mile hike with Boothbay Region Land Trust Environmental Educator Tracey Hall. This loop trail ventures through a varied meadow and woodland with lengthy frontage on the Townsend Gut. Hikers can enjoy walking around a small pond bordered by wildflowers. Bullfrogs and dragonflies revel in this natural habitat\, as well as deer\, small mammals\, and a variety of birds. Group is limited to 15 participants with registration required by filling out the form below: \n\n	Notice: JavaScript is required for this content.
URL:https://bbrlt.org/event/gregory-preserve-hike-3/
LOCATION:Boothbay Region Land Trust’s Oak Point Farm\, 60 Samoset Rd\, Boothbay Harbor\, ME\, 04538
CATEGORIES:Discover the Preserves,Natural History,Summer Camps
END:VEVENT
BEGIN:VEVENT
DTSTART;TZID=America/New_York:20220708T100000
DTEND;TZID=America/New_York:20220708T110000
DTSTAMP:20260425T113456
CREATED:20220628T011434Z
LAST-MODIFIED:20220628T011434Z
UID:10000055-1657274400-1657278000@bbrlt.org
SUMMARY:Gregory Preserve Hike
DESCRIPTION:Discover the history and ecology of Gregory Preserve during a leisurely one mile hike with Boothbay Region Land Trust Environmental Educator Tracey Hall. This loop trail ventures through a varied woodland with lengthy frontage on the Back River\, an eastern branch of the Sheepscot River. Hikers can enjoy walking around a small pond bordered by wildflowers and edged with cattails. Bullfrogs and dragonflies revel in this natural habitat\, as well as deer\, small mammals\, and a variety of birds. Group is limited to 15 participants with registration required by filling out the form below: \n\n	Notice: JavaScript is required for this content.
URL:https://bbrlt.org/event/gregory-preserve-hike-2/
LOCATION:Gregory Hiking Trai\, 2 Sawyer's Island Rd\, Boothbay Harbor\, ME\, 04538
CATEGORIES:Discover the Preserves,Natural History,Summer Camps
ATTACH;FMTTYPE=image/jpeg:https://bbrlt.org/wp-content/uploads/2019/06/gregory-header.jpg
END:VEVENT
BEGIN:VEVENT
DTSTART;TZID=America/New_York:20220622T100000
DTEND;TZID=America/New_York:20220622T110000
DTSTAMP:20260425T113456
CREATED:20220425T134531Z
LAST-MODIFIED:20220425T134531Z
UID:10000160-1655892000-1655895600@bbrlt.org
SUMMARY:Nature for Kids
DESCRIPTION:Nature for Kids is BRLT’s outdoor discovery program geared towards school-age children and their families. Join us for an easy walk sprinkled with activities and games that promote nature exploration and connection. Each month has a different natural theme that emphasizes local ecology and seasonal changes. “Nature for Kids” meets on the large deck of the white farmhouse at Oak Point Farm. Group size is limited for this free event and registration is required by filling out the online form below or by contacting Environmental Educator Tracey Hall at thall@bbrlt.org. \n\n	Notice: JavaScript is required for this content.
URL:https://bbrlt.org/event/nature-for-kids/
LOCATION:Boothbay Region Land Trust’s Oak Point Farm\, 60 Samoset Rd\, Boothbay Harbor\, ME\, 04538
CATEGORIES:Family Friendly,Nature for Kids,Summer Camps
ATTACH;FMTTYPE=image/jpeg:https://bbrlt.org/wp-content/uploads/2022/04/kids-with-nets-scaled.jpg
END:VEVENT
BEGIN:VEVENT
DTSTART;TZID=America/New_York:20210730T090000
DTEND;TZID=America/New_York:20210730T120000
DTSTAMP:20260425T113456
CREATED:20210604T145151Z
LAST-MODIFIED:20210604T145151Z
UID:10000023-1627635600-1627646400@bbrlt.org
SUMMARY:Junior Naturalist Camp
DESCRIPTION:We are partnering with the Boothbay Region YMCA to offer a half day camp full of exploration of the great outdoors for children ages 6-10. Campers will travel by bus from BRYMCA Camp Knickerbocker to local BRLT preserves\, where we will discover the wonders of nature through play and exploration. BRLT Environmental Educator Tracey Hall will offer a variety of activities: dip nets in a pond to see what critters call it home\, adopt a tree\, build a survival shelter\, investigate a rotting log\, create nature art\, and many more adventures that will connect campers to the outdoors. For more information and to register for camp\, visit the Boothbay Region YMCA at www.boothbayregionymca.org.
URL:https://bbrlt.org/event/junior-naturalist-camp-2/2021-07-30/
LOCATION:Boothbay Region Land Trust’s Oak Point Farm\, 60 Samoset Rd\, Boothbay Harbor\, ME\, 04538
CATEGORIES:Summer Camps
ATTACH;FMTTYPE=image/jpeg:https://bbrlt.org/wp-content/uploads/2021/06/juniornaturalistcamp-rotated-e1625067168728.jpg
END:VEVENT
BEGIN:VEVENT
DTSTART;TZID=America/New_York:20210729T090000
DTEND;TZID=America/New_York:20210729T120000
DTSTAMP:20260425T113456
CREATED:20210604T145151Z
LAST-MODIFIED:20210604T145151Z
UID:10000022-1627549200-1627560000@bbrlt.org
SUMMARY:Junior Naturalist Camp
DESCRIPTION:We are partnering with the Boothbay Region YMCA to offer a half day camp full of exploration of the great outdoors for children ages 6-10. Campers will travel by bus from BRYMCA Camp Knickerbocker to local BRLT preserves\, where we will discover the wonders of nature through play and exploration. BRLT Environmental Educator Tracey Hall will offer a variety of activities: dip nets in a pond to see what critters call it home\, adopt a tree\, build a survival shelter\, investigate a rotting log\, create nature art\, and many more adventures that will connect campers to the outdoors. For more information and to register for camp\, visit the Boothbay Region YMCA at www.boothbayregionymca.org.
URL:https://bbrlt.org/event/junior-naturalist-camp-2/2021-07-29/
LOCATION:Boothbay Region Land Trust’s Oak Point Farm\, 60 Samoset Rd\, Boothbay Harbor\, ME\, 04538
CATEGORIES:Summer Camps
ATTACH;FMTTYPE=image/jpeg:https://bbrlt.org/wp-content/uploads/2021/06/juniornaturalistcamp-rotated-e1625067168728.jpg
END:VEVENT
BEGIN:VEVENT
DTSTART;TZID=America/New_York:20210728T090000
DTEND;TZID=America/New_York:20210728T120000
DTSTAMP:20260425T113456
CREATED:20210604T145151Z
LAST-MODIFIED:20210604T145151Z
UID:10000021-1627462800-1627473600@bbrlt.org
SUMMARY:Junior Naturalist Camp
DESCRIPTION:We are partnering with the Boothbay Region YMCA to offer a half day camp full of exploration of the great outdoors for children ages 6-10. Campers will travel by bus from BRYMCA Camp Knickerbocker to local BRLT preserves\, where we will discover the wonders of nature through play and exploration. BRLT Environmental Educator Tracey Hall will offer a variety of activities: dip nets in a pond to see what critters call it home\, adopt a tree\, build a survival shelter\, investigate a rotting log\, create nature art\, and many more adventures that will connect campers to the outdoors. For more information and to register for camp\, visit the Boothbay Region YMCA at www.boothbayregionymca.org.
URL:https://bbrlt.org/event/junior-naturalist-camp-2/2021-07-28/
LOCATION:Boothbay Region Land Trust’s Oak Point Farm\, 60 Samoset Rd\, Boothbay Harbor\, ME\, 04538
CATEGORIES:Summer Camps
ATTACH;FMTTYPE=image/jpeg:https://bbrlt.org/wp-content/uploads/2021/06/juniornaturalistcamp-rotated-e1625067168728.jpg
END:VEVENT
BEGIN:VEVENT
DTSTART;TZID=America/New_York:20210727T090000
DTEND;TZID=America/New_York:20210727T120000
DTSTAMP:20260425T113456
CREATED:20210604T145151Z
LAST-MODIFIED:20210604T145151Z
UID:10000020-1627376400-1627387200@bbrlt.org
SUMMARY:Junior Naturalist Camp
DESCRIPTION:We are partnering with the Boothbay Region YMCA to offer a half day camp full of exploration of the great outdoors for children ages 6-10. Campers will travel by bus from BRYMCA Camp Knickerbocker to local BRLT preserves\, where we will discover the wonders of nature through play and exploration. BRLT Environmental Educator Tracey Hall will offer a variety of activities: dip nets in a pond to see what critters call it home\, adopt a tree\, build a survival shelter\, investigate a rotting log\, create nature art\, and many more adventures that will connect campers to the outdoors. For more information and to register for camp\, visit the Boothbay Region YMCA at www.boothbayregionymca.org.
URL:https://bbrlt.org/event/junior-naturalist-camp-2/2021-07-27/
LOCATION:Boothbay Region Land Trust’s Oak Point Farm\, 60 Samoset Rd\, Boothbay Harbor\, ME\, 04538
CATEGORIES:Summer Camps
ATTACH;FMTTYPE=image/jpeg:https://bbrlt.org/wp-content/uploads/2021/06/juniornaturalistcamp-rotated-e1625067168728.jpg
END:VEVENT
BEGIN:VEVENT
DTSTART;TZID=America/New_York:20210726T090000
DTEND;TZID=America/New_York:20210726T120000
DTSTAMP:20260425T113456
CREATED:20210604T145151Z
LAST-MODIFIED:20210604T145151Z
UID:10000019-1627290000-1627300800@bbrlt.org
SUMMARY:Junior Naturalist Camp
DESCRIPTION:We are partnering with the Boothbay Region YMCA to offer a half day camp full of exploration of the great outdoors for children ages 6-10. Campers will travel by bus from BRYMCA Camp Knickerbocker to local BRLT preserves\, where we will discover the wonders of nature through play and exploration. BRLT Environmental Educator Tracey Hall will offer a variety of activities: dip nets in a pond to see what critters call it home\, adopt a tree\, build a survival shelter\, investigate a rotting log\, create nature art\, and many more adventures that will connect campers to the outdoors. For more information and to register for camp\, visit the Boothbay Region YMCA at www.boothbayregionymca.org.
URL:https://bbrlt.org/event/junior-naturalist-camp-2/2021-07-26/
LOCATION:Boothbay Region Land Trust’s Oak Point Farm\, 60 Samoset Rd\, Boothbay Harbor\, ME\, 04538
CATEGORIES:Summer Camps
ATTACH;FMTTYPE=image/jpeg:https://bbrlt.org/wp-content/uploads/2021/06/juniornaturalistcamp-rotated-e1625067168728.jpg
END:VEVENT
BEGIN:VEVENT
DTSTART;TZID=America/New_York:20190812T090000
DTEND;TZID=America/New_York:20190816T120000
DTSTAMP:20260425T113456
CREATED:20190620T212139Z
LAST-MODIFIED:20190801T103545Z
UID:10000097-1565600400-1565956800@bbrlt.org
SUMMARY:Junior Naturalist Summer Camp: Session 2
DESCRIPTION:Session 2: August 12-16 from 9 AM- 12 PM \nDiscover the wonders of the natural world through play and exploration of our local preserves! In partnership with the Boothbay Region YMCA we are excited to offer two sessions of half day summer camp for children ages 6-12. BRLT Environmental Educator Tracey Hall will offer a variety of activities that connect children to the outdoors. Dip nets in a pond to see what critters call it home\, adopt a tree\, build a survival shelter\, investigate a rotting log\, create nature art\, and many more adventures in this camp for budding naturalists.  Registration is through the Boothbay Region YMCA: BRYMCA Family Member $115\, BRYMCA Member $125\, and Non Member $155.
URL:https://bbrlt.org/event/junior-naturalist-summer-camp-session-1/
LOCATION:Boothbay Region Land Trust’s Oak Point Farm\, 60 Samoset Rd\, Boothbay Harbor\, ME\, 04538
CATEGORIES:Summer Camps
ATTACH;FMTTYPE=image/jpeg:https://bbrlt.org/wp-content/uploads/2019/06/Junior-Naturalist-Camp-e1625067740969.jpg
END:VEVENT
END:VCALENDAR