BEGIN:VCALENDAR
VERSION:2.0
PRODID:-//Boothbay Region Land Trust - ECPv6.15.20//NONSGML v1.0//EN
CALSCALE:GREGORIAN
METHOD:PUBLISH
X-ORIGINAL-URL:https://bbrlt.org
X-WR-CALDESC:Events for Boothbay Region Land Trust
REFRESH-INTERVAL;VALUE=DURATION:PT1H
X-Robots-Tag:noindex
X-PUBLISHED-TTL:PT1H
BEGIN:VTIMEZONE
TZID:America/New_York
BEGIN:DAYLIGHT
TZOFFSETFROM:-0500
TZOFFSETTO:-0400
TZNAME:EDT
DTSTART:20180311T070000
END:DAYLIGHT
BEGIN:STANDARD
TZOFFSETFROM:-0400
TZOFFSETTO:-0500
TZNAME:EST
DTSTART:20181104T060000
END:STANDARD
BEGIN:DAYLIGHT
TZOFFSETFROM:-0500
TZOFFSETTO:-0400
TZNAME:EDT
DTSTART:20190310T070000
END:DAYLIGHT
BEGIN:STANDARD
TZOFFSETFROM:-0400
TZOFFSETTO:-0500
TZNAME:EST
DTSTART:20191103T060000
END:STANDARD
BEGIN:DAYLIGHT
TZOFFSETFROM:-0500
TZOFFSETTO:-0400
TZNAME:EDT
DTSTART:20200308T070000
END:DAYLIGHT
BEGIN:STANDARD
TZOFFSETFROM:-0400
TZOFFSETTO:-0500
TZNAME:EST
DTSTART:20201101T060000
END:STANDARD
BEGIN:DAYLIGHT
TZOFFSETFROM:-0500
TZOFFSETTO:-0400
TZNAME:EDT
DTSTART:20210314T070000
END:DAYLIGHT
BEGIN:STANDARD
TZOFFSETFROM:-0400
TZOFFSETTO:-0500
TZNAME:EST
DTSTART:20211107T060000
END:STANDARD
END:VTIMEZONE
BEGIN:VEVENT
DTSTART;VALUE=DATE:20200609
DTEND;VALUE=DATE:20200701
DTSTAMP:20260423T092335
CREATED:20200610T014652Z
LAST-MODIFIED:20200610T014652Z
UID:10000040-1591660800-1593561599@bbrlt.org
SUMMARY:Story Trail Walk: Living Sunlight\, How Plants Bring the Earth to Life
DESCRIPTION:Looking for something to do with your kids during this time of remote learning and social distancing? Come outside and read a family friendly book while on a short and easy hike!  This free 1 mile story trail starts from the Oak Point Farm parking lot kiosk and can be completed anytime during daylight hours. The current story trail features the book “Living Sunlight: How Plants Bring The Earth to Life” by Molly Bang and Penny Chisholm. This informative yet dramatic book will mesmerize readers and help further a child’s understanding of the energy we share with all living things in nature.
URL:https://bbrlt.org/event/story-trail-walk-living-sunlight-how-plants-bring-the-earth-to-life/
LOCATION:Boothbay Region Land Trust’s Oak Point Farm\, 60 Samoset Rd\, Boothbay Harbor\, ME\, 04538
CATEGORIES:Family Friendly,Spring Events,Story Trail
END:VEVENT
BEGIN:VEVENT
DTSTART;VALUE=DATE:20200515
DTEND;VALUE=DATE:20200609
DTSTAMP:20260423T092335
CREATED:20200515T145822Z
LAST-MODIFIED:20200515T145822Z
UID:10000035-1589500800-1591660799@bbrlt.org
SUMMARY:Story Trail: A Logs Life
DESCRIPTION:Looking for something to do with your kids during this time of remote learning and social distancing? Come outside and read a family friendly book while on a short and easy hike!  This free 1 mile story trail starts from the Oak Point Farm parking lot kiosk and can be completed anytime during daylight hours. The current story trail features the book “A Logs Life” by Wendy Pfeffer. The book is an informative and creative tale about a fallen oak tree in the forest\, teaching young readers about the various purposes it serves in the ecosystem during every step of its life cycle. After your story walk\, see if you can find your own fallen log to investigate. Share your results with BRLT on Facebook or via email at brlt@bbrlt.org; we’d love to see them!
URL:https://bbrlt.org/event/story-trail-a-logs-life/
LOCATION:Boothbay Region Land Trust’s Oak Point Farm\, 60 Samoset Rd\, Boothbay Harbor\, ME\, 04538
CATEGORIES:Family Friendly,Spring Events,Story Trail
END:VEVENT
BEGIN:VEVENT
DTSTART;VALUE=DATE:20200415
DTEND;VALUE=DATE:20200507
DTSTAMP:20260423T092335
CREATED:20200210T204710Z
LAST-MODIFIED:20200415T181405Z
UID:10000032-1586908800-1588809599@bbrlt.org
SUMMARY:Story Trail: Mama Built a Little Nest
DESCRIPTION:Looking for something to do with your kids during this time of remote learning and social distancing? Come outside and read a family friendly book while on a short and easy hike!  This free 1 mile story trail starts from the Oak Point Farm parking lot kiosk and can be completed anytime during daylight hours. The current story trail features the book “Mama Built a Little Nest” by Jennifer Ward.
URL:https://bbrlt.org/event/spring-story-trail/
LOCATION:Boothbay Region Land Trust’s Oak Point Farm\, 60 Samoset Rd\, Boothbay Harbor\, ME\, 04538
CATEGORIES:Family Friendly,Spring Events,Story Trail
END:VEVENT
BEGIN:VEVENT
DTSTART;VALUE=DATE:20191201
DTEND;VALUE=DATE:20200101
DTSTAMP:20260423T092335
CREATED:20191101T172900Z
LAST-MODIFIED:20191101T172900Z
UID:10000026-1575158400-1577836799@bbrlt.org
SUMMARY:Hike the Holiday Story Trail
DESCRIPTION:Read a family friendly book while you hike! Follow the illustrated signs along the trail as they tell a tale to get you in the holiday spirit. This easy 1 mile walk can be completed at your own pace and on your own time and is suitable for children of all ages. Just drive to the trail head and you will see the start of the Holiday Story Trail. This free event is open during daylight hours and registration is not required.
URL:https://bbrlt.org/event/hike-the-holiday-story-trail/
LOCATION:Boothbay Region Land Trust’s Oak Point Farm\, 60 Samoset Rd\, Boothbay Harbor\, ME\, 04538
CATEGORIES:Fall Events,Family Friendly,Story Trail
END:VEVENT
BEGIN:VEVENT
DTSTART;VALUE=DATE:20191001
DTEND;VALUE=DATE:20191101
DTSTAMP:20260423T092335
CREATED:20190924T131104Z
LAST-MODIFIED:20190924T131249Z
UID:10000077-1569888000-1572566399@bbrlt.org
SUMMARY:Hike the Halloween Story Trail
DESCRIPTION:Read a family friendly book while you hike! Follow the illustrated signs along the trail as they tell a tale to get you in the Halloween spirit. This easy 1 mile walk can be completed at your own pace and on your own time and is suitable for children of all ages. Just drive to the trail head and you will see the start of the Halloween Story Trail. This free event is open during daylight hours and registration is not required.
URL:https://bbrlt.org/event/hike-the-halloween-story-trail/
LOCATION:Boothbay Region Land Trust’s Oak Point Farm\, 60 Samoset Rd\, Boothbay Harbor\, ME\, 04538
CATEGORIES:Fall Events,Family Friendly,Story Trail
END:VEVENT
END:VCALENDAR