BEGIN:VCALENDAR
VERSION:2.0
PRODID:-//Boothbay Region Land Trust - ECPv6.15.20//NONSGML v1.0//EN
CALSCALE:GREGORIAN
METHOD:PUBLISH
X-WR-CALNAME:Boothbay Region Land Trust
X-ORIGINAL-URL:https://bbrlt.org
X-WR-CALDESC:Events for Boothbay Region Land Trust
REFRESH-INTERVAL;VALUE=DURATION:PT1H
X-Robots-Tag:noindex
X-PUBLISHED-TTL:PT1H
BEGIN:VTIMEZONE
TZID:America/New_York
BEGIN:DAYLIGHT
TZOFFSETFROM:-0500
TZOFFSETTO:-0400
TZNAME:EDT
DTSTART:20180311T070000
END:DAYLIGHT
BEGIN:STANDARD
TZOFFSETFROM:-0400
TZOFFSETTO:-0500
TZNAME:EST
DTSTART:20181104T060000
END:STANDARD
BEGIN:DAYLIGHT
TZOFFSETFROM:-0500
TZOFFSETTO:-0400
TZNAME:EDT
DTSTART:20190310T070000
END:DAYLIGHT
BEGIN:STANDARD
TZOFFSETFROM:-0400
TZOFFSETTO:-0500
TZNAME:EST
DTSTART:20191103T060000
END:STANDARD
BEGIN:DAYLIGHT
TZOFFSETFROM:-0500
TZOFFSETTO:-0400
TZNAME:EDT
DTSTART:20200308T070000
END:DAYLIGHT
BEGIN:STANDARD
TZOFFSETFROM:-0400
TZOFFSETTO:-0500
TZNAME:EST
DTSTART:20201101T060000
END:STANDARD
BEGIN:DAYLIGHT
TZOFFSETFROM:-0500
TZOFFSETTO:-0400
TZNAME:EDT
DTSTART:20210314T070000
END:DAYLIGHT
BEGIN:STANDARD
TZOFFSETFROM:-0400
TZOFFSETTO:-0500
TZNAME:EST
DTSTART:20211107T060000
END:STANDARD
BEGIN:DAYLIGHT
TZOFFSETFROM:-0500
TZOFFSETTO:-0400
TZNAME:EDT
DTSTART:20220313T070000
END:DAYLIGHT
BEGIN:STANDARD
TZOFFSETFROM:-0400
TZOFFSETTO:-0500
TZNAME:EST
DTSTART:20221106T060000
END:STANDARD
END:VTIMEZONE
BEGIN:VEVENT
DTSTART;VALUE=DATE:20210428
DTEND;VALUE=DATE:20210528
DTSTAMP:20260423T092235
CREATED:20210427T232711Z
LAST-MODIFIED:20210427T232711Z
UID:10000116-1619568000-1622159999@bbrlt.org
SUMMARY:Story Trail: Roxaboxen
DESCRIPTION:Read a family friendly book while walking through the spring woods. Follow the illustrated signs along the trail as they tell a tale that connects you to your natural surroundings. The free 1 mile story trail starts from the Oak Point Farm parking lot kiosk and can be completed at your own pace and on your own time. The current story trail features the classic read aloud book “Roxaboxen” by Alice McLerran with illustrations by Caldecott Medal-winning illustrator Barbara Cooney. \nRoxaboxen celebrates the imagination of children who\, no matter the time or place\, can create whole worlds out of what they find around them–here\, rocks and boxes\, cacti and sand. Marian and her friends find a special place in the desert where in time-honored fashion\, they play the games that will prepare them for their grown-up lives. They make houses\, drive pretend cars\, bake bread\, ride stick ponies\, fight their wars and bury their dead. Drawn from her mother’s reminiscences\, McLerran’s gentle text is both particular and universal\, as she fondly tells this evocative story.
URL:https://bbrlt.org/event/story-trail-roxaboxen/
LOCATION:Boothbay Region Land Trust’s Oak Point Farm\, 60 Samoset Rd\, Boothbay Harbor\, ME\, 04538
CATEGORIES:Family Friendly,Spring Events,Story Trail
END:VEVENT
BEGIN:VEVENT
DTSTART;VALUE=DATE:20210320
DTEND;VALUE=DATE:20210426
DTSTAMP:20260423T092235
CREATED:20210318T143255Z
LAST-MODIFIED:20210318T143255Z
UID:10000114-1616198400-1619395199@bbrlt.org
SUMMARY:Story Trail: Ruby's Birds
DESCRIPTION:Read a family friendly book while walking through the spring woods. Follow the illustrated signs along the trail as they tell a tale that connects you to your natural surroundings. The free 1 mile story trail starts from the Oak Point Farm parking lot kiosk and can be completed at your own pace and on your own time. The current story trail features the read aloud book “Ruby’s Birds” by Mya Thompson with illustrations by Claudia Dávila. \nRuby is a plucky young girl who uncovers the wild side of her city neighborhood with the help of a grown-up friend. When Ruby realizes there are amazing birds right in her neighborhood\, her imagination takes flight. Birders have a name for the moment they get hooked―they call it their spark moment. This is the story of Ruby’s spark moment\, in her very own words. As you walk you will have the opportunity to find birds in the pages of the story and along the trail.
URL:https://bbrlt.org/event/story-trail-rubys-birds/
LOCATION:Boothbay Region Land Trust’s Oak Point Farm\, 60 Samoset Rd\, Boothbay Harbor\, ME\, 04538
CATEGORIES:Family Friendly,Spring Events,Story Trail
END:VEVENT
BEGIN:VEVENT
DTSTART;VALUE=DATE:20210213
DTEND;VALUE=DATE:20210315
DTSTAMP:20260423T092235
CREATED:20210112T153151Z
LAST-MODIFIED:20210112T153151Z
UID:10000009-1613174400-1615766399@bbrlt.org
SUMMARY:Story Trail: Snowflake Bentley
DESCRIPTION:Read a family friendly book while walking through the winter woods. Follow the illustrated signs along the trail as they tell a tale that connects you to your natural surroundings. The free 1 mile story trail starts from the Oak Point Farm parking lot kiosk and can be completed at your own pace and on your own time. The current story trail features the read aloud book “Snowflake Bentley” by Jacqueline Briggs Martin with illustrations by Mary Azarian. \nSnowflake Bentley shares the true story of Wilson Bentley from Vermont\, who was mystified by snowflakes since he was a little boy. Bentley was determined that one day his camera would capture for others the wonder of the tiny crystal. His enthusiasm for photographing snowflakes was often misunderstood in his time\, but his patience and determination revealed two important truths: no two snowflakes are alike; and each one is startlingly beautiful.
URL:https://bbrlt.org/event/story-trail-snowflake-bentley/
LOCATION:Boothbay Region Land Trust’s Oak Point Farm\, 60 Samoset Rd\, Boothbay Harbor\, ME\, 04538
CATEGORIES:Family Friendly,Story Trail,Winter Events
END:VEVENT
BEGIN:VEVENT
DTSTART;VALUE=DATE:20210109
DTEND;VALUE=DATE:20210210
DTSTAMP:20260423T092235
CREATED:20210104T161110Z
LAST-MODIFIED:20210112T150813Z
UID:10000008-1610150400-1612915199@bbrlt.org
SUMMARY:Story Trail: Over and Under the Snow
DESCRIPTION:Read a family friendly book while walking through the winter woods. Follow the illustrated signs along the trail as they tell a tale that connects you to your natural surroundings. The free 1 mile story trail starts from the Oak Point Farm parking lot kiosk and can be completed at your own pace and on your own time. The current story trail features the read aloud book “Over and Under the Snow” by Kate Messner with illustrations by Christopher Silas Neal. \nOver the snow\, the world is hushed and white. But under the snow is a secret world of squirrels and snowshoe hares\, bears and bullfrogs\, and many other animals who live through the winter\, safe and warm. The book “Over and Under the Snow” takes readers on a cross country ski trip through the winter woods to discover the secret world of animals living under the snow.
URL:https://bbrlt.org/event/story-trail-over-and-under-the-snow/
LOCATION:Boothbay Region Land Trust’s Oak Point Farm\, 60 Samoset Rd\, Boothbay Harbor\, ME\, 04538
CATEGORIES:Family Friendly,Story Trail,Winter Events
END:VEVENT
BEGIN:VEVENT
DTSTART;VALUE=DATE:20201201
DTEND;VALUE=DATE:20210101
DTSTAMP:20260423T092235
CREATED:20201119T191643Z
LAST-MODIFIED:20201119T191643Z
UID:10000007-1606780800-1609459199@bbrlt.org
SUMMARY:Story Trail: The Snow Tree
DESCRIPTION:Read a holiday themed family friendly book while walking through the winter woods. Follow the illustrated signs along the trail as they tell a tale to get you into the holiday spirit. The free 1 mile story trail starts from the Oak Point Farm parking lot kiosk and can be completed at your own pace and on your own time. The current story trail features the family friendly read aloud book “The Snow Tree” by Caroline Repchuk with illustrations by Josephine Martin. \nNature lovers of all ages will delight in this ornate picture book that celebrates the holidays and splendor of the natural world. When a little black bear wakes up to find a wintry world of white all around him\, he wonders where the colors have gone. As the cub searches for an answer he is helped by a whole host of animals who bring the brilliant colors of the forest to him. What the animals create together with their treasures is a magical symbol of the holiday season and a timeless testimonial to the joy of friendship and sharing.
URL:https://bbrlt.org/event/story-trail-the-snow-tree/
LOCATION:Boothbay Region Land Trust’s Oak Point Farm\, 60 Samoset Rd\, Boothbay Harbor\, ME\, 04538
CATEGORIES:Family Friendly,Story Trail,Winter Events
END:VEVENT
BEGIN:VEVENT
DTSTART;VALUE=DATE:20201101
DTEND;VALUE=DATE:20201201
DTSTAMP:20260423T092235
CREATED:20201103T154025Z
LAST-MODIFIED:20201103T154025Z
UID:10000006-1604188800-1606780799@bbrlt.org
SUMMARY:Story Trail: Little Tom Turkey
DESCRIPTION:Read a family friendly book while you hike! Follow the illustrated signs along the trail as they tell a tale to get you into the Thanksgiving spirit. The free 1 mile story trail starts from the Oak Point Farm parking lot kiosk and can be completed at your own pace and on your own time. The current story trail features the family friendly read aloud book “Little Tom Turkey” by Frances Bloxam and illustrated by Jim Sollers.
URL:https://bbrlt.org/event/story-trail-little-tom-turkey/
LOCATION:Boothbay Region Land Trust’s Oak Point Farm\, 60 Samoset Rd\, Boothbay Harbor\, ME\, 04538
CATEGORIES:Fall Events,Family Friendly,Story Trail
ATTACH;FMTTYPE=image/jpeg:https://bbrlt.org/wp-content/uploads/2020/11/thanksgiving-story-trail.jpg
END:VEVENT
BEGIN:VEVENT
DTSTART;VALUE=DATE:20201001
DTEND;VALUE=DATE:20201101
DTSTAMP:20260423T092235
CREATED:20201003T112751Z
LAST-MODIFIED:20201003T112751Z
UID:10000003-1601510400-1604188799@bbrlt.org
SUMMARY:Hike the Halloween Story Trail
DESCRIPTION:Read a family friendly book while you hike! Follow the illustrated signs along the trail as they tell a tale to get you in the Halloween spirit.  The free 1 mile story trail starts from the Oak Point Farm parking lot kiosk and can be completed anytime during daylight hours. The current story trail features the family friendly read aloud book “Room on the Broom” by Julia Donaldson.
URL:https://bbrlt.org/event/hike-the-halloween-story-trail-2/
LOCATION:Boothbay Region Land Trust’s Oak Point Farm\, 60 Samoset Rd\, Boothbay Harbor\, ME\, 04538
CATEGORIES:Fall Events,Family Friendly,Story Trail
END:VEVENT
BEGIN:VEVENT
DTSTART;VALUE=DATE:20200830
DTEND;VALUE=DATE:20200914
DTSTAMP:20260423T092235
CREATED:20200827T221846Z
LAST-MODIFIED:20200827T221846Z
UID:10000001-1598745600-1600041599@bbrlt.org
SUMMARY:Story Trail Walk: Hey\, Little Ant
DESCRIPTION:Looking for something to do with your kids during this time of remote learning and social distancing? Come outside and read a family friendly book while on a short and easy hike!  The free 1 mile story trail starts from the Oak Point Farm parking lot kiosk and can be completed anytime during daylight hours. The current story trail features the book “Hey\, Little Ant” by Phillip and Hannah Hoose. Written first as a song by a father and daughter\, this illustrated book features the dialogue of a plucky ant and the kid about to carelessly squish it. Tension builds as the ant states a compelling case for its survival while the kid’s friends gather round to taunt the kid for hesitating. The final line of the book is a question–“What do you think that kid should do?”–leaving the decision squarely in the hands of the reader. Because the book asks children to decide the outcome\, it has been widely used by educators and caregivers to discuss everything from bullying to the ethical treatment of animals. The BRLT Story Trail Walk will feature a new book every few weeks throughout the pandemic at Oak Point Farm.
URL:https://bbrlt.org/event/story-trail-walk-hey-little-ant/
LOCATION:Boothbay Region Land Trust’s Oak Point Farm\, 60 Samoset Rd\, Boothbay Harbor\, ME\, 04538
CATEGORIES:Family Friendly,Story Trail,Summer Events
END:VEVENT
BEGIN:VEVENT
DTSTART;VALUE=DATE:20200801
DTEND;VALUE=DATE:20200823
DTSTAMP:20260423T092235
CREATED:20200730T151112Z
LAST-MODIFIED:20200730T151112Z
UID:10000046-1596240000-1598140799@bbrlt.org
SUMMARY:Story Trail Walk: Over and Under the Pond
DESCRIPTION:Looking for something to do with your kids during this time of remote learning and social distancing? Come outside and read a family friendly book while on a short and easy hike!  This free 1 mile story trail starts from the Oak Point Farm parking lot kiosk and can be completed anytime during daylight hours. The current story trail features the book “Over and Under the Pond” by Kate Messner and Christopher Silas Neal. In this book\, readers will discover the plants and animals that make up the rich\, interconnected ecosystem of a pond. Over the pond\, the water is a mirror\, reflecting the sky. But under the water is a hidden world of minnows darting\, beavers diving\, and tadpoles growing. These secrets and many others are waiting to be discovered on this story trail walk. After the book ends\, you will have a chance to investigate a real freshwater pond on the preserve that teems with life. What will you discover?
URL:https://bbrlt.org/event/story-trail-walk-over-and-under-the-pond/
LOCATION:Boothbay Region Land Trust’s Oak Point Farm\, 60 Samoset Rd\, Boothbay Harbor\, ME\, 04538
CATEGORIES:Family Friendly,Story Trail,Summer Events
END:VEVENT
BEGIN:VEVENT
DTSTART;VALUE=DATE:20200708
DTEND;VALUE=DATE:20200727
DTSTAMP:20260423T092235
CREATED:20200706T190039Z
LAST-MODIFIED:20200706T190749Z
UID:10000044-1594166400-1595807999@bbrlt.org
SUMMARY:Story Trail Walk: The Little Island
DESCRIPTION:Looking for something to do with your kids during this time of remote learning and social distancing? Come outside and read a family friendly book while on a short and easy hike!  This free 1 mile story trail starts from the Oak Point Farm parking lot kiosk and can be completed anytime during daylight hours. The current story trail features the book “The Little Island” by Margaret Wise Brown and Leonard Weisgard. This lyrical book explores the seasons as experienced by a little island\, capturing the subtle rhythms of nature and the connections that all beings and objects have with one another.
URL:https://bbrlt.org/event/story-trail-walk-the-little-island/
LOCATION:Boothbay Region Land Trust’s Oak Point Farm\, 60 Samoset Rd\, Boothbay Harbor\, ME\, 04538
CATEGORIES:Family Friendly,Story Trail,Summer Events
END:VEVENT
BEGIN:VEVENT
DTSTART;VALUE=DATE:20200609
DTEND;VALUE=DATE:20200701
DTSTAMP:20260423T092235
CREATED:20200610T014652Z
LAST-MODIFIED:20200610T014652Z
UID:10000040-1591660800-1593561599@bbrlt.org
SUMMARY:Story Trail Walk: Living Sunlight\, How Plants Bring the Earth to Life
DESCRIPTION:Looking for something to do with your kids during this time of remote learning and social distancing? Come outside and read a family friendly book while on a short and easy hike!  This free 1 mile story trail starts from the Oak Point Farm parking lot kiosk and can be completed anytime during daylight hours. The current story trail features the book “Living Sunlight: How Plants Bring The Earth to Life” by Molly Bang and Penny Chisholm. This informative yet dramatic book will mesmerize readers and help further a child’s understanding of the energy we share with all living things in nature.
URL:https://bbrlt.org/event/story-trail-walk-living-sunlight-how-plants-bring-the-earth-to-life/
LOCATION:Boothbay Region Land Trust’s Oak Point Farm\, 60 Samoset Rd\, Boothbay Harbor\, ME\, 04538
CATEGORIES:Family Friendly,Spring Events,Story Trail
END:VEVENT
BEGIN:VEVENT
DTSTART;VALUE=DATE:20200515
DTEND;VALUE=DATE:20200609
DTSTAMP:20260423T092235
CREATED:20200515T145822Z
LAST-MODIFIED:20200515T145822Z
UID:10000035-1589500800-1591660799@bbrlt.org
SUMMARY:Story Trail: A Logs Life
DESCRIPTION:Looking for something to do with your kids during this time of remote learning and social distancing? Come outside and read a family friendly book while on a short and easy hike!  This free 1 mile story trail starts from the Oak Point Farm parking lot kiosk and can be completed anytime during daylight hours. The current story trail features the book “A Logs Life” by Wendy Pfeffer. The book is an informative and creative tale about a fallen oak tree in the forest\, teaching young readers about the various purposes it serves in the ecosystem during every step of its life cycle. After your story walk\, see if you can find your own fallen log to investigate. Share your results with BRLT on Facebook or via email at brlt@bbrlt.org; we’d love to see them!
URL:https://bbrlt.org/event/story-trail-a-logs-life/
LOCATION:Boothbay Region Land Trust’s Oak Point Farm\, 60 Samoset Rd\, Boothbay Harbor\, ME\, 04538
CATEGORIES:Family Friendly,Spring Events,Story Trail
END:VEVENT
BEGIN:VEVENT
DTSTART;VALUE=DATE:20200415
DTEND;VALUE=DATE:20200507
DTSTAMP:20260423T092235
CREATED:20200210T204710Z
LAST-MODIFIED:20200415T181405Z
UID:10000032-1586908800-1588809599@bbrlt.org
SUMMARY:Story Trail: Mama Built a Little Nest
DESCRIPTION:Looking for something to do with your kids during this time of remote learning and social distancing? Come outside and read a family friendly book while on a short and easy hike!  This free 1 mile story trail starts from the Oak Point Farm parking lot kiosk and can be completed anytime during daylight hours. The current story trail features the book “Mama Built a Little Nest” by Jennifer Ward.
URL:https://bbrlt.org/event/spring-story-trail/
LOCATION:Boothbay Region Land Trust’s Oak Point Farm\, 60 Samoset Rd\, Boothbay Harbor\, ME\, 04538
CATEGORIES:Family Friendly,Spring Events,Story Trail
END:VEVENT
BEGIN:VEVENT
DTSTART;VALUE=DATE:20191201
DTEND;VALUE=DATE:20200101
DTSTAMP:20260423T092235
CREATED:20191101T172900Z
LAST-MODIFIED:20191101T172900Z
UID:10000026-1575158400-1577836799@bbrlt.org
SUMMARY:Hike the Holiday Story Trail
DESCRIPTION:Read a family friendly book while you hike! Follow the illustrated signs along the trail as they tell a tale to get you in the holiday spirit. This easy 1 mile walk can be completed at your own pace and on your own time and is suitable for children of all ages. Just drive to the trail head and you will see the start of the Holiday Story Trail. This free event is open during daylight hours and registration is not required.
URL:https://bbrlt.org/event/hike-the-holiday-story-trail/
LOCATION:Boothbay Region Land Trust’s Oak Point Farm\, 60 Samoset Rd\, Boothbay Harbor\, ME\, 04538
CATEGORIES:Fall Events,Family Friendly,Story Trail
END:VEVENT
BEGIN:VEVENT
DTSTART;VALUE=DATE:20191001
DTEND;VALUE=DATE:20191101
DTSTAMP:20260423T092235
CREATED:20190924T131104Z
LAST-MODIFIED:20190924T131249Z
UID:10000077-1569888000-1572566399@bbrlt.org
SUMMARY:Hike the Halloween Story Trail
DESCRIPTION:Read a family friendly book while you hike! Follow the illustrated signs along the trail as they tell a tale to get you in the Halloween spirit. This easy 1 mile walk can be completed at your own pace and on your own time and is suitable for children of all ages. Just drive to the trail head and you will see the start of the Halloween Story Trail. This free event is open during daylight hours and registration is not required.
URL:https://bbrlt.org/event/hike-the-halloween-story-trail/
LOCATION:Boothbay Region Land Trust’s Oak Point Farm\, 60 Samoset Rd\, Boothbay Harbor\, ME\, 04538
CATEGORIES:Fall Events,Family Friendly,Story Trail
END:VEVENT
END:VCALENDAR