BEGIN:VCALENDAR
VERSION:2.0
PRODID:-//Boothbay Region Land Trust - ECPv6.15.20//NONSGML v1.0//EN
CALSCALE:GREGORIAN
METHOD:PUBLISH
X-ORIGINAL-URL:https://bbrlt.org
X-WR-CALDESC:Events for Boothbay Region Land Trust
REFRESH-INTERVAL;VALUE=DURATION:PT1H
X-Robots-Tag:noindex
X-PUBLISHED-TTL:PT1H
BEGIN:VTIMEZONE
TZID:America/New_York
BEGIN:DAYLIGHT
TZOFFSETFROM:-0500
TZOFFSETTO:-0400
TZNAME:EDT
DTSTART:20250309T070000
END:DAYLIGHT
BEGIN:STANDARD
TZOFFSETFROM:-0400
TZOFFSETTO:-0500
TZNAME:EST
DTSTART:20251102T060000
END:STANDARD
BEGIN:DAYLIGHT
TZOFFSETFROM:-0500
TZOFFSETTO:-0400
TZNAME:EDT
DTSTART:20260308T070000
END:DAYLIGHT
BEGIN:STANDARD
TZOFFSETFROM:-0400
TZOFFSETTO:-0500
TZNAME:EST
DTSTART:20261101T060000
END:STANDARD
BEGIN:DAYLIGHT
TZOFFSETFROM:-0500
TZOFFSETTO:-0400
TZNAME:EDT
DTSTART:20270314T070000
END:DAYLIGHT
BEGIN:STANDARD
TZOFFSETFROM:-0400
TZOFFSETTO:-0500
TZNAME:EST
DTSTART:20271107T060000
END:STANDARD
END:VTIMEZONE
BEGIN:VEVENT
DTSTART;TZID=America/New_York:20260409T100000
DTEND;TZID=America/New_York:20260409T110000
DTSTAMP:20260423T045709
CREATED:20260130T220307Z
LAST-MODIFIED:20260319T130641Z
UID:10000850-1775728800-1775732400@bbrlt.org
SUMMARY:Event Full: Bird Songs and How to Remember Them
DESCRIPTION:***This event has reached capacity and we have started a waiting list. Contact Tracey at thall@bbrlt.org to be added to the waitlist*** Birdsong is the soundtrack of nature—and one of the most useful tools for identifying birds once you learn how to recognize it. \nJoin the Boothbay Region Land Trust and Maine Audubon at the farmhouse at Oak Point Farm for an engaging indoor presentation with Nick Lund\, Maine Audubon’s Advocacy and Outreach Manager. Nick will introduce participants to the different kinds of sounds birds make and share simple\, memorable techniques to help you recognize and remember the calls and songs of some of Maine’s most common bird species. \nWhether you’re new to birding\, enjoy listening on your daily walks\, or want to deepen your connection to the natural world around you\, this program will give you practical tools and a fresh appreciation for the voices of our local birds. \nThis indoor program has limited space\, so advance registration is required.
URL:https://bbrlt.org/event/bird-songs-and-how-to-remember-them/
LOCATION:Boothbay Region Land Trust’s Oak Point Farm\, 60 Samoset Rd\, Boothbay Harbor\, ME\, 04538
CATEGORIES:Birding,Classes,Lecture,Spring Events
ATTACH;FMTTYPE=image/jpeg:https://bbrlt.org/wp-content/uploads/2023/06/8DAAF60C-CB59-4652-81A2-85036EB67B4F-e1690916255969.jpeg
END:VEVENT
END:VCALENDAR