BEGIN:VCALENDAR
VERSION:2.0
PRODID:-//Boothbay Region Land Trust - ECPv6.15.20//NONSGML v1.0//EN
CALSCALE:GREGORIAN
METHOD:PUBLISH
X-ORIGINAL-URL:https://bbrlt.org
X-WR-CALDESC:Events for Boothbay Region Land Trust
REFRESH-INTERVAL;VALUE=DURATION:PT1H
X-Robots-Tag:noindex
X-PUBLISHED-TTL:PT1H
BEGIN:VTIMEZONE
TZID:America/New_York
BEGIN:DAYLIGHT
TZOFFSETFROM:-0500
TZOFFSETTO:-0400
TZNAME:EDT
DTSTART:20240310T070000
END:DAYLIGHT
BEGIN:STANDARD
TZOFFSETFROM:-0400
TZOFFSETTO:-0500
TZNAME:EST
DTSTART:20241103T060000
END:STANDARD
BEGIN:DAYLIGHT
TZOFFSETFROM:-0500
TZOFFSETTO:-0400
TZNAME:EDT
DTSTART:20250309T070000
END:DAYLIGHT
BEGIN:STANDARD
TZOFFSETFROM:-0400
TZOFFSETTO:-0500
TZNAME:EST
DTSTART:20251102T060000
END:STANDARD
BEGIN:DAYLIGHT
TZOFFSETFROM:-0500
TZOFFSETTO:-0400
TZNAME:EDT
DTSTART:20260308T070000
END:DAYLIGHT
BEGIN:STANDARD
TZOFFSETFROM:-0400
TZOFFSETTO:-0500
TZNAME:EST
DTSTART:20261101T060000
END:STANDARD
END:VTIMEZONE
BEGIN:VEVENT
DTSTART;TZID=America/New_York:20250426T110000
DTEND;TZID=America/New_York:20250426T130000
DTSTAMP:20260425T160449
CREATED:20250402T180808Z
LAST-MODIFIED:20250403T170114Z
UID:10000709-1745665200-1745672400@bbrlt.org
SUMMARY:Earth Day Fest 2025
DESCRIPTION:We are excited to join our friends on the Boothbay Harbor Memorial Library lawn to celebrate Earth Day on Saturday\, April 26th from 10am to 1pm. Several local nonprofit organizations are co-sponsoring this event\, offering activities and information. \nBoothbay Region Land Trust will share details about our local preserves\, flora\, and fauna. Staff will be overseeing a touch table filled with natural objects from our region and will offer an activity as well. \nFor more information on Earth Day Fest 2025\, visit the Boothbay Harbor Memorial Library website at: www.https://bbhlibrary.org/
URL:https://bbrlt.org/event/earth-day-fest-2025/
LOCATION:Boothbay Harbor Memorial Library
CATEGORIES:Family Friendly,Nature for Kids,Spring Events
ATTACH;FMTTYPE=image/webp:https://bbrlt.org/wp-content/uploads/2025/04/EDF-2025-image.webp
END:VEVENT
END:VCALENDAR