BEGIN:VCALENDAR
VERSION:2.0
PRODID:-//Boothbay Region Land Trust - ECPv6.15.20//NONSGML v1.0//EN
CALSCALE:GREGORIAN
METHOD:PUBLISH
X-ORIGINAL-URL:https://bbrlt.org
X-WR-CALDESC:Events for Boothbay Region Land Trust
REFRESH-INTERVAL;VALUE=DURATION:PT1H
X-Robots-Tag:noindex
X-PUBLISHED-TTL:PT1H
BEGIN:VTIMEZONE
TZID:America/New_York
BEGIN:DAYLIGHT
TZOFFSETFROM:-0500
TZOFFSETTO:-0400
TZNAME:EDT
DTSTART:20200308T070000
END:DAYLIGHT
BEGIN:STANDARD
TZOFFSETFROM:-0400
TZOFFSETTO:-0500
TZNAME:EST
DTSTART:20201101T060000
END:STANDARD
BEGIN:DAYLIGHT
TZOFFSETFROM:-0500
TZOFFSETTO:-0400
TZNAME:EDT
DTSTART:20210314T070000
END:DAYLIGHT
BEGIN:STANDARD
TZOFFSETFROM:-0400
TZOFFSETTO:-0500
TZNAME:EST
DTSTART:20211107T060000
END:STANDARD
BEGIN:DAYLIGHT
TZOFFSETFROM:-0500
TZOFFSETTO:-0400
TZNAME:EDT
DTSTART:20220313T070000
END:DAYLIGHT
BEGIN:STANDARD
TZOFFSETFROM:-0400
TZOFFSETTO:-0500
TZNAME:EST
DTSTART:20221106T060000
END:STANDARD
BEGIN:DAYLIGHT
TZOFFSETFROM:-0500
TZOFFSETTO:-0400
TZNAME:EDT
DTSTART:20230312T070000
END:DAYLIGHT
BEGIN:STANDARD
TZOFFSETFROM:-0400
TZOFFSETTO:-0500
TZNAME:EST
DTSTART:20231105T060000
END:STANDARD
BEGIN:DAYLIGHT
TZOFFSETFROM:-0500
TZOFFSETTO:-0400
TZNAME:EDT
DTSTART:20240310T070000
END:DAYLIGHT
BEGIN:STANDARD
TZOFFSETFROM:-0400
TZOFFSETTO:-0500
TZNAME:EST
DTSTART:20241103T060000
END:STANDARD
BEGIN:DAYLIGHT
TZOFFSETFROM:-0500
TZOFFSETTO:-0400
TZNAME:EDT
DTSTART:20250309T070000
END:DAYLIGHT
BEGIN:STANDARD
TZOFFSETFROM:-0400
TZOFFSETTO:-0500
TZNAME:EST
DTSTART:20251102T060000
END:STANDARD
END:VTIMEZONE
BEGIN:VEVENT
DTSTART;TZID=America/New_York:20240823T100000
DTEND;TZID=America/New_York:20240823T110000
DTSTAMP:20260423T033908
CREATED:20240816T183940Z
LAST-MODIFIED:20240823T102134Z
UID:10000506-1724407200-1724410800@bbrlt.org
SUMMARY:Canceled due to Illness: Nature for Kids
DESCRIPTION:*** Due to staff illness\, this program is canceled. Please join us another time and we apologize for any inconvenience. ***Welcome to Nature for Kids\, an exciting adventure awaits your family every Friday at 10 AM at Oak Point Farm! Join us for a journey into the wonders of nature\, specially crafted for school-age children and their families. \n🔎 Explore & Discover: Embark on an easy-going stroll through the picturesque landscape\, dotted with engaging activities and games designed to ignite curiosity and foster a deeper connection with the natural world. \n🌳 Theme of the Week: Each session unveils a new natural theme\, delving into the local ecology and embracing the seasonal changes of the Boothbay region. From wildlife encounters to plant identification\, there’s always something fascinating to learn! \n🏡 Meeting Point: Gather with fellow nature enthusiasts on the expansive deck of the white farmhouse at Oak Point Farm. It’s the perfect starting point for our outdoor escapades. Registration is not required\, just show up. \nDon’t miss out on the opportunity to bond with nature alongside your little explorers! Come join us for a morning of fun\, learning\, and unforgettable memories. See you there! \nFor more information and any updates\, visit Boothbay Region Land Trust’s website or contact Environmental Educator Tracey Hall at thall@bbrlt.org or 633-4818.
URL:https://bbrlt.org/event/nature-for-kids-5-2/
LOCATION:Boothbay Region Land Trust’s Oak Point Farm\, 60 Samoset Rd\, Boothbay Harbor\, ME\, 04538
CATEGORIES:Family Friendly,Nature for Kids,Summer Events
ATTACH;FMTTYPE=image/jpeg:https://bbrlt.org/wp-content/uploads/2022/08/Junior-Naturalist-Camp1-scaled-e1661808525190.jpg
END:VEVENT
BEGIN:VEVENT
DTSTART;TZID=America/New_York:20240420T100000
DTEND;TZID=America/New_York:20240420T130000
DTSTAMP:20260423T033908
CREATED:20240322T190507Z
LAST-MODIFIED:20240322T192327Z
UID:10000388-1713607200-1713618000@bbrlt.org
SUMMARY:Earth Day Fest 2024
DESCRIPTION:We are excited to join our friends on the Boothbay Harbor Memorial Library lawn to celebrate Earth Day on Saturday\, April 20th from 10am to 1pm. Several local nonprofit organizations are co-sponsoring this event\, offering activities and information. \nBoothbay Region Land Trust will share details about our local preserves\, flora\, and fauna. Staff will be overseeing a touch table filled with natural objects from our region and will offer an activity as well. \nFor more information on Earth Day Fest 2024\, visit the Boothbay Harbor Memorial Library website at: www.https://bbhlibrary.org/
URL:https://bbrlt.org/event/earth-day-fest-2024/
LOCATION:Boothbay Harbor Memorial Library
CATEGORIES:Family Friendly,Nature for Kids,Spring Events
ATTACH;FMTTYPE=image/webp:https://bbrlt.org/wp-content/uploads/2024/03/Earthday-Fest-2024.webp
END:VEVENT
BEGIN:VEVENT
DTSTART;TZID=America/New_York:20230825T100000
DTEND;TZID=America/New_York:20230825T110000
DTSTAMP:20260423T033908
CREATED:20230807T130904Z
LAST-MODIFIED:20230824T131904Z
UID:10000294-1692957600-1692961200@bbrlt.org
SUMMARY:Weather Cancellation: Nature for Kids: August 25th
DESCRIPTION:***This event has been canceled due to the forecast for heavy rain showers***Nature for Kids is BRLT’s outdoor discovery program geared toward school-age children and their families. Join us for an easy walk sprinkled with activities and games that promote nature exploration and connection. Each program has a different natural theme that emphasizes local ecology and seasonal changes. “Nature for Kids” meets on the large deck of the white farmhouse at Oak Point Farm unless otherwise noted.
URL:https://bbrlt.org/event/nature-for-kids-august-25th/
LOCATION:Boothbay Region Land Trust’s Oak Point Farm\, 60 Samoset Rd\, Boothbay Harbor\, ME\, 04538
CATEGORIES:Family Friendly,Nature for Kids,Summer Events
ATTACH;FMTTYPE=image/jpeg:https://bbrlt.org/wp-content/uploads/2022/08/Junior-Naturalist-Camp1-scaled-e1661808525190.jpg
END:VEVENT
BEGIN:VEVENT
DTSTART;TZID=America/New_York:20230818T100000
DTEND;TZID=America/New_York:20230818T110000
DTSTAMP:20260423T033908
CREATED:20230807T130617Z
LAST-MODIFIED:20230817T105834Z
UID:10000293-1692352800-1692356400@bbrlt.org
SUMMARY:Weather Cancellation: Nature for Kids: August 18th
DESCRIPTION:***due to the weather forecast for thunderstorms\, strong downpours\, and gusty winds this weeks program has been canceled. Please join us next week ***
URL:https://bbrlt.org/event/nature-for-kids-august-18th/
LOCATION:Boothbay Region Land Trust’s Oak Point Farm\, 60 Samoset Rd\, Boothbay Harbor\, ME\, 04538
CATEGORIES:Family Friendly,Nature for Kids,Summer Events
ATTACH;FMTTYPE=image/jpeg:https://bbrlt.org/wp-content/uploads/2022/08/Junior-Naturalist-Camp1-scaled-e1661808525190.jpg
END:VEVENT
BEGIN:VEVENT
DTSTART;TZID=America/New_York:20230804T100000
DTEND;TZID=America/New_York:20230804T110000
DTSTAMP:20260423T033908
CREATED:20230725T002941Z
LAST-MODIFIED:20230801T201020Z
UID:10000289-1691143200-1691146800@bbrlt.org
SUMMARY:Rescheduled for August 18th: Nature for Kids
DESCRIPTION:****Due to an event conflict\, this program is rescheduled for August 18th. We apologize for any inconvenience.*** \n 
URL:https://bbrlt.org/event/nature-for-kids-august-4th/
LOCATION:Boothbay Region Land Trust’s Oak Point Farm\, 60 Samoset Rd\, Boothbay Harbor\, ME\, 04538
CATEGORIES:Family Friendly,Nature for Kids,Summer Events
ATTACH;FMTTYPE=image/jpeg:https://bbrlt.org/wp-content/uploads/2022/08/Junior-Naturalist-Camp1-scaled-e1661808525190.jpg
END:VEVENT
BEGIN:VEVENT
DTSTART;TZID=America/New_York:20230714T100000
DTEND;TZID=America/New_York:20230714T110000
DTSTAMP:20260423T033908
CREATED:20230618T164656Z
LAST-MODIFIED:20230618T164656Z
UID:10000274-1689328800-1689332400@bbrlt.org
SUMMARY:Nature for Kids
DESCRIPTION:Nature for Kids is BRLT’s outdoor discovery program geared toward school-age children and their families. Join us for an easy walk sprinkled with activities and games that promote nature exploration and connection. Each program has a different natural theme that emphasizes local ecology and seasonal changes. “Nature for Kids” meets on the large deck of the white farmhouse at Oak Point Farm unless otherwise noted. Group size is limited for this free event and registration is required by filling out the online form below or by contacting Environmental Educator Tracey Hall at thall@bbrlt.org. \n\n	Notice: JavaScript is required for this content.\n\n\n    \n\n\n        \n        \n        \n 
URL:https://bbrlt.org/event/nature-for-kids-4/
LOCATION:Boothbay Region Land Trust’s Oak Point Farm\, 60 Samoset Rd\, Boothbay Harbor\, ME\, 04538
CATEGORIES:Family Friendly,Nature for Kids,Summer Events
ATTACH;FMTTYPE=image/jpeg:https://bbrlt.org/wp-content/uploads/2022/04/kids-with-nets-scaled.jpg
END:VEVENT
BEGIN:VEVENT
DTSTART;TZID=America/New_York:20230707T100000
DTEND;TZID=America/New_York:20230707T110000
DTSTAMP:20260423T033908
CREATED:20220722T004526Z
LAST-MODIFIED:20230618T160820Z
UID:10000171-1688724000-1688727600@bbrlt.org
SUMMARY:Nature for Kids
DESCRIPTION:Nature for Kids is BRLT’s outdoor discovery program geared toward school-age children and their families. Join us for an easy walk sprinkled with activities and games that promote nature exploration and connection. Each program has a different natural theme that emphasizes local ecology and seasonal changes. “Nature for Kids” meets on the large deck of the white farmhouse at Oak Point Farm unless otherwise noted. Group size is limited for this free event and registration is required by filling out the online form below or by contacting Environmental Educator Tracey Hall at thall@bbrlt.org. \n\n	Notice: JavaScript is required for this content.\n\n\n    \n\n\n        \n        \n        \n 
URL:https://bbrlt.org/event/nature-for-kids-3/
LOCATION:Boothbay Region Land Trust’s Oak Point Farm\, 60 Samoset Rd\, Boothbay Harbor\, ME\, 04538
CATEGORIES:Family Friendly,Nature for Kids,Summer Events
ATTACH;FMTTYPE=image/jpeg:https://bbrlt.org/wp-content/uploads/2022/04/kids-with-nets-scaled.jpg
END:VEVENT
BEGIN:VEVENT
DTSTART;TZID=America/New_York:20230422T100000
DTEND;TZID=America/New_York:20230422T130000
DTSTAMP:20260423T033908
CREATED:20230301T144216Z
LAST-MODIFIED:20230328T184522Z
UID:10000185-1682157600-1682168400@bbrlt.org
SUMMARY:6th Annual Earth Day Fest at the Boothbay Harbor Memorial Library
DESCRIPTION:We are excited to join our friends on the Boothbay Harbor Memorial Library lawn to celebrate Earth Day on Saturday\, April 22nd from 10 AM to 1 PM. Several local non-profits are co-sponsoring this event\, offering activities and information.\nBoothbay Region Land Trust will share details about our local preserves\, flora\, and fauna. BRLT staff will be overseeing a touch table filled with natural objects from our region and offer you the opportunity to dissect an owl pellet. For more information on the 6th Annual Earth Day Fest\, visit the Boothbay Harbor Memorial Library website at www.https://bbhlibrary.org/.
URL:https://bbrlt.org/event/6th-annual-earth-day-fest-at-the-boothbay-harbor-memorial-library/
LOCATION:Boothbay Harbor Memorial Library
CATEGORIES:Family Friendly,Nature for Kids,Spring Events
ATTACH;FMTTYPE=image/jpeg:https://bbrlt.org/wp-content/uploads/2022/03/111873983_earthday.jpg
END:VEVENT
BEGIN:VEVENT
DTSTART;TZID=America/New_York:20220727T100000
DTEND;TZID=America/New_York:20220727T110000
DTSTAMP:20260423T033908
CREATED:20220709T141139Z
LAST-MODIFIED:20220709T141139Z
UID:10000059-1658916000-1658919600@bbrlt.org
SUMMARY:Nature for Kids
DESCRIPTION:Nature for Kids is BRLT’s outdoor discovery program geared towards school-age children and their families. Join us for an easy walk sprinkled with activities and games that promote nature exploration and connection. Each month has a different natural theme that emphasizes local ecology and seasonal changes. “Nature for Kids” meets on the large deck of the white farmhouse at Oak Point Farm. Group size is limited for this free event and registration is required by filling out the online form below or by contacting Environmental Educator Tracey Hall at thall@bbrlt.org. \n\n	Notice: JavaScript is required for this content.
URL:https://bbrlt.org/event/nature-for-kids-2/
LOCATION:Boothbay Region Land Trust’s Oak Point Farm\, 60 Samoset Rd\, Boothbay Harbor\, ME\, 04538
CATEGORIES:Family Friendly,Nature for Kids,Summer Events
ATTACH;FMTTYPE=image/jpeg:https://bbrlt.org/wp-content/uploads/2022/04/kids-with-nets-scaled.jpg
END:VEVENT
BEGIN:VEVENT
DTSTART;TZID=America/New_York:20220716T100000
DTEND;TZID=America/New_York:20220716T140000
DTSTAMP:20260423T033908
CREATED:20220412T160219Z
LAST-MODIFIED:20220412T160219Z
UID:10000153-1657965600-1657980000@bbrlt.org
SUMMARY:Field & Forest Family Fun Day
DESCRIPTION:A day full of family fun including live music\, a bouncy house\, and nature-focused activity stations on one of Boothbay Region Land Trust most beautiful preserves! Join us in the grand opening of the Oak Point Farm natural play area\, and explore all this location has to offer. This event is FREE to the community!
URL:https://bbrlt.org/event/field-forest-family-fun-day/
LOCATION:Boothbay Region Land Trust’s Oak Point Farm\, 60 Samoset Rd\, Boothbay Harbor\, ME\, 04538
CATEGORIES:Family Friendly,Nature for Kids,Summer Events
ATTACH;FMTTYPE=image/jpeg:https://bbrlt.org/wp-content/uploads/2022/04/family-fun-day-e1650475356976.jpg
END:VEVENT
BEGIN:VEVENT
DTSTART;TZID=America/New_York:20220622T100000
DTEND;TZID=America/New_York:20220622T110000
DTSTAMP:20260423T033908
CREATED:20220425T134531Z
LAST-MODIFIED:20220425T134531Z
UID:10000160-1655892000-1655895600@bbrlt.org
SUMMARY:Nature for Kids
DESCRIPTION:Nature for Kids is BRLT’s outdoor discovery program geared towards school-age children and their families. Join us for an easy walk sprinkled with activities and games that promote nature exploration and connection. Each month has a different natural theme that emphasizes local ecology and seasonal changes. “Nature for Kids” meets on the large deck of the white farmhouse at Oak Point Farm. Group size is limited for this free event and registration is required by filling out the online form below or by contacting Environmental Educator Tracey Hall at thall@bbrlt.org. \n\n	Notice: JavaScript is required for this content.
URL:https://bbrlt.org/event/nature-for-kids/
LOCATION:Boothbay Region Land Trust’s Oak Point Farm\, 60 Samoset Rd\, Boothbay Harbor\, ME\, 04538
CATEGORIES:Family Friendly,Nature for Kids,Summer Camps
ATTACH;FMTTYPE=image/jpeg:https://bbrlt.org/wp-content/uploads/2022/04/kids-with-nets-scaled.jpg
END:VEVENT
BEGIN:VEVENT
DTSTART;TZID=America/New_York:20220423T100000
DTEND;TZID=America/New_York:20220423T130000
DTSTAMP:20260423T033908
CREATED:20220314T161115Z
LAST-MODIFIED:20220314T161115Z
UID:10000149-1650708000-1650718800@bbrlt.org
SUMMARY:BHML 5th Annual Earth Day Fest
DESCRIPTION:We are excited to join our friends on the Boothbay Harbor Memorial Library lawn to celebrate Earth Day on Saturday\, April 23rd from 10 AM to 1 PM. Several local non-profits are co-sponsoring this event\, offering activities and information\, including Bigelow Laboratory\, Boothbay Region Clean Drinking Water Initiative\, Boothbay Region Land Trust\, Boothbay Sea & Science Center\, Coastal Maine Botanical Gardens\, GiveIT. GetIT.\, Knox-Lincoln Soil & Water Conservation District\, Merrymeeting Audubon\, and Morris Farm.\nBoothbay Region Land Trust will be offering information about our local preserves\, flora\, and fauna. BRLT staff will be overseeing a touch table filled with natural objects from our region and offer you the opportunity to dissect an owl pellet. For more information on the 5th Annual Earth Day Fest\, visit the Boothbay Harbor Memorial Libraries website at www.https://bbhlibrary.org/.
URL:https://bbrlt.org/event/bhml-5th-annual-earth-day-fest/
LOCATION:Boothbay Harbor Memorial Library
CATEGORIES:Family Friendly,Nature for Kids,Spring Events
ATTACH;FMTTYPE=image/jpeg:https://bbrlt.org/wp-content/uploads/2022/03/111873983_earthday.jpg
END:VEVENT
BEGIN:VEVENT
DTSTART;TZID=America/New_York:20210811T100000
DTEND;TZID=America/New_York:20210811T110000
DTSTAMP:20260423T033908
CREATED:20210604T133900Z
LAST-MODIFIED:20210806T183706Z
UID:10000017-1628676000-1628679600@bbrlt.org
SUMMARY:Postponed: Nature for Kids: Insects
DESCRIPTION:NOTE: This event has been postponed due to rising Covid cases in our area. A new date will be announced in the future. Nature for Kids is an outdoor discovery program geared towards school age children and their families with a new ecological theme every time we meet.  Join us for an easy walk sprinkled with activities that promote nature exploration and connection. The theme for this session is insects: we will use some nets and careful collection techniques to investigate the insect life in the fields and forests at BRLT’s Oak Point Farm. This free event is limited to 12 participants with the program to follow current CDC Covid guidelines for outside gatherings. Registration is required by contacting BRLT Environmental Educator Tracey Hall at thall@bbrlt.org or 633-4818.
URL:https://bbrlt.org/event/nature-for-kids-insects/
LOCATION:Boothbay Region Land Trust’s Oak Point Farm\, 60 Samoset Rd\, Boothbay Harbor\, ME\, 04538
CATEGORIES:Family Friendly,Nature for Kids,Spring Events
ATTACH;FMTTYPE=image/jpeg:https://bbrlt.org/wp-content/uploads/2019/06/Junior-Naturalist-Camp-e1625067740969.jpg
END:VEVENT
BEGIN:VEVENT
DTSTART;TZID=America/New_York:20210714T100000
DTEND;TZID=America/New_York:20210714T110000
DTSTAMP:20260423T033908
CREATED:20210603T204433Z
LAST-MODIFIED:20210604T003625Z
UID:10000014-1626256800-1626260400@bbrlt.org
SUMMARY:Nature for Kids: Ponds
DESCRIPTION:Nature for Kids is an outdoor discovery program geared towards school age children and their families with a new ecological theme every time we meet.  Join us for an easy walk sprinkled with activities that promote nature exploration and connection. The theme for this session is ponds: we will use some nets and gentle collection methods to investigate the plant and animal life in the water at BRLT’s Oak Point Farm. This free event is limited to 12 participants with the program to follow current CDC Covid guidelines for outside gatherings. Registration is required by contacting BRLT Environmental Educator Tracey Hall at thall@bbrlt.org or 633-4818.
URL:https://bbrlt.org/event/nature-for-kids-ponds/
LOCATION:Boothbay Region Land Trust’s Oak Point Farm\, 60 Samoset Rd\, Boothbay Harbor\, ME\, 04538
CATEGORIES:Family Friendly,Nature for Kids,Spring Events
ATTACH;FMTTYPE=image/jpeg:https://bbrlt.org/wp-content/uploads/2019/06/Junior-Naturalist-Camp-e1625067740969.jpg
END:VEVENT
BEGIN:VEVENT
DTSTART;TZID=America/New_York:20210616T100000
DTEND;TZID=America/New_York:20210616T110000
DTSTAMP:20260423T033908
CREATED:20210512T142155Z
LAST-MODIFIED:20210512T181603Z
UID:10000118-1623837600-1623841200@bbrlt.org
SUMMARY:Nature for Kids: Forests
DESCRIPTION:Nature for Kids is an outdoor discovery program geared towards school age children and their families with a new ecological theme every time we meet.  Join us for an easy walk sprinkled with activities that promote nature exploration and connection. The theme for this session is forests: we will build a tree\, meet a tree\, and adopt a tree at BRLT’s Oak Point Farm. This free event is limited to 12 participants with the program to follow current CDC Covid guidelines for outside gatherings. Registration is required by contacting BRLT Environmental Educator Tracey Hall at thall@bbrlt.org or 633-4818.
URL:https://bbrlt.org/event/nature-for-kids-forests/
LOCATION:Boothbay Region Land Trust’s Oak Point Farm\, 60 Samoset Rd\, Boothbay Harbor\, ME\, 04538
CATEGORIES:Family Friendly,Nature for Kids,Spring Events
ATTACH;FMTTYPE=image/jpeg:https://bbrlt.org/wp-content/uploads/2019/06/Junior-Naturalist-Camp-e1625067740969.jpg
END:VEVENT
END:VCALENDAR