BEGIN:VCALENDAR
VERSION:2.0
PRODID:-//Boothbay Region Land Trust - ECPv6.15.20//NONSGML v1.0//EN
CALSCALE:GREGORIAN
METHOD:PUBLISH
X-WR-CALNAME:Boothbay Region Land Trust
X-ORIGINAL-URL:https://bbrlt.org
X-WR-CALDESC:Events for Boothbay Region Land Trust
REFRESH-INTERVAL;VALUE=DURATION:PT1H
X-Robots-Tag:noindex
X-PUBLISHED-TTL:PT1H
BEGIN:VTIMEZONE
TZID:America/New_York
BEGIN:DAYLIGHT
TZOFFSETFROM:-0500
TZOFFSETTO:-0400
TZNAME:EDT
DTSTART:20240310T070000
END:DAYLIGHT
BEGIN:STANDARD
TZOFFSETFROM:-0400
TZOFFSETTO:-0500
TZNAME:EST
DTSTART:20241103T060000
END:STANDARD
BEGIN:DAYLIGHT
TZOFFSETFROM:-0500
TZOFFSETTO:-0400
TZNAME:EDT
DTSTART:20250309T070000
END:DAYLIGHT
BEGIN:STANDARD
TZOFFSETFROM:-0400
TZOFFSETTO:-0500
TZNAME:EST
DTSTART:20251102T060000
END:STANDARD
BEGIN:DAYLIGHT
TZOFFSETFROM:-0500
TZOFFSETTO:-0400
TZNAME:EDT
DTSTART:20260308T070000
END:DAYLIGHT
BEGIN:STANDARD
TZOFFSETFROM:-0400
TZOFFSETTO:-0500
TZNAME:EST
DTSTART:20261101T060000
END:STANDARD
END:VTIMEZONE
BEGIN:VEVENT
DTSTART;TZID=America/New_York:20250807T100000
DTEND;TZID=America/New_York:20250807T110000
DTSTAMP:20260425T200140
CREATED:20250517T011253Z
LAST-MODIFIED:20250731T221542Z
UID:10000727-1754560800-1754564400@bbrlt.org
SUMMARY:Nature for Kids
DESCRIPTION:Nature for Kids \nThursdays at 10 AM | Oak Point Farm \nBring your family for a fun\, hands-on nature walk designed for school-age children and their caregivers. Each week features a new theme exploring local wildlife\, plants\, and seasonal changes through simple activities and games. \nMeet on the deck of the white farmhouse at Oak Point Farm—no registration needed\, just come ready to explore! \nQuestions? Contact Environmental Educator Tracey Hall at thall@bbrlt.org or 633-4818\, or visit the Boothbay Region Land Trust website for updates.
URL:https://bbrlt.org/event/nature-for-kids-6/2025-08-07/
LOCATION:Boothbay Region Land Trust’s Oak Point Farm\, 60 Samoset Rd\, Boothbay Harbor\, ME\, 04538
CATEGORIES:Family Friendly,Nature for Kids,Summer Events
ATTACH;FMTTYPE=image/jpeg:https://bbrlt.org/wp-content/uploads/2022/08/Junior-Naturalist-Camp1-scaled-e1661808525190.jpg
END:VEVENT
END:VCALENDAR