BEGIN:VCALENDAR
VERSION:2.0
PRODID:-//Boothbay Region Land Trust - ECPv6.15.20//NONSGML v1.0//EN
CALSCALE:GREGORIAN
METHOD:PUBLISH
X-ORIGINAL-URL:https://bbrlt.org
X-WR-CALDESC:Events for Boothbay Region Land Trust
REFRESH-INTERVAL;VALUE=DURATION:PT1H
X-Robots-Tag:noindex
X-PUBLISHED-TTL:PT1H
BEGIN:VTIMEZONE
TZID:America/New_York
BEGIN:DAYLIGHT
TZOFFSETFROM:-0500
TZOFFSETTO:-0400
TZNAME:EDT
DTSTART:20240310T070000
END:DAYLIGHT
BEGIN:STANDARD
TZOFFSETFROM:-0400
TZOFFSETTO:-0500
TZNAME:EST
DTSTART:20241103T060000
END:STANDARD
BEGIN:DAYLIGHT
TZOFFSETFROM:-0500
TZOFFSETTO:-0400
TZNAME:EDT
DTSTART:20250309T070000
END:DAYLIGHT
BEGIN:STANDARD
TZOFFSETFROM:-0400
TZOFFSETTO:-0500
TZNAME:EST
DTSTART:20251102T060000
END:STANDARD
BEGIN:DAYLIGHT
TZOFFSETFROM:-0500
TZOFFSETTO:-0400
TZNAME:EDT
DTSTART:20260308T070000
END:DAYLIGHT
BEGIN:STANDARD
TZOFFSETFROM:-0400
TZOFFSETTO:-0500
TZNAME:EST
DTSTART:20261101T060000
END:STANDARD
END:VTIMEZONE
BEGIN:VEVENT
DTSTART;TZID=America/New_York:20250804T090000
DTEND;TZID=America/New_York:20250804T103000
DTSTAMP:20260423T220026
CREATED:20250616T132734Z
LAST-MODIFIED:20250728T201138Z
UID:10000744-1754298000-1754303400@bbrlt.org
SUMMARY:Wildflower Walk at Autumn View Preserve
DESCRIPTION:Summer brings a vibrant display of wildflowers to the meadows and woodlands of the Boothbay Region. Join botanist and BRLT volunteer Lauren Stockwell for a leisurely guided walk at our newest preserve\, Autumn View Farm. As we explore the trails\, Lauren will help participants identify a variety of common wildflowers and highlight the unique features and adaptations of each plant. \nThis is an easy-paced walk suitable for all ages with an interest in the natural world. Whether you’re new to plant identification or simply enjoy the beauty of Maine’s native flora\, this walk offers a great opportunity to deepen your appreciation of the season’s botanical wonders. \nSpace is limited and advance registration is required.Please reserve your spot by filling out the form below. \n\n	Notice: JavaScript is required for this content.
URL:https://bbrlt.org/event/wildflower-walk-at-autumn-view-preserve/
LOCATION:Autumn View\, 60 Autumn View Ln\, Boothbay Harbor\, ME\, United States
CATEGORIES:Natural History
ATTACH;FMTTYPE=image/jpeg:https://bbrlt.org/wp-content/uploads/2025/06/goldenrod-and-aster.jpg
GEO:43.861374;-69.610571
X-APPLE-STRUCTURED-LOCATION;VALUE=URI;X-ADDRESS=Autumn View 60 Autumn View Ln Boothbay Harbor ME United States;X-APPLE-RADIUS=500;X-TITLE=60 Autumn View Ln:geo:-69.610571,43.861374
END:VEVENT
END:VCALENDAR