BEGIN:VCALENDAR
VERSION:2.0
PRODID:-//Boothbay Region Land Trust - ECPv6.15.20//NONSGML v1.0//EN
CALSCALE:GREGORIAN
METHOD:PUBLISH
X-ORIGINAL-URL:https://bbrlt.org
X-WR-CALDESC:Events for Boothbay Region Land Trust
REFRESH-INTERVAL;VALUE=DURATION:PT1H
X-Robots-Tag:noindex
X-PUBLISHED-TTL:PT1H
BEGIN:VTIMEZONE
TZID:America/New_York
BEGIN:DAYLIGHT
TZOFFSETFROM:-0500
TZOFFSETTO:-0400
TZNAME:EDT
DTSTART:20230312T070000
END:DAYLIGHT
BEGIN:STANDARD
TZOFFSETFROM:-0400
TZOFFSETTO:-0500
TZNAME:EST
DTSTART:20231105T060000
END:STANDARD
BEGIN:DAYLIGHT
TZOFFSETFROM:-0500
TZOFFSETTO:-0400
TZNAME:EDT
DTSTART:20240310T070000
END:DAYLIGHT
BEGIN:STANDARD
TZOFFSETFROM:-0400
TZOFFSETTO:-0500
TZNAME:EST
DTSTART:20241103T060000
END:STANDARD
BEGIN:DAYLIGHT
TZOFFSETFROM:-0500
TZOFFSETTO:-0400
TZNAME:EDT
DTSTART:20250309T070000
END:DAYLIGHT
BEGIN:STANDARD
TZOFFSETFROM:-0400
TZOFFSETTO:-0500
TZNAME:EST
DTSTART:20251102T060000
END:STANDARD
END:VTIMEZONE
BEGIN:VEVENT
DTSTART;TZID=America/New_York:20241023T100000
DTEND;TZID=America/New_York:20241023T120000
DTSTAMP:20260424T174336
CREATED:20240924T181344Z
LAST-MODIFIED:20240924T181344Z
UID:10000598-1729677600-1729684800@bbrlt.org
SUMMARY:Lichens of Maine
DESCRIPTION:Discover the fascinating world of lichens with us at Oak Point Farm! Join Air Rhodes\, Master Naturalist\, and lifelong lichen lover\, for a captivating exploration of one of Maine’s most biodiverse life forms. \nThis hands-on program begins with a one-hour indoor session where we’ll dive into the incredible science behind lichens: what they are\, which species you’ll likely encounter around Boothbay\, and how these humble organisms are playing a role in saving our planet. From ancient uses in Egyptian embalming to their surprising connection to Scottish tartans\, we’ll also touch on lichens’ rich history. You’ll even learn about modern innovations using lichens and how you can contribute to protecting these important organisms. \nFollowing the presentation\, we’ll embark on a slow-paced\, one-hour walk through Oak Point Farm to observe and identify lichens in their natural habitat. \nAttendance is limited\, and registration is required. Don’t miss out on this opportunity to learn\, observe\, and appreciate the wonderful world of lichens! Please register here: \n\n	Notice: JavaScript is required for this content.
URL:https://bbrlt.org/event/lichens-of-maine/
LOCATION:Boothbay Region Land Trust’s Oak Point Farm\, 60 Samoset Rd\, Boothbay Harbor\, ME\, 04538
CATEGORIES:Fall Events,Lecture,Natural History
ATTACH;FMTTYPE=image/jpeg:https://bbrlt.org/wp-content/uploads/2024/09/lichens.jpg
END:VEVENT
END:VCALENDAR