BEGIN:VCALENDAR
VERSION:2.0
PRODID:-//Boothbay Region Land Trust - ECPv6.15.20//NONSGML v1.0//EN
CALSCALE:GREGORIAN
METHOD:PUBLISH
X-WR-CALNAME:Boothbay Region Land Trust
X-ORIGINAL-URL:https://bbrlt.org
X-WR-CALDESC:Events for Boothbay Region Land Trust
REFRESH-INTERVAL;VALUE=DURATION:PT1H
X-Robots-Tag:noindex
X-PUBLISHED-TTL:PT1H
BEGIN:VTIMEZONE
TZID:America/New_York
BEGIN:DAYLIGHT
TZOFFSETFROM:-0500
TZOFFSETTO:-0400
TZNAME:EDT
DTSTART:20230312T070000
END:DAYLIGHT
BEGIN:STANDARD
TZOFFSETFROM:-0400
TZOFFSETTO:-0500
TZNAME:EST
DTSTART:20231105T060000
END:STANDARD
BEGIN:DAYLIGHT
TZOFFSETFROM:-0500
TZOFFSETTO:-0400
TZNAME:EDT
DTSTART:20240310T070000
END:DAYLIGHT
BEGIN:STANDARD
TZOFFSETFROM:-0400
TZOFFSETTO:-0500
TZNAME:EST
DTSTART:20241103T060000
END:STANDARD
BEGIN:DAYLIGHT
TZOFFSETFROM:-0500
TZOFFSETTO:-0400
TZNAME:EDT
DTSTART:20250309T070000
END:DAYLIGHT
BEGIN:STANDARD
TZOFFSETFROM:-0400
TZOFFSETTO:-0500
TZNAME:EST
DTSTART:20251102T060000
END:STANDARD
END:VTIMEZONE
BEGIN:VEVENT
DTSTART;TZID=America/New_York:20240508T100000
DTEND;TZID=America/New_York:20240508T110000
DTSTAMP:20260423T092237
CREATED:20240423T144310Z
LAST-MODIFIED:20240506T153019Z
UID:10000418-1715162400-1715166000@bbrlt.org
SUMMARY:Predators: The Balance of Nature
DESCRIPTION:What are some commonly-held myths about predators\, and what problems do they face? Learn about predators in the context of food webs and natural cycles in this presentation by Chewonki’s Traveling Natural History program. Attendees will explore attitudes toward predators and reasons for their decline throughout history\, including habitat loss and human interference. We will discuss the importance of predators in maintaining the world’s ecological balance. \nParticipants will have the opportunity to study mounted animals and see three live\, non-releasable predators during this special presentation. \nThis free event is part of BRLT’s Spring Guest Speaker Series sponsored by Tindal & Callahan Real Estate. This talk will take place inside the farmhouse at BRLT’s Oak Point Farm and has limited space. Please scroll down and register below: \n  \n \n\n	Notice: JavaScript is required for this content.
URL:https://bbrlt.org/event/predators-the-balance-of-nature/
LOCATION:Boothbay Region Land Trust’s Oak Point Farm\, 60 Samoset Rd\, Boothbay Harbor\, ME\, 04538
CATEGORIES:Guest Speaker Series,Lecture
ATTACH;FMTTYPE=image/jpeg:https://bbrlt.org/wp-content/uploads/2024/03/2023-Annual-Report-Cover-e1713884964340.jpg
END:VEVENT
BEGIN:VEVENT
DTSTART;TZID=America/New_York:20240327T103000
DTEND;TZID=America/New_York:20240327T113000
DTSTAMP:20260423T092237
CREATED:20240213T000105Z
LAST-MODIFIED:20240325T134906Z
UID:10000383-1711535400-1711539000@bbrlt.org
SUMMARY:Cancelled: Coyote: America’s Songdog
DESCRIPTION:***This event has been cancelled*** \nJoin conservation biologist Geri Vistein as she takes you on a journey to discover the important and resilient Coyote in a way you have never heard before. This presentation will center on perceptions and relationships\, including Coyote’s interactions with other wildlife\, the environment\, and humans.   Discover the importance of these carnivores and their vital role in maintaining the biodiversity of our planet.  Come hear the Song Dogs Sing! \nThis free event is part of BRLT’s three-part Spring Guest Speaker Series sponsored by Tindal & Callahan Real Estate. Please register by filling out the form below: \n \n  \n  \n 
URL:https://bbrlt.org/event/coyote-americas-songdog/
LOCATION:Boothbay Region Land Trust’s Oak Point Farm\, 60 Samoset Rd\, Boothbay Harbor\, ME\, 04538
CATEGORIES:Conservation,Guest Speaker Series,Lecture,Winter Events
ATTACH;FMTTYPE=image/jpeg:https://bbrlt.org/wp-content/uploads/2024/02/coyotes.jpg
END:VEVENT
BEGIN:VEVENT
DTSTART;TZID=America/New_York:20240320T100000
DTEND;TZID=America/New_York:20240320T110000
DTSTAMP:20260423T092237
CREATED:20240120T133002Z
LAST-MODIFIED:20240312T151858Z
UID:10000379-1710928800-1710932400@bbrlt.org
SUMMARY:Event Full: Migration: Preparation\, Rumination\, and Desperation
DESCRIPTION:***This event is currently at capacity and we have started a waiting list. Please email your contact information to thall@bbrlt.org to be added to the waiting list*** \nSpring migration is the most exciting time for Maine birders. Temperatures are warming\, and billions of birds are winging their way north. Soon the state will be filled with warblers\, vireos\, waterfowl\, raptors\, and many more. Will you be ready? This presentation from Maine Audubon Advocacy and Outreach Manager Nick Lund discusses the science of migration and helps birders prepare to find and identify Maine’s new spring arrivals. \nThis free event is part of BRLT’s three-part Spring Guest Speaker Series sponsored by Tindal & Callahan Real Estate. This talk will take place inside the farmhouse at BRLT’s Oak Point Farm and has limited space. \n  \n \n  \n  \n 
URL:https://bbrlt.org/event/migration-preparation-rumination-and-desperation/
LOCATION:Boothbay Region Land Trust’s Oak Point Farm\, 60 Samoset Rd\, Boothbay Harbor\, ME\, 04538
CATEGORIES:Birding,Guest Speaker Series,Lecture
ATTACH;FMTTYPE=image/jpeg:https://bbrlt.org/wp-content/uploads/2023/06/9CEB8863-F62F-4A7E-8086-D08907C9EE43-1-e1690904027555.jpeg
END:VEVENT
END:VCALENDAR