BEGIN:VCALENDAR
VERSION:2.0
PRODID:-//Boothbay Region Land Trust - ECPv6.15.20//NONSGML v1.0//EN
CALSCALE:GREGORIAN
METHOD:PUBLISH
X-WR-CALNAME:Boothbay Region Land Trust
X-ORIGINAL-URL:https://bbrlt.org
X-WR-CALDESC:Events for Boothbay Region Land Trust
REFRESH-INTERVAL;VALUE=DURATION:PT1H
X-Robots-Tag:noindex
X-PUBLISHED-TTL:PT1H
BEGIN:VTIMEZONE
TZID:America/New_York
BEGIN:DAYLIGHT
TZOFFSETFROM:-0500
TZOFFSETTO:-0400
TZNAME:EDT
DTSTART:20210314T070000
END:DAYLIGHT
BEGIN:STANDARD
TZOFFSETFROM:-0400
TZOFFSETTO:-0500
TZNAME:EST
DTSTART:20211107T060000
END:STANDARD
BEGIN:DAYLIGHT
TZOFFSETFROM:-0500
TZOFFSETTO:-0400
TZNAME:EDT
DTSTART:20220313T070000
END:DAYLIGHT
BEGIN:STANDARD
TZOFFSETFROM:-0400
TZOFFSETTO:-0500
TZNAME:EST
DTSTART:20221106T060000
END:STANDARD
BEGIN:DAYLIGHT
TZOFFSETFROM:-0500
TZOFFSETTO:-0400
TZNAME:EDT
DTSTART:20230312T070000
END:DAYLIGHT
BEGIN:STANDARD
TZOFFSETFROM:-0400
TZOFFSETTO:-0500
TZNAME:EST
DTSTART:20231105T060000
END:STANDARD
BEGIN:DAYLIGHT
TZOFFSETFROM:-0500
TZOFFSETTO:-0400
TZNAME:EDT
DTSTART:20240310T070000
END:DAYLIGHT
BEGIN:STANDARD
TZOFFSETFROM:-0400
TZOFFSETTO:-0500
TZNAME:EST
DTSTART:20241103T060000
END:STANDARD
BEGIN:DAYLIGHT
TZOFFSETFROM:-0500
TZOFFSETTO:-0400
TZNAME:EDT
DTSTART:20250309T070000
END:DAYLIGHT
BEGIN:STANDARD
TZOFFSETFROM:-0400
TZOFFSETTO:-0500
TZNAME:EST
DTSTART:20251102T060000
END:STANDARD
BEGIN:DAYLIGHT
TZOFFSETFROM:-0500
TZOFFSETTO:-0400
TZNAME:EDT
DTSTART:20260308T070000
END:DAYLIGHT
BEGIN:STANDARD
TZOFFSETFROM:-0400
TZOFFSETTO:-0500
TZNAME:EST
DTSTART:20261101T060000
END:STANDARD
END:VTIMEZONE
BEGIN:VEVENT
DTSTART;TZID=America/New_York:20250910T120000
DTEND;TZID=America/New_York:20250910T160000
DTSTAMP:20260423T195435
CREATED:20240814T180015Z
LAST-MODIFIED:20250826T153640Z
UID:10000579-1757505600-1757520000@bbrlt.org
SUMMARY:Paddle to Indiantown Island Preserve
DESCRIPTION:Grab your kayak or canoe and join BRLT Executive Director and registered Maine Kayak Guide Nick Ullo as he paddles out to Indiantown Island Preserve. This 3-mile paddle will begin in the Townsend Gut and travel up the Sheepscot River before landing at the Indiantown Island float. Paddlers will have the opportunity to stretch their legs with a 1-mile hike led by Environmental Educator Tracey Hall\, in which she will share the natural and cultural history of the preserve. This round-trip paddle launches at the float at BRLT’s Oak Point Farm and is best suited for intermediate and advanced paddlers. Participants should bring plenty of water\, snacks\, sunblock\, and a PFD. \nRaindate: September 11th at Noon \nTo register for this paddle\, please fill out the form below. \n\n	Notice: JavaScript is required for this content.\n\n\n    \n\n\n        \n        \n        \n 
URL:https://bbrlt.org/event/kayak-paddle-to-indiantown-island-preserve-2/
LOCATION:Boothbay Region Land Trust’s Oak Point Farm\, 60 Samoset Rd\, Boothbay Harbor\, ME\, 04538
CATEGORIES:Discover the Preserves,Fall Events,Kayak Paddle,Wellness
ATTACH;FMTTYPE=image/jpeg:https://bbrlt.org/wp-content/uploads/2022/07/indiantown-9-scaled-e1658508151913.jpg
END:VEVENT
BEGIN:VEVENT
DTSTART;TZID=America/New_York:20220922T090000
DTEND;TZID=America/New_York:20220922T123000
DTSTAMP:20260423T195435
CREATED:20220818T142031Z
LAST-MODIFIED:20220920T172028Z
UID:10000174-1663837200-1663849800@bbrlt.org
SUMMARY:Cancelled Due to Weather: Kayak Paddle to Indiantown Island Preserve
DESCRIPTION:***This program has been canceled due to the weather forecast for morning rain and thunderstorms*** Grab your kayak or canoe and join BRLT Executive Director and registered Maine Kayak Guide Nick Ullo as he paddles out to Indiantown Island Preserve. This 3-mile paddle will begin in the Townsend Gut and travel up the Sheepscot River before landing at the Indiantown Island float. Paddlers will have the opportunity to stretch their legs with a 1-mile hike led by Environmental Educator Tracey Hall\, in which she will share the natural and cultural history of the preserve. This round-trip paddle launches at the float at BRLT’s Oak Point Farm and is best suited for intermediate and advanced paddlers. Participants should bring plenty of water\, snacks\, sunblock\, and a PDF. \n 
URL:https://bbrlt.org/event/kayak-paddle-to-indiantown-island-preserve/
LOCATION:Boothbay Region Land Trust’s Oak Point Farm\, 60 Samoset Rd\, Boothbay Harbor\, ME\, 04538
CATEGORIES:Discover the Preserves,Fall Events,Kayak Paddle,Wellness
ATTACH;FMTTYPE=image/jpeg:https://bbrlt.org/wp-content/uploads/2022/07/indiantown-9-scaled-e1658508151913.jpg
END:VEVENT
BEGIN:VEVENT
DTSTART;TZID=America/New_York:20220810T083000
DTEND;TZID=America/New_York:20220810T113000
DTSTAMP:20260423T195435
CREATED:20220719T211356Z
LAST-MODIFIED:20220719T211356Z
UID:10000062-1660120200-1660131000@bbrlt.org
SUMMARY:Paddle to Miles Island Preserve
DESCRIPTION:Grab your kayak or canoe and join BRLT Executive Director and registered Maine Kayak Guide Nick Ullo as he paddles out to Miles Island Preserve. This 4-mile round trip paddle will begin from the Knickercane boat launch and travel up the Back River before landing on the shoreline of Miles Island. Paddlers will have the opportunity to stretch their legs with a short hike showcasing the new trail system and campsite on the preserve. This approximately 3-hour adventure is best suited for intermediate and advanced paddlers. Participants should bring plenty of water\, snacks\, sunblock\, and a PDF. Registration is required by filling out the form below or by contacting Environmental Educator Tracey Hall at thall@bbrlt.org.  (Raindate is 8/11 9:30-12:30). \n\n	Notice: JavaScript is required for this content.
URL:https://bbrlt.org/event/paddle-to-miles-island-preserve/
LOCATION:Knickercane Public Boat Launch 43.88070° N\, 69.66448° W
CATEGORIES:Discover the Preserves,Kayak Paddle,Summer Events
ATTACH;FMTTYPE=image/jpeg:https://bbrlt.org/wp-content/uploads/2021/08/cross-river.jpg
END:VEVENT
END:VCALENDAR