BEGIN:VCALENDAR
VERSION:2.0
PRODID:-//Boothbay Region Land Trust - ECPv6.15.20//NONSGML v1.0//EN
CALSCALE:GREGORIAN
METHOD:PUBLISH
X-WR-CALNAME:Boothbay Region Land Trust
X-ORIGINAL-URL:https://bbrlt.org
X-WR-CALDESC:Events for Boothbay Region Land Trust
REFRESH-INTERVAL;VALUE=DURATION:PT1H
X-Robots-Tag:noindex
X-PUBLISHED-TTL:PT1H
BEGIN:VTIMEZONE
TZID:America/New_York
BEGIN:DAYLIGHT
TZOFFSETFROM:-0500
TZOFFSETTO:-0400
TZNAME:EDT
DTSTART:20240310T070000
END:DAYLIGHT
BEGIN:STANDARD
TZOFFSETFROM:-0400
TZOFFSETTO:-0500
TZNAME:EST
DTSTART:20241103T060000
END:STANDARD
BEGIN:DAYLIGHT
TZOFFSETFROM:-0500
TZOFFSETTO:-0400
TZNAME:EDT
DTSTART:20250309T070000
END:DAYLIGHT
BEGIN:STANDARD
TZOFFSETFROM:-0400
TZOFFSETTO:-0500
TZNAME:EST
DTSTART:20251102T060000
END:STANDARD
BEGIN:DAYLIGHT
TZOFFSETFROM:-0500
TZOFFSETTO:-0400
TZNAME:EDT
DTSTART:20260308T070000
END:DAYLIGHT
BEGIN:STANDARD
TZOFFSETFROM:-0400
TZOFFSETTO:-0500
TZNAME:EST
DTSTART:20261101T060000
END:STANDARD
END:VTIMEZONE
BEGIN:VEVENT
DTSTART;TZID=America/New_York:20251007T100000
DTEND;TZID=America/New_York:20251007T113000
DTSTAMP:20260425T143856
CREATED:20250919T122253Z
LAST-MODIFIED:20250919T122253Z
UID:10000830-1759831200-1759836600@bbrlt.org
SUMMARY:Trail Tuesday: Lobster Cove Meadow
DESCRIPTION:Join us for Trail Tuesdays with the Boothbay Region Land Trust!  Every Tuesday at 10 AM\, we’ll gather at a different BRLT trailhead for a leisurely 1-2 mile hike\, allowing time to soak in the scenery and marvel at nature along the way. Led by a naturalist\, our walks will include occasional stops to share fascinating insights into the preserve’s ecology including the diverse plant and animal life. \nNo need to worry about advanced registration—simply lace up your sturdy shoes\, pack some water\, and meet us at the parking lot kiosk. In the event of inclement weather\, cancellations will be posted on the BRLT website. Come for one hike or join us for the entire series. We look forward to seeing you on Trail Tuesdays! \nThis week’s hike is at Lobster Cove Meadow Preserve: \nLobster Cove Meadow & Appalachee
URL:https://bbrlt.org/event/trail-tuesday-lobster-cove-meadow-5/
LOCATION:Lobster Cove Meadow Preserve
CATEGORIES:Discover the Preserves,Hiking,Trail Tuesdays
ATTACH;FMTTYPE=image/jpeg:https://bbrlt.org/wp-content/uploads/2021/08/lobster-cove-meadow.jpg
END:VEVENT
BEGIN:VEVENT
DTSTART;TZID=America/New_York:20251014T100000
DTEND;TZID=America/New_York:20251014T110000
DTSTAMP:20260425T143856
CREATED:20250919T122719Z
LAST-MODIFIED:20250919T122719Z
UID:10000831-1760436000-1760439600@bbrlt.org
SUMMARY:Trail Tuesday: Hike Penny Lake Preserve
DESCRIPTION:Join us for Trail Tuesdays with the Boothbay Region Land Trust!  Every Tuesday at 10 AM\, we’ll gather at a different BRLT trailhead for a leisurely 1-2 mile hike\, allowing time to soak in the scenery and marvel at nature along the way. Led by a naturalist\, our walks will include occasional stops to share fascinating insights into the preserve’s ecology including the diverse plant and animal life. \nNo need to worry about advanced registration—simply lace up your sturdy shoes\, pack some water\, and meet us at the parking lot kiosk. In the event of inclement weather\, cancellations will be posted on the BRLT website in advance. Come for one hike or join us for the entire series. We look forward to seeing you on Trail Tuesdays! \nThis week’s hike will take place at Penny Lake Preserve: \nPenny Lake
URL:https://bbrlt.org/event/trail-tuesday-hike-penny-lake-preserve-6/
LOCATION:Penny Lake Preserve
CATEGORIES:Discover the Preserves,Hiking,Trail Tuesdays
ATTACH;FMTTYPE=image/jpeg:https://bbrlt.org/wp-content/uploads/2022/07/Penny-Lake-skye-scaled.jpg
END:VEVENT
BEGIN:VEVENT
DTSTART;TZID=America/New_York:20251021T100000
DTEND;TZID=America/New_York:20251021T113000
DTSTAMP:20260425T143856
CREATED:20250919T123729Z
LAST-MODIFIED:20250919T123729Z
UID:10000832-1761040800-1761046200@bbrlt.org
SUMMARY:Trail Tuesday: Hike Ovens Mouth West
DESCRIPTION:Join us for Trail Tuesdays with the Boothbay Region Land Trust!  Every Tuesday at 10 AM\, we’ll gather at a different BRLT trailhead for a leisurely 1-2 mile hike\, allowing time to soak in the scenery and marvel at nature along the way. Led by a naturalist\, our walks will include occasional stops to share fascinating insights into the preserve’s ecology including the diverse plant and animal life. \nNo need to worry about advanced registration—simply lace up your sturdy shoes\, pack some water\, and meet us at the parking lot kiosk. In the event of inclement weather\, cancellations will be posted on the BRLT website 24 hours in advance. Come for one hike or join us for the entire series. We look forward to seeing you on Trail Tuesdays! \nThis week’s hike is at Ovens Mouth West (please note\, there is an east and west parking lot\, and we will be meeting at the west). Also please note that this is a longer hike at 2.5 miles. \nOvens Mouth
URL:https://bbrlt.org/event/trail-tuesday-hike-ovens-mouth-west/
LOCATION:Ovens Mouth West Preserve
CATEGORIES:Discover the Preserves,Hiking,Trail Tuesdays
ATTACH;FMTTYPE=image/jpeg:https://bbrlt.org/wp-content/uploads/2019/06/ovens-mouth-header.jpg
END:VEVENT
BEGIN:VEVENT
DTSTART;TZID=America/New_York:20251028T100000
DTEND;TZID=America/New_York:20251028T113000
DTSTAMP:20260425T143856
CREATED:20250919T124740Z
LAST-MODIFIED:20250919T124740Z
UID:10000833-1761645600-1761651000@bbrlt.org
SUMMARY:Trail Tuesday: Hike Autumn View Preserve to Appalachee Preserve
DESCRIPTION:Join us for Trail Tuesdays with the Boothbay Region Land Trust!  Every Tuesday at 10 AM\, we’ll gather at a different BRLT trailhead for a leisurely 1-2 mile hike\, allowing time to soak in the scenery and marvel at nature along the way. Led by a naturalist\, our walks will include occasional stops to share fascinating insights into the preserve’s ecology\, including the diverse plant and animal life. \nNo need to worry about advanced registration—simply lace up your sturdy shoes\, pack some water\, and meet us at the parking lot kiosk. In the event of inclement weather\, cancellations will be posted on the BRLT website 24 hours in advance. Come for one hike or join us for the entire series. We look forward to seeing you on Trail Tuesdays! \nThis week’s hike starts at Autumn View Preserve and continues onto neighboring Appalachee Preserve for a 2.5-mile walk. Autumn View is our newest preserve and is not currently listed on maps. To find the preserve\, take Route 96 from the light at Hannaford towards East Boothbay for .9 of a mile. Turn right onto Autumn View Road (formerly Giles Road). Continue down the dirt road until reaching the preserve parking lot.
URL:https://bbrlt.org/event/trail-tuesday-hike-autumn-view-preserve-to-appalachee-preserve/
LOCATION:Autumn View\, 60 Autumn View Ln\, Boothbay Harbor\, ME\, United States
CATEGORIES:Discover the Preserves,Hiking,Trail Tuesdays
ATTACH;FMTTYPE=image/jpeg:https://bbrlt.org/wp-content/uploads/2024/10/Autumn-View-Barn-Landscape-1-scaled-e1730308169553.jpg
GEO:43.861374;-69.610571
X-APPLE-STRUCTURED-LOCATION;VALUE=URI;X-ADDRESS=Autumn View 60 Autumn View Ln Boothbay Harbor ME United States;X-APPLE-RADIUS=500;X-TITLE=60 Autumn View Ln:geo:-69.610571,43.861374
END:VEVENT
END:VCALENDAR