BEGIN:VCALENDAR
VERSION:2.0
PRODID:-//Boothbay Region Land Trust - ECPv6.15.20//NONSGML v1.0//EN
CALSCALE:GREGORIAN
METHOD:PUBLISH
X-WR-CALNAME:Boothbay Region Land Trust
X-ORIGINAL-URL:https://bbrlt.org
X-WR-CALDESC:Events for Boothbay Region Land Trust
REFRESH-INTERVAL;VALUE=DURATION:PT1H
X-Robots-Tag:noindex
X-PUBLISHED-TTL:PT1H
BEGIN:VTIMEZONE
TZID:America/New_York
BEGIN:DAYLIGHT
TZOFFSETFROM:-0500
TZOFFSETTO:-0400
TZNAME:EDT
DTSTART:20200308T070000
END:DAYLIGHT
BEGIN:STANDARD
TZOFFSETFROM:-0400
TZOFFSETTO:-0500
TZNAME:EST
DTSTART:20201101T060000
END:STANDARD
BEGIN:DAYLIGHT
TZOFFSETFROM:-0500
TZOFFSETTO:-0400
TZNAME:EDT
DTSTART:20210314T070000
END:DAYLIGHT
BEGIN:STANDARD
TZOFFSETFROM:-0400
TZOFFSETTO:-0500
TZNAME:EST
DTSTART:20211107T060000
END:STANDARD
BEGIN:DAYLIGHT
TZOFFSETFROM:-0500
TZOFFSETTO:-0400
TZNAME:EDT
DTSTART:20220313T070000
END:DAYLIGHT
BEGIN:STANDARD
TZOFFSETFROM:-0400
TZOFFSETTO:-0500
TZNAME:EST
DTSTART:20221106T060000
END:STANDARD
BEGIN:DAYLIGHT
TZOFFSETFROM:-0500
TZOFFSETTO:-0400
TZNAME:EDT
DTSTART:20230312T070000
END:DAYLIGHT
BEGIN:STANDARD
TZOFFSETFROM:-0400
TZOFFSETTO:-0500
TZNAME:EST
DTSTART:20231105T060000
END:STANDARD
BEGIN:DAYLIGHT
TZOFFSETFROM:-0500
TZOFFSETTO:-0400
TZNAME:EDT
DTSTART:20240310T070000
END:DAYLIGHT
BEGIN:STANDARD
TZOFFSETFROM:-0400
TZOFFSETTO:-0500
TZNAME:EST
DTSTART:20241103T060000
END:STANDARD
BEGIN:DAYLIGHT
TZOFFSETFROM:-0500
TZOFFSETTO:-0400
TZNAME:EDT
DTSTART:20250309T070000
END:DAYLIGHT
BEGIN:STANDARD
TZOFFSETFROM:-0400
TZOFFSETTO:-0500
TZNAME:EST
DTSTART:20251102T060000
END:STANDARD
BEGIN:DAYLIGHT
TZOFFSETFROM:-0500
TZOFFSETTO:-0400
TZNAME:EDT
DTSTART:20260308T070000
END:DAYLIGHT
BEGIN:STANDARD
TZOFFSETFROM:-0400
TZOFFSETTO:-0500
TZNAME:EST
DTSTART:20261101T060000
END:STANDARD
END:VTIMEZONE
BEGIN:VEVENT
DTSTART;TZID=America/New_York:20250510T070000
DTEND;TZID=America/New_York:20250510T090000
DTSTAMP:20260423T080504
CREATED:20250413T141709Z
LAST-MODIFIED:20250505T004312Z
UID:10000711-1746860400-1746867600@bbrlt.org
SUMMARY:Event Full: World Migratory Bird Day Birding Walk
DESCRIPTION:***This event has reached capacity. To be added to our wait list\, please send your name and contact information to thall@bbrlt.org*** \nCelebrate World Migratory Bird Day with a Morning Bird WalkJoin local birders and BRLT volunteers Nancy Bither and Stan Wakefield for a fun and informative birding walk at Lobster Cove Meadow Preserve on Satuday\, May 10 at 7:00 AM. \nMay is peak migration season\, and this is a great time to catch sight of a wide variety of birds as they pass through our region on their journey north. Whether you’re a seasoned birder or just starting out\, all experience levels are welcome! \nPlease wear sturdy shoes and bring binoculars if you have them—if not\, we’ll have a few pairs available to borrow. Water and insect repellent are recommended. \n\n 
URL:https://bbrlt.org/event/world-migratory-bird-day-birding-walk-3/
LOCATION:Lobster Cove Meadow Preserve
CATEGORIES:Birding,Conservation,Natural History,Spring Events
ATTACH;FMTTYPE=image/jpeg:https://bbrlt.org/wp-content/uploads/2021/04/297049561-1280px.jpeg
END:VEVENT
BEGIN:VEVENT
DTSTART;TZID=America/New_York:20240327T103000
DTEND;TZID=America/New_York:20240327T113000
DTSTAMP:20260423T080504
CREATED:20240213T000105Z
LAST-MODIFIED:20240325T134906Z
UID:10000383-1711535400-1711539000@bbrlt.org
SUMMARY:Cancelled: Coyote: America’s Songdog
DESCRIPTION:***This event has been cancelled*** \nJoin conservation biologist Geri Vistein as she takes you on a journey to discover the important and resilient Coyote in a way you have never heard before. This presentation will center on perceptions and relationships\, including Coyote’s interactions with other wildlife\, the environment\, and humans.   Discover the importance of these carnivores and their vital role in maintaining the biodiversity of our planet.  Come hear the Song Dogs Sing! \nThis free event is part of BRLT’s three-part Spring Guest Speaker Series sponsored by Tindal & Callahan Real Estate. Please register by filling out the form below: \n \n  \n  \n 
URL:https://bbrlt.org/event/coyote-americas-songdog/
LOCATION:Boothbay Region Land Trust’s Oak Point Farm\, 60 Samoset Rd\, Boothbay Harbor\, ME\, 04538
CATEGORIES:Conservation,Guest Speaker Series,Lecture,Winter Events
ATTACH;FMTTYPE=image/jpeg:https://bbrlt.org/wp-content/uploads/2024/02/coyotes.jpg
END:VEVENT
BEGIN:VEVENT
DTSTART;TZID=America/New_York:20230513T070000
DTEND;TZID=America/New_York:20230513T090000
DTSTAMP:20260423T080504
CREATED:20230405T145034Z
LAST-MODIFIED:20230512T104826Z
UID:10000192-1683961200-1683968400@bbrlt.org
SUMMARY:Event Full: World Migratory Bird Day Birding Walk
DESCRIPTION:***This event has reached capacity. Send an email with your name and contact info to thall@bbrlt.org to be placed on the waiting list***\nJoin local birder and BRLT volunteer Nancy Bither on an entertaining and informative birding walk in celebration of World Migratory Bird Day at Lobster Cove Meadow Preserve. May is the peak time of bird migration and many exciting species will be passing through our area on their way north. Birders of all levels are welcome. Wear sturdy shoes and bring binoculars or borrow a pair of ours. \n 
URL:https://bbrlt.org/event/world-migratory-bird-day-birding-walk-2/
LOCATION:Lobster Cove Meadow Preserve
CATEGORIES:Birding,Conservation,Natural History,Spring Events
ATTACH;FMTTYPE=image/jpeg:https://bbrlt.org/wp-content/uploads/2021/04/297049561-1280px.jpeg
END:VEVENT
BEGIN:VEVENT
DTSTART;TZID=America/New_York:20221013T180000
DTEND;TZID=America/New_York:20221013T191500
DTSTAMP:20260423T080504
CREATED:20220926T151149Z
LAST-MODIFIED:20220926T151519Z
UID:10000067-1665684000-1665688500@bbrlt.org
SUMMARY:Community Partner Event: Native Plants for Watershed Protection
DESCRIPTION:Boothbay Region Clean Drinking Water Initiative and Coastal Maine Botanical Gardens present a special event for Boothbay Region Residents. \nLearn how to take action on climate change\, preserve our bodies of water\, support healthy ecosystems\, and protect locally-sourced drinking water at this free event. Keynote speaker Irene Barber\, landscape designer\, horticulturist\, and Adult Education Program Manager at Coastal Maine Botanical Gardens\, will discuss incorporating native plants that increase beauty\, biodiversity\, and contribute to clean water. Come discover some of the dynamic\, striking natives perfect for shorelines\, rain gardens\, and wetland edges. \nRepresentatives from the Boothbay Region Clean Drinking Water Initiative will conduct a Q&A and discuss the community-wide efforts being taken to preserve the region’s clean drinking water\, from Adams Pond and Knickerbocker Lake. \nRegistration is required for this free event. Click here to register.
URL:https://bbrlt.org/event/community-partner-event-native-plants-for-watershed-protection/
LOCATION:Coastal Maine Botanical Gardens: Bosarge Family Education Center
CATEGORIES:Climate Change,Conservation
ATTACH;FMTTYPE=image/jpeg:https://bbrlt.org/wp-content/uploads/2022/09/Native-Plants-for-Watershed-Protection.jpeg
END:VEVENT
BEGIN:VEVENT
DTSTART;TZID=America/New_York:20220514T073000
DTEND;TZID=America/New_York:20220514T093000
DTSTAMP:20260423T080504
CREATED:20220331T184156Z
LAST-MODIFIED:20220509T104706Z
UID:10000150-1652513400-1652520600@bbrlt.org
SUMMARY:EVENT FULL: World Migratory Bird Day Birding Walk
DESCRIPTION:EVENT FULL: Contact thall@bbrlt.org to be placed on the waiting list. \nJoin local birder and BRLT volunteer Nancy Bither on an entertaining and informative birding walk in celebration of World Migratory Bird Day at Lobster Cove Meadow Preserve. May is the peak time of bird migration and many exciting species will be passing through our area on their way north. Birders of all levels are welcome. Wear sturdy shoes and bring binoculars or borrow a pair of ours. \nGroup size is limited for this free event with advance registration required via the form below or by contacting BRLT Education Manager Tracey Hall at thall@bbrlt.org.
URL:https://bbrlt.org/event/world-migratory-bird-day-birding-walk/
LOCATION:Lobster Cove Meadow Preserve
CATEGORIES:Birding,Conservation,Natural History,Spring Events
ATTACH;FMTTYPE=image/jpeg:https://bbrlt.org/wp-content/uploads/2021/04/297049561-1280px.jpeg
END:VEVENT
BEGIN:VEVENT
DTSTART;TZID=America/New_York:20220423T140000
DTEND;TZID=America/New_York:20220423T160000
DTSTAMP:20260423T080504
CREATED:20220401T004007Z
LAST-MODIFIED:20220423T144636Z
UID:10000151-1650722400-1650729600@bbrlt.org
SUMMARY:EVENT FULL: The Messenger: Documentary Film With Guest Speaker Dr. Jeffrey Wells
DESCRIPTION:***This Event has reached capacity and we are no longer accepting reservations.*** In recognition of Earth Day\, join Boothbay Region Land Trust for a free showing of the bird-themed documentary film “The Messenger” with an introduction from Maine ornithologist Dr. Jeffrey Wells on Saturday\, April 23rd at 2 PM at the Harbor Theater. The Messenger is an artful investigation into the causes of songbird mass depletion and the people working to turn the tide. This visually thrilling film reveals how the issues facing birds also pose daunting implications for our planet. Dr. Wells has connections to this film and will be sharing information on the birds of Maine and beyond\, the plights they face\, and what can be done about it. \nDr. Jeff Wells is the Vice-president of Boreal Conservation for the National Audubon Society. He has authored or co-authored books\, articles\, academic publications\, and blogs\, and is the co-author\, with his wife Allison\, of a popular bird and natural history column for the Boothbay Register. During his time at the Boreal Songbird Initiative\, the Cornell Lab of Ornithology\, and the National Audubon Society\, Dr. Wells has earned a reputation as one of the nation’s leading bird experts and conservation biologists. He is now dedicated to understanding and protecting the land where North America’s birds are born and raised\, the Boreal Forest region of Canada and Alaska. \nThis free event is limited to 80 participants with advance registration required. \n  \n 
URL:https://bbrlt.org/event/the-messenger-documentary-film-with-guest-speaker-dr-jeff-wells/
LOCATION:Harbor Theater\, 185 Townsend Avenue\, Boothbay Harbor\, 04538\, United States
CATEGORIES:Climate Change,Conservation,Film
ATTACH;FMTTYPE=image/jpeg:https://bbrlt.org/wp-content/uploads/2022/03/the-messenger-film.jpg
END:VEVENT
BEGIN:VEVENT
DTSTART;TZID=America/New_York:20220324T163000
DTEND;TZID=America/New_York:20220324T173000
DTSTAMP:20260423T080504
CREATED:20220127T185129Z
LAST-MODIFIED:20220127T185129Z
UID:10000048-1648139400-1648143000@bbrlt.org
SUMMARY:Backyard Birding
DESCRIPTION:In partnership with Knox Lincoln Soil and Water Conservation District (KLSWCD)\, Boothbay Region Land Trust is delighted to host writer and birder Lee Emmons for a hybrid webinar and in-person talk at Oak Point Farm. Lee will share his years of knowledge identifying backyard birds\, tips for identification\, suggestions for choice feeders\, importance of conservation of habitat\, planting to ensure cover and food\, and much more. Come join the estimated 45 million other US citizens enjoying the benefits of backyard birding!\nRegistration is required with in person seating limited. To register to attend in person or to receive the zoom link for the webinar\, contact KLSWCD at www.knox-lincoln.org; julie@knox-lincoln.org or (207) 596-2040
URL:https://bbrlt.org/event/backyard-birding/
LOCATION:Boothbay Region Land Trust’s Oak Point Farm\, 60 Samoset Rd\, Boothbay Harbor\, ME\, 04538
CATEGORIES:Classes,Conservation,Lecture,Natural History
ATTACH;FMTTYPE=image/jpeg:https://bbrlt.org/wp-content/uploads/2021/05/IMG_1348-e1621877361868.jpeg
END:VEVENT
BEGIN:VEVENT
DTSTART;TZID=America/New_York:20210331T100000
DTEND;TZID=America/New_York:20210331T113000
DTSTAMP:20260423T080504
CREATED:20210302T162801Z
LAST-MODIFIED:20210302T162801Z
UID:10000113-1617184800-1617190200@bbrlt.org
SUMMARY:Landscape Conservation Certification Program
DESCRIPTION:Interested in practicing conservation in your own backyard? Join us for an online zoom presentation to learn about the newly developed Certification Program for Conservation Landscapes offered locally by the Knox-Lincoln Soil Water Conservation District. This program will help you implement recommended conservation practices in a systematic way\, with guidance and ideas from KLSWCD staff and one-on-one help on your property. It is also a chance to measure your progress and share ideas and practices with your neighbors\, friends and family. Residents who complete the Conservation Landscape Certification receive a certificate and document that can support other conservation work they are doing\, such as working with the NRCS or state agencies. You can post sign indicating your property is certified\, which is a great way to start conversations with others about your efforts. But it’s likely your own immediate reward will be the chance to watch birds and wildlife inhabiting your land\, feeding\, and raising young\, and seeing beautiful changes in the landscape. To register and receive the link for this online zoom presentation\, please click on the website link below or paste the following in your browser:\nhttps://us02web.zoom.us/meeting/register/tZcqdeCvrj0iH9fwE-Hw19XYeLHHD_OUCKjc
URL:https://bbrlt.org/event/landscape-conservation-certification-program/
LOCATION:Online
CATEGORIES:Classes,Conservation,Lecture,Spring Events
ATTACH;FMTTYPE=image/jpeg:https://bbrlt.org/wp-content/uploads/2020/09/Black-and-Yellow-Garden-Spider-rotated.jpg
ORGANIZER;CN="Boothbay Region Land Trust":MAILTO:thall@bbrlt.org
END:VEVENT
END:VCALENDAR