BEGIN:VCALENDAR
VERSION:2.0
PRODID:-//Boothbay Region Land Trust - ECPv6.15.20//NONSGML v1.0//EN
CALSCALE:GREGORIAN
METHOD:PUBLISH
X-WR-CALNAME:Boothbay Region Land Trust
X-ORIGINAL-URL:https://bbrlt.org
X-WR-CALDESC:Events for Boothbay Region Land Trust
REFRESH-INTERVAL;VALUE=DURATION:PT1H
X-Robots-Tag:noindex
X-PUBLISHED-TTL:PT1H
BEGIN:VTIMEZONE
TZID:America/New_York
BEGIN:DAYLIGHT
TZOFFSETFROM:-0500
TZOFFSETTO:-0400
TZNAME:EDT
DTSTART:20230312T070000
END:DAYLIGHT
BEGIN:STANDARD
TZOFFSETFROM:-0400
TZOFFSETTO:-0500
TZNAME:EST
DTSTART:20231105T060000
END:STANDARD
BEGIN:DAYLIGHT
TZOFFSETFROM:-0500
TZOFFSETTO:-0400
TZNAME:EDT
DTSTART:20240310T070000
END:DAYLIGHT
BEGIN:STANDARD
TZOFFSETFROM:-0400
TZOFFSETTO:-0500
TZNAME:EST
DTSTART:20241103T060000
END:STANDARD
BEGIN:DAYLIGHT
TZOFFSETFROM:-0500
TZOFFSETTO:-0400
TZNAME:EDT
DTSTART:20250309T070000
END:DAYLIGHT
BEGIN:STANDARD
TZOFFSETFROM:-0400
TZOFFSETTO:-0500
TZNAME:EST
DTSTART:20251102T060000
END:STANDARD
BEGIN:DAYLIGHT
TZOFFSETFROM:-0500
TZOFFSETTO:-0400
TZNAME:EDT
DTSTART:20260308T070000
END:DAYLIGHT
BEGIN:STANDARD
TZOFFSETFROM:-0400
TZOFFSETTO:-0500
TZNAME:EST
DTSTART:20261101T060000
END:STANDARD
END:VTIMEZONE
BEGIN:VEVENT
DTSTART;TZID=America/New_York:20250327T120000
DTEND;TZID=America/New_York:20250327T130000
DTSTAMP:20260423T083915
CREATED:20250228T194036Z
LAST-MODIFIED:20250228T194036Z
UID:10000677-1743076800-1743080400@bbrlt.org
SUMMARY:Midday Books at Oak Point Farm
DESCRIPTION:The March meeting will discuss: \nEntangled Life \nby Merlin Sheldrake \n——— \nOffered in collaboration with Boothbay Harbor Memorial Library\, this book group focuses on the fascinating world of nonfiction science. Meetings take place on the 4th Thursday of the month at noon at Oak Point Farm to discuss the selected book of the month. New members are welcome! \nFor more information including the monthly book selection\, contact Bethany Schmidt of Boothbay Harbor Memorial Library at 207-633-3112 or at tech@bbhlibrary.org.
URL:https://bbrlt.org/event/midday-books-at-oak-point-farm-march2025/
LOCATION:Boothbay Region Land Trust’s Oak Point Farm\, 60 Samoset Rd\, Boothbay Harbor\, ME\, 04538
CATEGORIES:Book Club
ATTACH;FMTTYPE=image/jpeg:https://bbrlt.org/wp-content/uploads/2025/02/Entangled-Life-e1740771554964.jpg
END:VEVENT
BEGIN:VEVENT
DTSTART;VALUE=DATE:20250227
DTEND;VALUE=DATE:20250228
DTSTAMP:20260423T083915
CREATED:20241024T164635Z
LAST-MODIFIED:20250124T163637Z
UID:10000600-1740614400-1740700799@bbrlt.org
SUMMARY:Midday Books at Oak Point Farm
DESCRIPTION:The February meeting will discuss: \nFen\, Bog\, and Swamp \nby Annie Proulx \n——— \nOffered in collaboration with Boothbay Harbor Memorial Library\, this book group focuses on the fascinating world of nonfiction science. Meetings take place on the 4th Thursday of the month at noon at Oak Point Farm to discuss the selected book of the month. New members are welcome! \nFor more information including the monthly book selection\, contact Bethany Schmidt of Boothbay Harbor Memorial Library at 207-633-3112 or at tech@bbhlibrary.org.
URL:https://bbrlt.org/event/midday-books-at-oak-point-farm-3-2-2-2-2/
LOCATION:Boothbay Region Land Trust’s Oak Point Farm\, 60 Samoset Rd\, Boothbay Harbor\, ME\, 04538
CATEGORIES:Book Club
ATTACH;FMTTYPE=image/jpeg:https://bbrlt.org/wp-content/uploads/2024/10/fen-bog-swamp.jpg
END:VEVENT
BEGIN:VEVENT
DTSTART;TZID=America/New_York:20240926T120000
DTEND;TZID=America/New_York:20240926T130000
DTSTAMP:20260423T083915
CREATED:20241002T153904Z
LAST-MODIFIED:20241002T154125Z
UID:10000599-1727352000-1727355600@bbrlt.org
SUMMARY:Midday Books at Oak Point Farm
DESCRIPTION:The October Meeting will discuss: \nStiff \nby Mary Roach \n——— \nOffered in collaboration with Boothbay Harbor Memorial Library\, this book group focuses on the fascinating world of nonfiction science. Meetings take place on the 4th Thursday of the month at noon at Oak Point Farm to discuss the selected book of the month. New members are welcome! \nFor more information including the monthly book selection\, contact Bethany Schmidt of Boothbay Harbor Memorial Library at 207-633-3112 or at tech@bbhlibrary.org.
URL:https://bbrlt.org/event/midday-books-at-oak-point-farm-3-2-2-2/2024-09-26/
LOCATION:Boothbay Region Land Trust’s Oak Point Farm\, 60 Samoset Rd\, Boothbay Harbor\, ME\, 04538
CATEGORIES:Book Club
ATTACH;FMTTYPE=image/jpeg:https://bbrlt.org/wp-content/uploads/2024/05/Stiff.jpg
END:VEVENT
BEGIN:VEVENT
DTSTART;TZID=America/New_York:20240926T120000
DTEND;TZID=America/New_York:20240926T130000
DTSTAMP:20260423T083915
CREATED:20240909T151324Z
LAST-MODIFIED:20240909T151420Z
UID:10000588-1727352000-1727355600@bbrlt.org
SUMMARY:Midday Books at Oak Point Farm
DESCRIPTION:The September Meeting will discuss: \nHow Far the Light Reaches \nby   Sabrina Imbler \n——— \nOffered in collaboration with Boothbay Harbor Memorial Library\, this book group focuses on the fascinating world of nonfiction science. Meetings take place on the 4th Thursday of the month at noon at Oak Point Farm to discuss the selected book of the month. New members are welcome! \nFor more information including the monthly book selection\, contact Bethany Schmidt of Boothbay Harbor Memorial Library at 207-633-3112 or at tech@bbhlibrary.org.
URL:https://bbrlt.org/event/midday-books-at-oak-point-farm/
LOCATION:Boothbay Region Land Trust’s Oak Point Farm\, 60 Samoset Rd\, Boothbay Harbor\, ME\, 04538
CATEGORIES:Book Club
ATTACH;FMTTYPE=image/jpeg:https://bbrlt.org/wp-content/uploads/2024/09/a-life.jpg
END:VEVENT
BEGIN:VEVENT
DTSTART;TZID=America/New_York:20240822T120000
DTEND;TZID=America/New_York:20240822T130000
DTSTAMP:20260423T083915
CREATED:20241002T153904Z
LAST-MODIFIED:20241002T154125Z
UID:10000417-1724328000-1724331600@bbrlt.org
SUMMARY:Midday Books at Oak Point Farm
DESCRIPTION:The October Meeting will discuss: \nStiff \nby Mary Roach \n——— \nOffered in collaboration with Boothbay Harbor Memorial Library\, this book group focuses on the fascinating world of nonfiction science. Meetings take place on the 4th Thursday of the month at noon at Oak Point Farm to discuss the selected book of the month. New members are welcome! \nFor more information including the monthly book selection\, contact Bethany Schmidt of Boothbay Harbor Memorial Library at 207-633-3112 or at tech@bbhlibrary.org.
URL:https://bbrlt.org/event/midday-books-at-oak-point-farm-3-2-2-2/2024-08-22/
LOCATION:Boothbay Region Land Trust’s Oak Point Farm\, 60 Samoset Rd\, Boothbay Harbor\, ME\, 04538
CATEGORIES:Book Club
ATTACH;FMTTYPE=image/jpeg:https://bbrlt.org/wp-content/uploads/2024/05/Stiff.jpg
END:VEVENT
BEGIN:VEVENT
DTSTART;TZID=America/New_York:20240725T120000
DTEND;TZID=America/New_York:20240725T130000
DTSTAMP:20260423T083915
CREATED:20240529T134103Z
LAST-MODIFIED:20240807T205523Z
UID:10000416-1721908800-1721912400@bbrlt.org
SUMMARY:Midday Books at Oak Point Farm
DESCRIPTION:The August Meeting will discuss: \nWhy Fish Don’t Exist \nby  Lulu Miller \n——— \nOffered in collaboration with Boothbay Harbor Memorial Library\, this book group focuses on the fascinating world of nonfiction science. Meetings take place on the 4th Thursday of the month at noon at Oak Point Farm to discuss the selected book of the month. New members are welcome! \nFor more information including the monthly book selection\, contact Bethany Schmidt of Boothbay Harbor Memorial Library at 207-633-3112 or at tech@bbhlibrary.org.
URL:https://bbrlt.org/event/midday-books-at-oak-point-farm-3-2-2/2024-07-25/
LOCATION:Boothbay Region Land Trust’s Oak Point Farm\, 60 Samoset Rd\, Boothbay Harbor\, ME\, 04538
CATEGORIES:Book Club
ATTACH;FMTTYPE=image/jpeg:https://bbrlt.org/wp-content/uploads/2024/05/Why-fish-dont-Exist.jpg
END:VEVENT
BEGIN:VEVENT
DTSTART;TZID=America/New_York:20240627T120000
DTEND;TZID=America/New_York:20240627T130000
DTSTAMP:20260423T083915
CREATED:20240529T134103Z
LAST-MODIFIED:20240807T205523Z
UID:10000415-1719489600-1719493200@bbrlt.org
SUMMARY:Midday Books at Oak Point Farm
DESCRIPTION:The August Meeting will discuss: \nWhy Fish Don’t Exist \nby  Lulu Miller \n——— \nOffered in collaboration with Boothbay Harbor Memorial Library\, this book group focuses on the fascinating world of nonfiction science. Meetings take place on the 4th Thursday of the month at noon at Oak Point Farm to discuss the selected book of the month. New members are welcome! \nFor more information including the monthly book selection\, contact Bethany Schmidt of Boothbay Harbor Memorial Library at 207-633-3112 or at tech@bbhlibrary.org.
URL:https://bbrlt.org/event/midday-books-at-oak-point-farm-3-2-2/2024-06-27/
LOCATION:Boothbay Region Land Trust’s Oak Point Farm\, 60 Samoset Rd\, Boothbay Harbor\, ME\, 04538
CATEGORIES:Book Club
ATTACH;FMTTYPE=image/jpeg:https://bbrlt.org/wp-content/uploads/2024/05/Why-fish-dont-Exist.jpg
END:VEVENT
BEGIN:VEVENT
DTSTART;TZID=America/New_York:20240523T120000
DTEND;TZID=America/New_York:20240523T130000
DTSTAMP:20260423T083915
CREATED:20240423T135225Z
LAST-MODIFIED:20240501T190845Z
UID:10000414-1716465600-1716469200@bbrlt.org
SUMMARY:Midday Books at Oak Point Farm
DESCRIPTION:The May Meeting will discuss Fuzz : When Nature Breaks the Law by Mary Roach. \n—— \nOffered in collaboration with Boothbay Harbor Memorial Library\, this book group focuses on the fascinating world of nonfiction science. Meetings take place on the 4th Thursday of the month at noon at Oak Point Farm to discuss the selected book of the month. New members are welcome! \nFor more information including the monthly book selection\, contact Bethany Schmidt of Boothbay Harbor Memorial Library at 207-633-3112 or at tech@bbhlibrary.org.
URL:https://bbrlt.org/event/midday-books-at-oak-point-farm-3-2/2024-05-23/
LOCATION:Boothbay Region Land Trust’s Oak Point Farm\, 60 Samoset Rd\, Boothbay Harbor\, ME\, 04538
CATEGORIES:Book Club
END:VEVENT
BEGIN:VEVENT
DTSTART;TZID=America/New_York:20240425T120000
DTEND;TZID=America/New_York:20240425T130000
DTSTAMP:20260423T083915
CREATED:20240423T135225Z
LAST-MODIFIED:20240501T190845Z
UID:10000407-1714046400-1714050000@bbrlt.org
SUMMARY:Midday Books at Oak Point Farm
DESCRIPTION:The May Meeting will discuss Fuzz : When Nature Breaks the Law by Mary Roach. \n—— \nOffered in collaboration with Boothbay Harbor Memorial Library\, this book group focuses on the fascinating world of nonfiction science. Meetings take place on the 4th Thursday of the month at noon at Oak Point Farm to discuss the selected book of the month. New members are welcome! \nFor more information including the monthly book selection\, contact Bethany Schmidt of Boothbay Harbor Memorial Library at 207-633-3112 or at tech@bbhlibrary.org.
URL:https://bbrlt.org/event/midday-books-at-oak-point-farm-3-2/2024-04-25/
LOCATION:Boothbay Region Land Trust’s Oak Point Farm\, 60 Samoset Rd\, Boothbay Harbor\, ME\, 04538
CATEGORIES:Book Club
END:VEVENT
END:VCALENDAR