BEGIN:VCALENDAR
VERSION:2.0
PRODID:-//Boothbay Region Land Trust - ECPv6.15.20//NONSGML v1.0//EN
CALSCALE:GREGORIAN
METHOD:PUBLISH
X-ORIGINAL-URL:https://bbrlt.org
X-WR-CALDESC:Events for Boothbay Region Land Trust
REFRESH-INTERVAL;VALUE=DURATION:PT1H
X-Robots-Tag:noindex
X-PUBLISHED-TTL:PT1H
BEGIN:VTIMEZONE
TZID:America/New_York
BEGIN:DAYLIGHT
TZOFFSETFROM:-0500
TZOFFSETTO:-0400
TZNAME:EDT
DTSTART:20240310T070000
END:DAYLIGHT
BEGIN:STANDARD
TZOFFSETFROM:-0400
TZOFFSETTO:-0500
TZNAME:EST
DTSTART:20241103T060000
END:STANDARD
BEGIN:DAYLIGHT
TZOFFSETFROM:-0500
TZOFFSETTO:-0400
TZNAME:EDT
DTSTART:20250309T070000
END:DAYLIGHT
BEGIN:STANDARD
TZOFFSETFROM:-0400
TZOFFSETTO:-0500
TZNAME:EST
DTSTART:20251102T060000
END:STANDARD
BEGIN:DAYLIGHT
TZOFFSETFROM:-0500
TZOFFSETTO:-0400
TZNAME:EDT
DTSTART:20260308T070000
END:DAYLIGHT
BEGIN:STANDARD
TZOFFSETFROM:-0400
TZOFFSETTO:-0500
TZNAME:EST
DTSTART:20261101T060000
END:STANDARD
BEGIN:DAYLIGHT
TZOFFSETFROM:-0500
TZOFFSETTO:-0400
TZNAME:EDT
DTSTART:20270314T070000
END:DAYLIGHT
BEGIN:STANDARD
TZOFFSETFROM:-0400
TZOFFSETTO:-0500
TZNAME:EST
DTSTART:20271107T060000
END:STANDARD
END:VTIMEZONE
BEGIN:VEVENT
DTSTART;VALUE=DATE:20251122
DTEND;VALUE=DATE:20260102
DTSTAMP:20260423T202910
CREATED:20251121T175042Z
LAST-MODIFIED:20251121T175042Z
UID:10000841-1763769600-1767311999@bbrlt.org
SUMMARY:Story Trail: Stranger in the Woods
DESCRIPTION:Read a family-friendly book while walking through the woods. Follow the illustrated signs along the trail as they tell a tale that connects you to your natural surroundings. The free 1-mile story trail starts from the Oak Point Farm parking lot kiosk and can be completed at your own pace and on your own time. The current story trail features the read-aloud book “Stranger in the Woods\,” written by Carl R. Sams and Jean Stoick. \nStranger in the Woods is a photographic fantasy book that tells how the furry and feathered friends of the forest respond to a mysterious visitor. On the national and New York Times best-seller lists during the winter for 5 consecutive years\, Stranger in the Woods has warmed the hearts of children ages 1 to 100.
URL:https://bbrlt.org/event/story-trail-stranger-in-the-woods/
LOCATION:Boothbay Region Land Trust’s Oak Point Farm\, 60 Samoset Rd\, Boothbay Harbor\, ME\, 04538
CATEGORIES:Family Friendly,Story Trail
ATTACH;FMTTYPE=image/jpeg:https://bbrlt.org/wp-content/uploads/2025/11/81J9oHGiwfL._SL1500_.jpg
END:VEVENT
BEGIN:VEVENT
DTSTART;TZID=America/New_York:20251209T100000
DTEND;TZID=America/New_York:20251209T110000
DTSTAMP:20260423T202910
CREATED:20251121T181102Z
LAST-MODIFIED:20251121T181102Z
UID:10000843-1765274400-1765278000@bbrlt.org
SUMMARY:Trail Tuesday: Oak Point Farm
DESCRIPTION:Join us for Trail Tuesdays with the Boothbay Region Land Trust!  Every Tuesday at 10 AM\, we’ll gather at a different BRLT trailhead for a leisurely 1-2 mile hike\, allowing time to soak in the scenery and marvel at nature along the way. Led by a naturalist\, our walks will include occasional stops to share fascinating insights into the preserve’s ecology\, including the diverse plant and animal life. \nNo need to worry about advanced registration—simply lace up your sturdy shoes\, pack some water\, and meet us at the parking lot kiosk. In the event of inclement weather\, cancellations will be posted on the BRLT website 24 hours in advance. Come for one hike or join us for the entire series. We look forward to seeing you on Trail Tuesdays! \nThis week’s hike is at Oak Point Farm: \nOak Point Farm
URL:https://bbrlt.org/event/trail-tuesday-oak-point-farm/
LOCATION:Boothbay Region Land Trust’s Oak Point Farm\, 60 Samoset Rd\, Boothbay Harbor\, ME\, 04538
CATEGORIES:Discover the Preserves,Hiking,Trail Tuesdays
ATTACH;FMTTYPE=image/jpeg:https://bbrlt.org/wp-content/uploads/2024/08/2.-Cruising-for-Conservation-Oak-Point.jpg
END:VEVENT
END:VCALENDAR