BEGIN:VCALENDAR
VERSION:2.0
PRODID:-//Boothbay Region Land Trust - ECPv6.15.20//NONSGML v1.0//EN
CALSCALE:GREGORIAN
METHOD:PUBLISH
X-WR-CALNAME:Boothbay Region Land Trust
X-ORIGINAL-URL:https://bbrlt.org
X-WR-CALDESC:Events for Boothbay Region Land Trust
REFRESH-INTERVAL;VALUE=DURATION:PT1H
X-Robots-Tag:noindex
X-PUBLISHED-TTL:PT1H
BEGIN:VTIMEZONE
TZID:America/New_York
BEGIN:DAYLIGHT
TZOFFSETFROM:-0500
TZOFFSETTO:-0400
TZNAME:EDT
DTSTART:20240310T070000
END:DAYLIGHT
BEGIN:STANDARD
TZOFFSETFROM:-0400
TZOFFSETTO:-0500
TZNAME:EST
DTSTART:20241103T060000
END:STANDARD
BEGIN:DAYLIGHT
TZOFFSETFROM:-0500
TZOFFSETTO:-0400
TZNAME:EDT
DTSTART:20250309T070000
END:DAYLIGHT
BEGIN:STANDARD
TZOFFSETFROM:-0400
TZOFFSETTO:-0500
TZNAME:EST
DTSTART:20251102T060000
END:STANDARD
BEGIN:DAYLIGHT
TZOFFSETFROM:-0500
TZOFFSETTO:-0400
TZNAME:EDT
DTSTART:20260308T070000
END:DAYLIGHT
BEGIN:STANDARD
TZOFFSETFROM:-0400
TZOFFSETTO:-0500
TZNAME:EST
DTSTART:20261101T060000
END:STANDARD
END:VTIMEZONE
BEGIN:VEVENT
DTSTART;VALUE=DATE:20251019
DTEND;VALUE=DATE:20251121
DTSTAMP:20260424T020554
CREATED:20251019T111245Z
LAST-MODIFIED:20251019T111245Z
UID:10000837-1760832000-1763683199@bbrlt.org
SUMMARY:Story Trail: What the Crow Saw Below
DESCRIPTION:Read a family-friendly book while walking through the woods. Follow the illustrated signs along the trail as they tell a tale that connects you to your natural surroundings. The free 1-mile story trail starts from the Oak Point Farm parking lot kiosk and can be completed at your own pace and on your own time. The current story trail features the read-aloud book What the Crow Saw Below\, written by Robert Tregoning  and illustrated by Gregg Stobbs. \nCAW\, CAUTION! \nEvery day\, the elder crows warn of dangers far below their branches. At first\, the littlest crow joins their warbling\, warning wails. But soon she begins to wonder: What’s really going on below the treetops? Is everything dangerous? What might happen if she looks up? \nWith rollicking rhyme and vibrant illustrations\, What the Crow Saw Below invites readers to look beyond the boundaries of one’s own world\, balancing a bit of caution with a sense of adventure and discovery.
URL:https://bbrlt.org/event/story-trail-what-the-crow-saw-below/
LOCATION:Boothbay Region Land Trust’s Oak Point Farm\, 60 Samoset Rd\, Boothbay Harbor\, ME\, 04538
CATEGORIES:Family Friendly,Story Trail
ATTACH;FMTTYPE=image/jpeg:https://bbrlt.org/wp-content/uploads/2025/10/what-the-crow-saw-below.jpg
END:VEVENT
BEGIN:VEVENT
DTSTART;TZID=America/New_York:20251023T120000
DTEND;TZID=America/New_York:20251023T130000
DTSTAMP:20260424T020554
CREATED:20250919T125421Z
LAST-MODIFIED:20250919T125421Z
UID:10000834-1761220800-1761224400@bbrlt.org
SUMMARY:Midday Books at Oak Point Farm
DESCRIPTION:The October meeting will discuss: \nA Sand County Almanac \nby Aldo Leopold \n——— \nOffered in collaboration with Boothbay Harbor Memorial Library\, this book group focuses on the fascinating world of nonfiction science. Meetings take place on the 4th Thursday of the month at noon at Oak Point Farm to discuss the selected book of the month. New members are welcome! \nFor more information\, including the monthly book selection\, contact Bethany Schmidt of Boothbay Harbor Memorial Library at 207-633-3112 or at tech@bbhlibrary.org.
URL:https://bbrlt.org/event/midday-books-at-oak-point-farm-3/
LOCATION:Boothbay Region Land Trust’s Oak Point Farm\, 60 Samoset Rd\, Boothbay Harbor\, ME\, 04538
CATEGORIES:Book Club
ATTACH;FMTTYPE=image/jpeg:https://bbrlt.org/wp-content/uploads/2025/09/sand-county.jpg
END:VEVENT
END:VCALENDAR